Workbook

Sheet ORÇAMENTO
D3: UNIVERSIDADE ESTADUAL DO NORTE DO PARANÁ
D4: CNPJ: 08.885.100/0001-54 | L4: BDI | M4: =BDI!F28 -> 0.19946044
D5: OBRA : ADEQUAÇÕES NO CAMPUS DE CORNÉLIO PROCÓPIO
D6: Local: Campus Cornélio Procópio - CCP | L6: Total S/BDI | M6: =L13+L96+L17+L170+L179+L197+L210+L218 -> 0
D7: Data do orçamento: SETEMBRO/2026 | L7: Total c/BDI | M7: =O7 -> 0 | O7: =SUM(O11:O226) -> 0
D9: INSERIR DADOS DA EMPRESA
A11: ITEM | B11: RESUMO | C11: CÓDIGO | D11: DESCRIÇÃO DOS SERVIÇOS | E11: UN | F11: QTD | G11: UNITÁRIO (SEM BDI) | J11: TOTAL (Valores sem BDI) | M11: VALOR TOTAL C/ BDI
G12: MATERIAL + EQ | H12: MÃO DE OBRA | I12: TOTAL | J12: MATERIAL | K12: MÃO DE OBRA | L12: TOTAL
A13: 1 | B13: SERVIÇOS PRELIMINARES | J13: =SUM(J14:J16) -> 0 | K13: =SUM(K14:K16) -> 0 | L13: =SUM(L14:L16) -> 0 | M13: =SUM(M14:M16) -> 0 | O13: =M13 -> 0
A14: 1.1 | B14: INSTALAÇÃO DE CONTAINER | C14: 97645 | D14: INSTALAÇÃO E DESINSTALAÇÃO MECANIZADA DE CONTÊINER OU MÓDULO HABITÁVEL DE USOS DIVERSOS. AF_03/2024 | E14: UN | F14: 1 | I14: =H14+G14 -> 0 | J14: =G14*F14 -> 0 | K14: =H14*F14 -> 0 | L14: =J14+K14 -> 0 | M14: =ROUND(L14*(1+$M$4),2) -> 0
A15: 1.2 | B15: CONTAINER | C15: 10776 | D15: LOCACAO DE CONTAINER 2,30 X 6,00 M, ALT. 2,50 M, PARA ESCRITORIO, SEM DIVISORIAS INTERNAS E SEM SANITARIO (NAO INCLUI MOBILIZACAO/DESMOBILIZACAO) | E15: MES | F15: 5 | I15: =H15+G15 -> 0 | J15: =G15*F15 -> 0 | K15: =H15*F15 -> 0 | L15: =J15+K15 -> 0 | M15: =ROUND(L15*(1+$M$4),2) -> 0
A16: 1.3 | B16: ACOMPANHAMENTO TÉCNICO | C16: 90777 | D16: ENGENHEIRO CIVIL DE OBRA JUNIOR COM ENCARGOS COMPLEMENTARES | E16: H | F16: 40 | I16: =H16+G16 -> 0 | J16: =G16*F16 -> 0 | K16: =H16*F16 -> 0 | L16: =J16+K16 -> 0 | M16: =ROUND(L16*(1+$M$4),2) -> 0
A17: 2 | B17: REFORMA DA SALA DE CONVIVÊNCIA DOS ALUNOS | J17: =SUM(J19:J94) -> 0 | K17: =SUM(K19:K94) -> 0 | L17: =SUM(L19:L94) -> 0 | M17: =SUM(M19:M94) -> 0 | O17: =M17 -> 0
A18: 2.1 | B18: REMOÇÕES E DEMOLIÇÕES | P18: =M18
A19: 2.1.1 | B19: REMOÇÃO DE JANELAS | C19: 97645 | D19: REMOÇÃO DE JANELAS, DE FORMA MANUAL, SEM REAPROVEITAMENTO. AF_09/2023 | E19: M2 | F19: =2.53*0.9*2+2*1*2+2.77*1.8*4+1.5*0.44*2 -> 29.818 | I19: =H19+G19 -> 0 | J19: =G19*F19 -> 0 | K19: =H19*F19 -> 0 | L19: =J19+K19 -> 0 | M19: =ROUND(L19*(1+$M$4),2) -> 0
A20: 2.1.2 | B20: REMOÇÃO DE PORTAS | C20: 97644 | D20: REMOÇÃO DE PORTAS, DE FORMA MANUAL, SEM REAPROVEITAMENTO. AF_09/2023 | E20: M2 | F20: =2.5*2.1+0.8*2.1 -> 6.93 | I20: =H20+G20 -> 0 | J20: =G20*F20 -> 0 | K20: =H20*F20 -> 0 | L20: =J20+K20 -> 0 | M20: =ROUND(L20*(1+$M$4),2) -> 0
A21: 2.1.3 | B21: REMOÇÃO DE PISO | C21: 97634 | D21: DEMOLIÇÃO DE REVESTIMENTO CERÂMICO, DE FORMA MECANIZADA COM MARTELETE, SEM REAPROVEITAMENTO. AF_09/2023 | E21: M2 | F21: 99.5 | I21: =H21+G21 -> 0 | J21: =G21*F21 -> 0 | K21: =H21*F21 -> 0 | L21: =J21+K21 -> 0 | M21: =ROUND(L21*(1+$M$4),2) -> 0
A22: 2.1.4 | B22: DEMOLIÇÃO DE CONTRAPISO | C22: 104790 | D22: DEMOLIÇÃO DE PISO DE CONCRETO SIMPLES, DE FORMA MECANIZADA COM MARTELETE, SEM REAPROVEITAMENTO. AF_09/2023 | E22: M3 | F22: 99.5 | I22: =H22+G22 -> 0 | J22: =G22*F22 -> 0 | K22: =H22*F22 -> 0 | L22: =J22+K22 -> 0 | M22: =ROUND(L22*(1+$M$4),2) -> 0
A23: 2.1.5 | B23: REMOÇÃO DE DIVISÓRIA | C23: 97640 | D23: REMOÇÃO DE FORROS DE DRYWALL, PVC E FIBROMINERAL, DE FORMA MANUAL, SEM REAPROVEITAMENTO. AF_09/2023 | E23: M2 | F23: =3.5*6.7 -> 23.45 | I23: =H23+G23 -> 0 | J23: =G23*F23 -> 0 | K23: =H23*F23 -> 0 | L23: =J23+K23 -> 0 | M23: =ROUND(L23*(1+$M$4),2) -> 0
A24: 2.1.6 | B24: REMOÇÃO DE FORRO | C24: 97640 | D24: REMOÇÃO DE FORROS DE DRYWALL, PVC E FIBROMINERAL, DE FORMA MANUAL, SEM REAPROVEITAMENTO. AF_09/2023 | E24: M2 | F24: 99.5 | I24: =H24+G24 -> 0 | J24: =G24*F24 -> 0 | K24: =H24*F24 -> 0 | L24: =J24+K24 -> 0 | M24: =ROUND(L24*(1+$M$4),2) -> 0
A25: 2.1.7 | B25: REMOÇÃO DE FIAÇÃO ELÉTRICA | C25: 104792 | D25: REMOÇÃO DE CABOS ELÉTRICOS, COM SEÇÃO DE ATÉ 2,5 MM², DE FORMA MANUAL, SEM REAPROVEITAMENTO. AF_09/2023 | E25: M | F25: 400 | I25: =H25+G25 -> 0 | J25: =G25*F25 -> 0 | K25: =H25*F25 -> 0 | L25: =J25+K25 -> 0 | M25: =ROUND(L25*(1+$M$4),2) -> 0
A26: 2.1.8 | B26: REMOÇÃO DE FORRO DE PILARES | C26: 97640 | D26: REMOÇÃO DE FORROS DE DRYWALL, PVC E FIBROMINERAL, DE FORMA MANUAL, SEM REAPROVEITAMENTO. AF_09/2023 | E26: M3 | F26: 0 | I26: =H26+G26 -> 0 | J26: =G26*F26 -> 0 | K26: =H26*F26 -> 0 | L26: =J26+K26 -> 0 | M26: =ROUND(L26*(1+$M$4),2) -> 0
A27: 2.1.9 | B27: REMOÇÃO DE AR-CONDICIONADO | C27: 12375/ORSE | D27: Remoção e reinstalação de ar condicionado tipo Split | E27: UN | F27: 2 | I27: =H27+G27 -> 0 | J27: =G27*F27 -> 0 | K27: =H27*F27 -> 0 | L27: =J27+K27 -> 0 | M27: =ROUND(L27*(1+$M$4),2) -> 0
A28: 2.1.10 | B28: PREPARO DE PAREDES | C28: 02344/ORSE | D28: Preparo de superfície com lixamento de paredes e tetos | E28: M2 | F28: =19.1+37.4*3.5*2 -> 280.9 | I28: =H28+G28 -> 0 | J28: =G28*F28 -> 0 | K28: =H28*F28 -> 0 | L28: =J28+K28 -> 0 | M28: =ROUND(L28*(1+$M$4),2) -> 0
A29: 2.2 | B29: PISOS | P29: =M29
A30: 2.2.1 | B30: LASTRO DE BRITA - CAMADA DE 3CM | C30: 100324 | D30: [ADAPTADO PARA 5CM] LASTRO COM MATERIAL GRANULAR (PEDRA BRITADA N.1 E PEDRA BRITADA N.2), APLICADO EM PISOS OU LAJES SOBRE SOLO, ESPESSURA DE *10 CM*. AF_01/2024 | E30: M3 | F30: 3 | I30: =SUM(G30:H30) -> 0 | J30: =G30*F30 -> 0 | K30: =H30*F30 -> 0 | L30: =J30+K30 -> 0 | M30: =ROUND(L30*(1+$M$4),2) -> 0
A31: 2.2.2 | B31: LONA | C31: 97113 | D31: APLICAÇÃO DE LONA PLÁSTICA PARA EXECUÇÃO DE PAVIMENTOS DE CONCRETO. AF_04/2022 | E31: M2 | F31: 99.5 | I31: =SUM(G31:H31) -> 0 | J31: =G31*F31 -> 0 | K31: =H31*F31 -> 0 | L31: =J31+K31 -> 0 | M31: =ROUND(L31*(1+$M$4),2) -> 0
A32: 2.2.3 | B32: CONTRAPISO (5CM) | C32: 87299 | D32: ARGAMASSA TRAÇO 1:3 (EM VOLUME DE CIMENTO E AREIA MÉDIA ÚMIDA) PARA CONTRAPISO, PREPARO MECÂNICO COM BETONEIRA 600 L. AF_08/2019 | E32: M3 | F32: 4.98 | I32: =SUM(G32:H32) -> 0 | J32: =G32*F32 -> 0 | K32: =H32*F32 -> 0 | L32: =J32+K32 -> 0 | M32: =ROUND(L32*(1+$M$4),2) -> 0
A33: 2.2.4 | B33: ASSENTAMENTO DE PISO | C33: 87263 | D33: REVESTIMENTO CERÂMICO PARA PISO COM PLACAS TIPO PORCELANATO DE DIMENSÕES 60X60 CM APLICADA EM AMBIENTES DE ÁREA MAIOR QUE 10 M². AF_02/2023_PE | E33: M2 | F33: 99.5 | I33: =SUM(G33:H33) -> 0 | J33: =G33*F33 -> 0 | K33: =H33*F33 -> 0 | L33: =J33+K33 -> 0 | M33: =ROUND(L33*(1+$M$4),2) -> 0
A34: 2.2.5 | B34: REVESTIMENTO SOBRE PIA + 1,2M LATERAL PARA FOGÃO H=120CM | C34: 87269 | D34: REVESTIMENTO CERÂMICO PARA PAREDES INTERNAS COM PLACAS TIPO ESMALTADA DE DIMENSÕES 25X35 CM APLICADAS NA ALTURA INTEIRA DAS PAREDES. AF_02/2023_PE | E34: M2 | F34: =5.06*1.2+1.2*2.1 -> 8.592 | I34: =SUM(G34:H34) -> 0 | J34: =G34*F34 -> 0 | K34: =H34*F34 -> 0 | L34: =J34+K34 -> 0 | M34: =ROUND(L34*(1+$M$4),2) -> 0
A35: 2.3 | B35: ESQUADRIAS E PORTAS | P35: =M35
A36: 2.3.1 | B36: SOLEIRAS (EM METROS QUADRADOS) | C36: 98689 | D36: [ ADAPTADO PARA M2 ] SOLEIRA EM GRANITO, LARGURA 15 CM, ESPESSURA 2,0 CM. AF_02/2026 | E36: M2 | F36: 2.5 | I36: =SUM(G36:H36) -> 0 | J36: =G36*F36 -> 0 | K36: =H36*F36 -> 0 | L36: =J36+K36 -> 0 | M36: =ROUND(L36*(1+$M$4),2) -> 0
A37: 2.3.2 | B37: PINGADEIRAS | C37: 98689 | D37: PEITORIL LINEAR EM GRANITO OU MÁRMORE, L = 15CM, ASSENTADO COM ARGAMASSA 1:6 COM ADITIVO. AF_11/2020 | E37: M | F37: 1.95 | I37: =SUM(G37:H37) -> 0 | J37: =G37*F37 -> 0 | K37: =H37*F37 -> 0 | L37: =J37+K37 -> 0 | M37: =ROUND(L37*(1+$M$4),2) -> 0
A38: 2.3.3 | B38: JANELAS J01 | C38: ='COMPOSIÇÕES'!A13 -> COMP.01 | D38: ='COMPOSIÇÕES'!B13 -> J01 - JANELA DE ALUMÍNIO, TIPO MAXIM-AR COM VIDRO FIXO, COM VIDROS BATENTE E FERRAGENS. EXCLUSIVE ALIZAR, ACABAMENTO E CONTRAMARCO. FORNECIMENTO E INSTALAÇÃO. | E38: UN | F38: 4 | I38: =SUM(G38:H38) -> 0 | J38: =G38*F38 -> 0 | K38: =H38*F38 -> 0 | L38: =J38+K38 -> 0 | M38: =ROUND(L38*(1+$M$4),2) -> 0
A39: 2.3.4 | B39: JANELAS J02 | C39: 94569 | D39: JANELA DE ALUMÍNIO TIPO MAXIM-AR, BATENTE/ REQUADRO 3 A 14 CM, VIDRO INCLUSO, FIXAÇÃO COM PARAFUSO, SEM GUARNIÇÃO/ ALIZAR, DIMENSÕES 60X80 (A X L) CM, SEM ACABAMENTO, VEDAÇÃO COM SILICONE, EXCLUSIVE CONTRAMARCO - FORNECIMENTO E INSTALAÇÃO. AF_11/2024 | E39: M2 | F39: =2.53*0.9*2 -> 4.554 | I39: =SUM(G39:H39) -> 0 | J39: =G39*F39 -> 0 | K39: =H39*F39 -> 0 | L39: =J39+K39 -> 0 | M39: =ROUND(L39*(1+$M$4),2) -> 0
A40: 2.3.5 | B40: JANELAS J03 | C40: 94569 | D40: JANELA DE ALUMÍNIO TIPO MAXIM-AR, BATENTE/ REQUADRO 3 A 14 CM, VIDRO INCLUSO, FIXAÇÃO COM PARAFUSO, SEM GUARNIÇÃO/ ALIZAR, DIMENSÕES 60X80 (A X L) CM, SEM ACABAMENTO, VEDAÇÃO COM SILICONE, EXCLUSIVE CONTRAMARCO - FORNECIMENTO E INSTALAÇÃO. AF_11/2024 | E40: M2 | F40: =1.5*0.5*2 -> 1.5 | I40: =SUM(G40:H40) -> 0 | J40: =G40*F40 -> 0 | K40: =H40*F40 -> 0 | L40: =J40+K40 -> 0 | M40: =ROUND(L40*(1+$M$4),2) -> 0
A41: 2.3.6 | B41: JANELAS J04 | C41: COMP.02 | D41: ='COMPOSIÇÕES'!B26 -> J04 - JANELA DE ALUMÍNIO, TIPO MAXIM-AR COM VIDRO FIXO, COM VIDROS BATENTE E FERRAGENS. EXCLUSIVE ALIZAR, ACABAMENTO E CONTRAMARCO. FORNECIMENTO E INSTALAÇÃO. | E41: UN | F41: 2 | I41: =SUM(G41:H41) -> 0 | J41: =G41*F41 -> 0 | K41: =H41*F41 -> 0 | L41: =J41+K41 -> 0 | M41: =ROUND(L41*(1+$M$4),2) -> 0
A42: 2.3.7 | B42: PORTA P01 | C42: ='COMPOSIÇÕES'!A39 -> COMP.03 | D42: ='COMPOSIÇÕES'!B39 -> P01 - PORTA DE CORRER DE ALUMÍNIO, COM DUAS FOLHAS PARA VIDRO, INCLUSO VIDRO LISO INCOLOR, COM VIDRO FIXO NA PARTE SUPERIOR, FECHADURA E PUXADOR, SEM ALIZAR. | E42: UN | F42: 1 | I42: =SUM(G42:H42) -> 0 | J42: =G42*F42 -> 0 | K42: =H42*F42 -> 0 | L42: =J42+K42 -> 0 | M42: =ROUND(L42*(1+$M$4),2) -> 0
A43: 2.3.8 | B43: PORTA P02 | C43: 100683 | D43: KIT DE PORTA DE MADEIRA PARA VERNIZ, SEMI-OCA (LEVE OU MÉDIA), PADRÃO MÉDIO, 80X210CM, ESPESSURA DE 3,5CM, ITENS INCLUSOS: DOBRADIÇAS, MONTAGEM E INSTALAÇÃO DE BATENTE, FECHADURA COM EXECUÇÃO DO FURO - FORNECIMENTO E INSTALAÇÃO. AF_10/2025 | E43: UN | F43: 1 | I43: =SUM(G43:H43) -> 0 | J43: =G43*F43 -> 0 | K43: =H43*F43 -> 0 | L43: =J43+K43 -> 0 | M43: =ROUND(L43*(1+$M$4),2) -> 0
A44: 2.3.9 | B44: ALIZAR PARA P02 | C44: 100683 | D44: ALIZAR DE 5X1,5CM PARA PORTA FIXADO COM PREGOS, PADRÃO MÉDIO - FORNECIMENTO E INSTALAÇÃO. AF_10/2025 | E44: M | F44: 10 | I44: =SUM(G44:H44) -> 0 | J44: =G44*F44 -> 0 | K44: =H44*F44 -> 0 | L44: =J44+K44 -> 0 | M44: =ROUND(L44*(1+$M$4),2) -> 0
...

Sheet CRONOGRAMA - OBRA
D3: UNIVERSIDADE ESTADUAL DO NORTE DO PARANÁ
D4: CNPJ: 08.885.100/0001-54
D5: OBRA : ADEQUAÇÕES NO CAMPUS DE CORNÉLIO PROCÓPIO
D6: Local: Campus Cornélio Procópio - CCP
D7: Data do orçamento: SETEMBRO/2026
D8: SINAPI_Referências_PR_202606_SEM_DESONERAÇÃO
D9: RESP. TÉCNICO: HENRIQUE FRANCIZ XIMENES DE ANDRADE BILBAO ENGENHEIRO CIVIL - CREA-PR 160.587/D
A11: CRONOGRAMA FÍSICO- FINANCEIRO
B12: SERVIÇO/LOCAL | E12: MÊS 1 | G12: MÊS 2 | I12: MÊS 3 | K12: MÊS 4
C13: Valores | D13: % | E13: % | F13: R$ | G13: % | H13: R$ | I13: % | J13: R$ | K13: % | L13: R$
A14: 1 | B14: =IFERROR(VLOOKUP(A14,'ORÇAMENTO'!$A$13:$M$222,2,0),"") -> SERVIÇOS PRELIMINARES | C14: =IFERROR(VLOOKUP(A14,'ORÇAMENTO'!$A$13:$M$222,13,0),"") -> 0 | D14: =C14/$C$25 -> #DIV/0! | E14: 0.5 | F14: =E14*$C14 -> 0 | G14: 0.5 | H14: =G14*$C14 -> 0 | J14: =I14*$C14 -> 0 | L14: =K14*$C14 -> 0 | M14: =E14+G14+I14+K14 -> 1
A15: 2 | B15: =IFERROR(VLOOKUP(A15,'ORÇAMENTO'!$A$13:$M$222,2,0),"") -> REFORMA DA SALA DE CONVIVÊNCIA DOS ALUNOS | C15: =IFERROR(VLOOKUP(A15,'ORÇAMENTO'!$A$13:$M$222,13,0),"") -> 0 | D15: =C15/$C$25 -> #DIV/0! | E15: 0.15 | F15: =E15*C15 -> 0 | G15: 0.15 | H15: =G15*$C15 -> 0 | I15: 0.3 | J15: =I15*$C15 -> 0 | K15: 0.4 | L15: =K15*$C15 -> 0 | M15: =E15+G15+I15+K15 -> 1
A16: 3 | B16: =IFERROR(VLOOKUP(A16,'ORÇAMENTO'!$A$13:$M$222,2,0),"") -> ADEQUAÇÕES EXTERNAS | C16: =IFERROR(VLOOKUP(A16,'ORÇAMENTO'!$A$13:$M$222,13,0),"") -> 0 | D16: =C16/$C$25 -> #DIV/0! | E16: 0.5 | F16: =E16*C16 -> 0 | G16: 0.5 | H16: =G16*$C16 -> 0 | J16: =I16*$C16 -> 0 | L16: =K16*$C16 -> 0 | M16: =E16+G16+I16+K16 -> 1
A17: 4 | B17: =IFERROR(VLOOKUP(A17,'ORÇAMENTO'!$A$13:$M$222,2,0),"") -> ACESSO E DRENAGEM QUADRA DE AREIA | C17: =IFERROR(VLOOKUP(A17,'ORÇAMENTO'!$A$13:$M$222,13,0),"") -> 0 | D17: =C17/$C$25 -> #DIV/0! | F17: =E17*C17 -> 0 | H17: =G17*$C17 -> 0 | I17: 0.5 | J17: =I17*$C17 -> 0 | K17: 0.5 | L17: =K17*$C17 -> 0 | M17: =E17+G17+I17+K17 -> 1
A18: 5 | B18: =IFERROR(VLOOKUP(A18,'ORÇAMENTO'!$A$13:$M$222,2,0),"") -> ILUMINAÇÃO DA QUADRA DESCOBERTA | C18: =IFERROR(VLOOKUP(A18,'ORÇAMENTO'!$A$13:$M$222,13,0),"") -> 0 | D18: =C18/$C$25 -> #DIV/0! | F18: =E18*C18 -> 0 | H18: =G18*$C18 -> 0 | I18: 1 | J18: =I18*$C18 -> 0 | L18: =K18*$C18 -> 0 | M18: =E18+G18+I18+K18 -> 1
A19: 6 | B19: =IFERROR(VLOOKUP(A19,'ORÇAMENTO'!$A$13:$M$222,2,0),"") -> SALA DO NAE | C19: =IFERROR(VLOOKUP(A19,'ORÇAMENTO'!$A$13:$M$222,13,0),"") -> 0 | D19: =C19/$C$25 -> #DIV/0! | F19: =E19*C19 -> 0 | H19: =G19*$C19 -> 0 | I19: 1 | J19: =I19*$C19 -> 0 | L19: =K19*$C19 -> 0 | M19: =E19+G19+I19+K19 -> 1
A20: 7 | B20: =IFERROR(VLOOKUP(A20,'ORÇAMENTO'!$A$13:$M$222,2,0),"") -> DEMOLIÇÃO DE BARRACÃO DA MANUTENÇÃO | C20: =IFERROR(VLOOKUP(A20,'ORÇAMENTO'!$A$13:$M$222,13,0),"") -> 0 | D20: =C20/$C$25 -> #DIV/0! | F20: =E20*C20 -> 0 | H20: =G20*$C20 -> 0 | I20: 1 | J20: =I20*$C20 -> 0 | L20: =K20*$C20 -> 0 | M20: =E20+G20+I20+K20 -> 1
A21: 8 | B21: =IFERROR(VLOOKUP(A21,'ORÇAMENTO'!$A$13:$M$222,2,0),"") -> RETIRADA DE ENTULHO E LIMPEZA | C21: =IFERROR(VLOOKUP(A21,'ORÇAMENTO'!$A$13:$M$222,13,0),"") -> 0 | D21: =C21/$C$25 -> #DIV/0! | E21: 0.1 | F21: =E21*C21 -> 0 | G21: 0.2 | H21: =G21*$C21 -> 0 | I21: 0.2 | J21: =I21*$C21 -> 0 | K21: 0.5 | L21: =K21*$C21 -> 0 | M21: =E21+G21+I21+K21 -> 1
A22: 9 | B22: =IFERROR(VLOOKUP(A22,'ORÇAMENTO'!$A$13:$M$222,2,0),"") | C22: =IFERROR(VLOOKUP(A22,'ORÇAMENTO'!$A$13:$M$222,13,0),"") | D22: =C22/$C$25 -> #DIV/0! | F22: =E22*C22 -> 0 | H22: =G22*$C22 -> 0 | J22: =I22*$C22 -> 0 | L22: =K22*$C22 -> 0 | M22: =E22+G22+I22+K22 -> 0
A23: 10 | B23: =IFERROR(VLOOKUP(A23,'ORÇAMENTO'!$A$13:$M$222,2,0),"") | C23: =IFERROR(VLOOKUP(A23,'ORÇAMENTO'!$A$13:$M$222,13,0),"") | D23: =C23/$C$25 -> #DIV/0! | F23: =E23*C23 -> 0 | H23: =G23*$C23 -> 0 | J23: =I23*$C23 -> 0 | L23: =K23*$C23 -> 0 | M23: =E23+G23+I23+K23 -> 0
A24: 11 | B24: =IFERROR(VLOOKUP(A24,'ORÇAMENTO'!$A$13:$M$222,2,0),"") | C24: =IFERROR(VLOOKUP(A24,'ORÇAMENTO'!$A$13:$M$222,13,0),"") | D24: =C24/$C$25 -> #DIV/0! | F24: =E24*C24 -> 0 | H24: =G24*$C24 -> 0 | J24: =I24*$C24 -> 0 | L24: =K24*$C24 -> 0 | M24: =E24+G24+I24+K24 -> 0
B25: TOTAL | C25: =SUM(C14:C24) -> 0 | D25: =C25/$C$25 -> #DIV/0!
D27: R$ parcial (valor período) | E27: =SUM(F14:F25) -> 0 | G27: =SUM(H14:H25) -> 0 | I27: =SUM(J14:J25) -> 0 | K27: =SUM(L14:L25) -> 0
D28: %_parcial (período) | E28: =SUM(E27/$C$25) -> #DIV/0! | G28: =SUM(G27/$C$25) -> #DIV/0! | I28: =SUM(I27/$C$25) -> #DIV/0! | K28: =SUM(K27/$C$25) -> #DIV/0!
D29: R$_ acumulado | E29: =E27 -> 0 | G29: =E29+G27 -> 0 | I29: =G29+I27 -> 0 | K29: =I29+K27 -> 0
D30: %_acumulado | E30: =E28 -> #DIV/0! | G30: =E30+G28 -> #DIV/0! | I30: =G30+I28 -> #DIV/0! | K30: =I30+K28 -> #DIV/0!

Sheet COMPOSIÇÕES
D2: UNIVERSIDADE ESTADUAL DO NORTE DO PARANÁ
D3: CNPJ: 08.885.100/0001-54
D4: OBRA : ADEQUAÇÕES NO CAMPUS DE CORNÉLIO PROCÓPIO
D5: Local: Campus Cornélio Procópio - CCP
D6: Data do orçamento: SETEMBRO/2026
D7: SINAPI_Referências_PR_202606_SEM_DESONERAÇÃO
D8: RESP. TÉCNICO: HENRIQUE FRANCIZ XIMENES DE ANDRADE BILBAO ENGENHEIRO CIVIL - CREA-PR 160.587/D
A10: COMPOSIÇÕES UENP
A13: COMP.01 | B13: J01 - JANELA DE ALUMÍNIO, TIPO MAXIM-AR COM VIDRO FIXO, COM VIDROS BATENTE E FERRAGENS. EXCLUSIVE ALIZAR, ACABAMENTO E CONTRAMARCO. FORNECIMENTO E INSTALAÇÃO. | C13: UN
A14: CÓDIGO | B14: ITEM | C14: UN | D14: QNT. | E14: MAT. + EQUIP. | F14: MÃO DE OBRA | G14: VALOR UNITÁRIO | H14: TOTAL MATERIAL | I14: TOTAL M.O. | J14: VALOR TOTAL
A15: 88316 | B15: SERVENTE COM ENCARGOS COMPLEMENTARES | C15: H | D15: 3.084 | E15: 0 | F15: 31.41 | G15: =SUM(E15:F15) -> 31.41 | H15: =E15*D15 -> 0 | I15: =F15*D15 -> 96.86844 | J15: =G15*D15 -> 96.86844
A16: 88325 | B16: VIDRACEIRO COM ENCARGOS COMPLEMENTARES | C16: H | D16: 2.379 | E16: 0 | F16: 40.45 | G16: =SUM(E16:F16) -> 40.45 | H16: =E16*D16 -> 0 | I16: =F16*D16 -> 96.23055 | J16: =G16*D16 -> 96.23055
A17: 4377 | B17: PARAFUSO DE ACO ZINCADO COM ROSCA SOBERBA, CABECA CHATA E FENDA SIMPLES, DIAMETRO 4,2 MM, COMPRIMENTO * 32 * MM | C17: UN | D17: 71.248 | E17: 0.15 | F17: 0 | G17: =SUM(E17:F17) -> 0.15 | H17: =E17*D17 -> 10.6872 | I17: =F17*D17 -> 0 | J17: =G17*D17 -> 10.6872
A18: 34381 | B18: [ADAPTADO PARA M2] JANELA MAXIM AR, EM ALUMINIO PERFIL 25, 60 X 80 CM (A X L), ACABAMENTO BRANCO OU BRILHANTE, BATENTE DE 4 A 5 CM, COM VIDRO 4 MM, SEM GUARNICAO/ALIZAR | C18: M2 | D18: =0.55*2.77 -> 1.5235 | E18: =564.57/(0.6*0.8) -> 1176.1875 | F18: 0 | G18: =SUM(E18:F18) -> 1176.1875 | H18: =E18*D18 -> 1791.9217 | I18: =F18*D18 -> 0 | J18: =G18*D18 -> 1791.9217
A19: 10505 | B19: VIDRO TEMPERADO INCOLOR E = 6 MM, SEM COLOCACAO | C19: M2 | D19: 2.99 | E19: 261.86 | F19: 0 | G19: =SUM(E19:F19) -> 261.86 | H19: =E19*D19 -> 782.9614 | I19: =F19*D19 -> 0 | J19: =G19*D19 -> 782.9614
A20: 11950 | B20: BUCHA DE NYLON SEM ABA S6, COM PARAFUSO DE 4,20 X 40 MM EM ACO ZINCADO COM ROSCA SOBERBA, CABECA CHATA E FENDA PHILLIPS | C20: UN | D20: 3.448 | E20: 0.33 | F20: 0 | G20: =SUM(E20:F20) -> 0.33 | H20: =E20*D20 -> 1.13784 | I20: =F20*D20 -> 0 | J20: =G20*D20 -> 1.13784
A21: 34360 | B21: PERFIL DE ALUMINIO ANODIZADO | C21: KG | D21: 1.513 | E21: 60.63 | F21: 0 | G21: =SUM(E21:F21) -> 60.63 | H21: =E21*D21 -> 91.73319 | I21: =F21*D21 -> 0 | J21: =G21*D21 -> 91.73319
A22: 39432 | B22: FITA DE PAPEL REFORCADA COM LAMINA DE METAL PARA REFORCO DE CANTOS DE CHAPA DE GESSO PARA DRYWALL | C22: M | D22: 4.697 | E22: 3.14 | F22: 0 | G22: =SUM(E22:F22) -> 3.14 | H22: =E22*D22 -> 14.74858 | I22: =F22*D22 -> 0 | J22: =G22*D22 -> 14.74858
A23: 39961 | B23: SILICONE ACETICO USO GERAL INCOLOR 280G | C23: UN | D23: 4.263 | E23: 23.04 | F23: 0 | G23: =SUM(E23:F23) -> 23.04 | H23: =E23*D23 -> 98.21952 | I23: =F23*D23 -> 0 | J23: =G23*D23 -> 98.21952
G24: Total | H24: =SUM(H15:H23) -> 2791.4094 | I24: =SUM(I15:I23) -> 193.09899 | J24: =SUM(J15:J23) -> 2984.5084
A26: COMP.02 | B26: J04 - JANELA DE ALUMÍNIO, TIPO MAXIM-AR COM VIDRO FIXO, COM VIDROS BATENTE E FERRAGENS. EXCLUSIVE ALIZAR, ACABAMENTO E CONTRAMARCO. FORNECIMENTO E INSTALAÇÃO. | C26: UN
A27: CÓDIGO | B27: ITEM | C27: UN | D27: QNT. | E27: MAT. + EQUIP. | F27: MÃO DE OBRA | G27: VALOR UNITÁRIO | H27: TOTAL MATERIAL | I27: TOTAL M.O. | J27: VALOR TOTAL
A28: 88316 | B28: SERVENTE COM ENCARGOS COMPLEMENTARES | C28: H | D28: 3.084 | E28: 0 | F28: 31.41 | G28: =SUM(E28:F28) -> 31.41 | H28: =E28*D28 -> 0 | I28: =F28*D28 -> 96.86844 | J28: =G28*D28 -> 96.86844
A29: 88325 | B29: VIDRACEIRO COM ENCARGOS COMPLEMENTARES | C29: H | D29: 2.379 | E29: 0 | F29: 40.45 | G29: =SUM(E29:F29) -> 40.45 | H29: =E29*D29 -> 0 | I29: =F29*D29 -> 96.23055 | J29: =G29*D29 -> 96.23055
A30: 4377 | B30: PARAFUSO DE ACO ZINCADO COM ROSCA SOBERBA, CABECA CHATA E FENDA SIMPLES, DIAMETRO 4,2 MM, COMPRIMENTO * 32 * MM | C30: UN | D30: 71.248 | E30: 0.15 | F30: 0 | G30: =SUM(E30:F30) -> 0.15 | H30: =E30*D30 -> 10.6872 | I30: =F30*D30 -> 0 | J30: =G30*D30 -> 10.6872
A31: 34381 | B31: [ADAPTADO PARA M2] JANELA MAXIM AR, EM ALUMINIO PERFIL 25, 60 X 80 CM (A X L), ACABAMENTO BRANCO OU BRILHANTE, BATENTE DE 4 A 5 CM, COM VIDRO 4 MM, SEM GUARNICAO/ALIZAR | C31: M2 | D31: =0.55*2 -> 1.1 | E31: =564.57/(0.6*0.8) -> 1176.1875 | F31: 0 | G31: =SUM(E31:F31) -> 1176.1875 | H31: =E31*D31 -> 1293.8063 | I31: =F31*D31 -> 0 | J31: =G31*D31 -> 1293.8063
A32: 10505 | B32: VIDRO TEMPERADO INCOLOR E = 6 MM, SEM COLOCACAO | C32: M2 | D32: =0.55*0.55*9 -> 2.7225 | E32: 261.86 | F32: 0 | G32: =SUM(E32:F32) -> 261.86 | H32: =E32*D32 -> 712.91385 | I32: =F32*D32 -> 0 | J32: =G32*D32 -> 712.91385
A33: 11950 | B33: BUCHA DE NYLON SEM ABA S6, COM PARAFUSO DE 4,20 X 40 MM EM ACO ZINCADO COM ROSCA SOBERBA, CABECA CHATA E FENDA PHILLIPS | C33: UN | D33: 3 | E33: 0.33 | F33: 0 | G33: =SUM(E33:F33) -> 0.33 | H33: =E33*D33 -> 0.99 | I33: =F33*D33 -> 0 | J33: =G33*D33 -> 0.99
A34: 34360 | B34: PERFIL DE ALUMINIO ANODIZADO | C34: KG | D34: 3.5 | E34: 60.63 | F34: 0 | G34: =SUM(E34:F34) -> 60.63 | H34: =E34*D34 -> 212.205 | I34: =F34*D34 -> 0 | J34: =G34*D34 -> 212.205
A35: 39432 | B35: FITA DE PAPEL REFORCADA COM LAMINA DE METAL PARA REFORCO DE CANTOS DE CHAPA DE GESSO PARA DRYWALL | C35: M | D35: 4.697 | E35: 3.14 | F35: 0 | G35: =SUM(E35:F35) -> 3.14 | H35: =E35*D35 -> 14.74858 | I35: =F35*D35 -> 0 | J35: =G35*D35 -> 14.74858
A36: 39961 | B36: SILICONE ACETICO USO GERAL INCOLOR 280G | C36: UN | D36: 4.263 | E36: 23.04 | F36: 0 | G36: =SUM(E36:F36) -> 23.04 | H36: =E36*D36 -> 98.21952 | I36: =F36*D36 -> 0 | J36: =G36*D36 -> 98.21952
G37: Total | H37: =SUM(H28:H36) -> 2343.5704 | I37: =SUM(I28:I36) -> 193.09899 | J37: =SUM(J28:J36) -> 2536.6694
A39: COMP.03 | B39: P01 - PORTA DE CORRER DE ALUMÍNIO, COM DUAS FOLHAS PARA VIDRO, INCLUSO VIDRO LISO INCOLOR, COM VIDRO FIXO NA PARTE SUPERIOR, FECHADURA E PUXADOR, SEM ALIZAR. | C39: UN
A40: CÓDIGO | B40: ITEM | C40: UN | D40: QNT. | E40: MAT. + EQUIP. | F40: MÃO DE OBRA | G40: VALOR UNITÁRIO | H40: TOTAL MATERIAL | I40: TOTAL M.O. | J40: VALOR TOTAL
A41: 142 | B41: SELANTE ELASTICO MONOCOMPONENTE A BASE DE POLIURETANO (PU) PARA JUNTAS DIVERSAS | C41: 310ML | D41: 0.51 | E41: 34.86 | F41: 0 | G41: =SUM(E41:F41) -> 34.86 | H41: =E41*D41 -> 17.7786 | I41: =F41*D41 -> 0 | J41: =G41*D41 -> 17.7786
A42: 4922 | B42: PORTA DE CORRER EM ALUMINIO, DUAS FOLHAS MOVEIS COM VIDRO, FECHADURA E PUXADOR EMBUTIDO, ACABAMENTO ANODIZADO NATURAL, SEM GUARNICAO/ALIZAR/VISTA | C42: M2 | D42: =1.2*2.1 -> 2.52 | E42: 0 | F42: 0 | G42: =SUM(E42:F42) -> 0 | H42: =E42*D42 -> 0 | I42: =F42*D42 -> 0 | J42: =G42*D42 -> 0
A43: 7568 | B43: BUCHA DE NYLON SEM ABA S10, COM PARAFUSO DE 6,10 X 65 MM EM ACO ZINCADO COM ROSCA SOBERBA, CABECA CHATA E FENDA PHILLIPS | C43: UN | D43: 24 | E43: 27.97 | F43: 0 | G43: =SUM(E43:F43) -> 27.97 | H43: =E43*D43 -> 671.28 | I43: =F43*D43 -> 0 | J43: =G43*D43 -> 671.28
A44: 36888 | B44: GUARNICAO / MOLDURA / ARREMATE DE ACABAMENTO PARA ESQUADRIA, EM ALUMINIO PERFIL 25, ACABAMENTO ANODIZADO BRANCO OU BRILHANTE, PARA 1 FACE | C44: M | D44: 6.7 | E44: 56.22 | F44: 0 | G44: =SUM(E44:F44) -> 56.22 | H44: =E44*D44 -> 376.674 | I44: =F44*D44 -> 0 | J44: =G44*D44 -> 376.674
A45: 10506 | B45: VIDRO TEMPERADO INCOLOR E = 8 MM, SEM COLOCACAO | C45: M2 | D45: 2.52 | E45: 341.84 | F45: 0 | G45: =SUM(E45:F45) -> 341.84 | H45: =E45*D45 -> 861.4368 | I45: =F45*D45 -> 0 | J45: =G45*D45 -> 861.4368
A46: 34360 | B46: PERFIL DE ALUMINIO ANODIZADO | C46: KG | D46: 2.01 | E46: 60.63 | F46: 0 | G46: =SUM(E46:F46) -> 60.63 | H46: =E46*D46 -> 121.8663 | I46: =F46*D46 -> 0 | J46: =G46*D46 -> 121.8663
...

Sheet BDI
E3: UNIVERSIDADE ESTADUAL DO NORTE DO PARANÁ
E4: CNPJ: 08.885.100/0001-54
E5: OBRA : ADEQUAÇÕES NO CAMPUS DE CORNÉLIO PROCÓPIO
E6: Local: Campus Cornélio Procópio - CCP
F7: Data do orçamento: SETEMBRO/2026
F8: SINAPI_Referências_PR_202606_SEM_DESONERAÇÃO
E9: RESP. TÉCNICO: HENRIQUE FRANCIZ XIMENES DE ANDRADE BILBAO ENGENHEIRO CIVIL - CREA-PR 160.587/D
A11: COMPOSIÇÃO DO BDI
A12: CUSTO TOTAL DO SERVIÇO (R$)
A13: ITEM | B13: DISCRIMINAÇÃO | E13: VALOR | F13: TAXA (%) | G13: OBSERVAÇÃO | H13: SITUAÇÃO DO INTERVALO ADMISSÍVEL | I13: PARCELAS DO BDI (%)
I14: 1 QUARTIL | J14: MÉDIO | K14: 3 QUARTIL
A15: 1 | B15: AC – ADMINISTRAÇÃO CENTRAL | F15: 0.03 | H15: OK | I15: 0.03 | J15: 0.04 | K15: 0.055
A16: 2 | B16: SG – SEGUROS + GARANTIA | F16: 0.008 | H16: OK | I16: 0.008 | J16: 0.008 | K16: 0.01
A17: 3 | B17: R – RISCOS | F17: 0.0097 | H17: OK | I17: 0.0097 | J17: 0.0127 | K17: 0.0127
A18: 4 | B18: DF – DESPESAS FINANCEIRAS | F18: 0.0059 | H18: OK | I18: 0.0059 | J18: 0.0123 | K18: 0.0139
A19: 5 | B19: L – LUCRO BRUTO | F19: 0.06245 | H19: OK | I19: 0.0616 | J19: 0.074 | K19: 0.0896
A20: 6 | B20: I – IMPOSTOS | F20: =SUM(F21:F24) -> 0.0665 | G20: FÓRMULA DO BDI DE ACORDO COM ACÓRDÃO 2.369/2011-TCU- PLENÁRIO
A21: 43836 | B21: PIS | F21: 0.0065
A22: 43867 | B22: COFINS | F22: 0.03
A23: 43896 | B23: ISS (CONFORME LEGISLAÇÃO MUNICIPAL) | F23: 0.03
A24: 43927 | B24: CONTRIB. PREVIDÊNCIA SOBRE RECEITA BRUTA – CPRB | F24: 0
A26: TOTAL DO BDI (R$)
A27: PREÇO DE VENDA (R$) | G27: ONDE:
A28: BDI (%) | F28: =(((1+(F15+F16+F17))*(1+F18)*(1+F19))/(1-F20))-1 -> 0.19946044 | G28: AC : TAXA DE ADMINISTRAÇÃO CENTRAL
G29: S: TAXA DE SEGURO
G30: G: TAXA DE GARANTIAS
G31: R: TAXA DE RISCOS
G32: DF: TAXA DE DESPESAS
G33: L: TAXA DE LUCRO
G34: I: TAXA DE INCIDÊNCIA DE IMPOSTOS (PIS, COFINS, ISS, CPRB)
A37: COMPOSIÇÃO DO BDI REDUZIDO
A38: CUSTO TOTAL DO SERVIÇO (R$)
A39: ITEM | B39: DISCRIMINAÇÃO | E39: VALOR | F39: TAXA (%) | G39: OBSERVAÇÃO | H39: SITUAÇÃO DO INTERVALO ADMISSÍVEL | I39: PARCELAS DO BDI (%)
I40: 1 QUARTIL | J40: MÉDIO | K40: 3 QUARTIL
A41: 1 | B41: AC – ADMINISTRAÇÃO CENTRAL | F41: 0.015 | H41: =IF(AND(F41>=I41,F41<=K41),"OK","DIFERE") -> OK | I41: 0.015 | J41: 0.0345 | K41: 0.0449
A42: 2 | B42: SG – SEGUROS + GARANTIA | F42: 0.003 | H42: =IF(AND(F42>=I42,F42<=K42),"OK","DIFERE") -> OK | I42: 0.003 | J42: 0.0048 | K42: 0.0082
A43: 3 | B43: R – RISCOS | F43: 0.0056 | H43: =IF(AND(F43>=I43,F43<=K43),"OK","DIFERE") -> OK | I43: 0.0056 | J43: 0.0085 | K43: 0.0089
A44: 4 | B44: DF – DESPESAS FINANCEIRAS | F44: 0.0085 | H44: =IF(AND(F44>=I44,F44<=K44),"OK","DIFERE") -> OK | I44: 0.0085 | J44: 0.0085 | K44: 0.0111
A45: 5 | B45: L – LUCRO BRUTO | F45: 0.0352 | H45: =IF(AND(F45>=I45,F45<=K45),"OK","DIFERE") -> OK | I45: 0.035 | J45: 0.0511 | K45: 0.0622
A46: 6 | B46: I – IMPOSTOS | F46: =SUM(F47:F50) -> 0.0365 | G46: FÓRMULA DO BDI DE ACORDO COM ACÓRDÃO 2.369/2011-TCU- PLENÁRIO
...

Sheet VALORES SINAPI (REF)
A1: Código da Composição | B1: Descrição | C1: Unidade | D1: M.O. | E1: MAT+EQ | F1: VALOR
A2: 104658 | B2: PISO PODOTÁTIL DE ALERTA OU DIRECIONAL, DE CONCRETO, ASSENTADO SOBRE ARGAMASSA. AF_03/2024 | C2: M2 | D2: 0.2722 | E2: =1-D2 -> 0.7278 | F2: 140.01
A3: 105002 | B3: RAMPA DE ACESSIBILIDADE EM CONCRETO MOLDADO IN LOCO, EM CALÇADA NOVA COM LARGURA MAIOR OU IGUAL À 3,00 M, FCK 25MPA, COM PISO PODOTÁTIL. AF_03/2024 | C3: UN | D3: 0.3838 | E3: =1-D3 -> 0.6162 | F3: 734.11
A4: 105004 | B4: RAMPA DE ACESSIBILIDADE EM CONCRETO MOLDADO IN LOCO, EM CALÇADA NOVA COM LARGURA MENOR À 3,00 M, FCK 25MPA, COM PISO PODOTÁTIL. AF_03/2024 | C4: M2 | D4: 0.3872 | E4: =1-D4 -> 0.6128 | F4: 125.9
A5: 105003 | B5: RAMPA DE ACESSIBILIDADE EM CONCRETO MOLDADO IN LOCO, EM CALÇADA PRÉ EXISTENTE COM LARGURA MAIOR OU IGUAL À 3,00 M, FCK 25MPA, COM PISO PODOTÁTIL. AF_03/2024 | C5: UN | D5: 0.4478 | E5: =1-D5 -> 0.5522 | F5: 1234.77
A6: 105005 | B6: RAMPA DE ACESSIBILIDADE EM CONCRETO MOLDADO IN LOCO, EM CALÇADA PRÉ EXISTENTE COM LARGURA MENOR À 3,00 M, FCK 25MPA, COM PISO PODOTÁTIL. AF_03/2024 | C6: M2 | D6: 0.4527 | E6: =1-D6 -> 0.5473 | F6: 218.59
A7: 105000 | B7: RAMPA DE ACESSIBILIDADE PARA ACESSO A EDIFICAÇÕES COM INCLINAÇÃO DE 8,33% EM CONCRETO MOLDADO IN LOCO, COM LARGURA DE 1,20M, FCK 25MPA, NÃO ARMADA, COM JUNTA A CADA 2M COM CORTE À SECO. AF_03/2024 | C7: M | D7: 0.3269 | E7: =1-D7 -> 0.6731 | F7: 1447.92
A8: 105001 | B8: RAMPA DE ACESSIBILIDADE PARA ACESSO A EDIFICAÇÕES COM INCLINAÇÃO DE 8,33% EM CONCRETO MOLDADO IN LOCO, COM LARGURA DE 1,50M, FCK 25MPA, NÃO ARMADA, COM JUNTA A CADA 2M COM CORTE À SECO. AF_03/2024 | C8: M | D8: 0.3238 | E8: =1-D8 -> 0.6762 | F8: 1476.38
A9: 89306 | B9: ALVENARIA ESTRUTURAL DE BLOCOS CERÂMICOS 14X19X29, (ESPESSURA DE 14 CM), UTILIZANDO COLHER DE PEDREIRO E ARGAMASSA DE ASSENTAMENTO COM PREPARO EM BETONEIRA. AF_03/2023 | C9: M2 | D9: 0.4101 | E9: =1-D9 -> 0.5899 | F9: 103.22
A10: 89307 | B10: ALVENARIA ESTRUTURAL DE BLOCOS CERÂMICOS 14X19X29, (ESPESSURA DE 14 CM), UTILIZANDO COLHER DE PEDREIRO E ARGAMASSA DE ASSENTAMENTO COM PREPARO MANUAL. AF_03/2023 | C10: M2 | D10: 0.4146 | E10: =1-D10 -> 0.5854 | F10: 105.83
A11: 89290 | B11: ALVENARIA ESTRUTURAL DE BLOCOS CERÂMICOS 14X19X29, (ESPESSURA DE 14 CM), UTILIZANDO PALHETA E ARGAMASSA DE ASSENTAMENTO COM PREPARO EM BETONEIRA. AF_03/2023 | C11: M2 | D11: 0.3605 | E11: =1-D11 -> 0.6395 | F11: 84.29
A12: 89291 | B12: ALVENARIA ESTRUTURAL DE BLOCOS CERÂMICOS 14X19X29, (ESPESSURA DE 14 CM), UTILIZANDO PALHETA E ARGAMASSA DE ASSENTAMENTO COM PREPARO MANUAL. AF_03/2023 | C12: M2 | D12: 0.3659 | E12: =1-D12 -> 0.6341 | F12: 86.23
A13: 89298 | B13: ALVENARIA ESTRUTURAL DE BLOCOS CERÂMICOS 14X19X39, (ESPESSURA DE 14 CM), UTILIZANDO COLHER DE PEDREIRO E ARGAMASSA DE ASSENTAMENTO COM PREPARO EM BETONEIRA. AF_03/2023 | C13: M2 | D13: 0.3575 | E13: =1-D13 -> 0.6425 | F13: 87.82
... A2996: 104314 | B2996: TRAMA DE AÇO COMPOSTA POR TERÇAS PARA TELHADOS DE ATÉ 2 ÁGUAS PARA TELHA ONDULADA DE FIBROCIMENTO, METÁLICA, PLÁSTICA OU TERMOACÚSTICA, INCLUSO TRANSPORTE VERTICAL (EM KG). AF_07/2019 | C2996: KG | D2996: 0.14 | E2996: =1-D2996 -> 0.86 | F2996: 11.14
A2997: 92580 | B2997: TRAMA DE AÇO COMPOSTA POR TERÇAS PARA TELHADOS DE ATÉ 2 ÁGUAS PARA TELHA ONDULADA DE FIBROCIMENTO, METÁLICA, PLÁSTICA OU TERMOACÚSTICA, INCLUSO TRANSPORTE VERTICAL. AF_07/2019 | C2997: M2 | D2997: 0.1409 | E2997: =1-D2997 -> 0.8591 | F2997: 48.32 | G2997: =F2997*D2997 -> 6.808288 | H2997: =F2997*E2997 -> 41.511712
A2998: 92541 | B2998: TRAMA DE MADEIRA COMPOSTA POR RIPAS, CAIBROS E TERÇAS PARA TELHADOS DE ATÉ 2 ÁGUAS PARA TELHA CERÂMICA CAPA-CANAL, INCLUSO TRANSPORTE VERTICAL. AF_07/2019 | C2998: M2 | D2998: 0.1958 | E2998: =1-D2998 -> 0.8042 | F2998: 100.28
A2999: 92539 | B2999: TRAMA DE MADEIRA COMPOSTA POR RIPAS, CAIBROS E TERÇAS PARA TELHADOS DE ATÉ 2 ÁGUAS PARA TELHA DE ENCAIXE DE CERÂMICA OU DE CONCRETO, INCLUSO TRANSPORTE VERTICAL. AF_07/2019 | C2999: M2 | D2999: 0.2049 | E2999: =1-D2999 -> 0.7951 | F2999: 92.94
A3000: 92542 | B3000: TRAMA DE MADEIRA COMPOSTA POR RIPAS, CAIBROS E TERÇAS PARA TELHADOS DE MAIS QUE 2 ÁGUAS PARA TELHA CERÂMICA CAPA-CANAL, INCLUSO TRANSPORTE VERTICAL. AF_07/2019 | C3000: M2 | D3000: 0.2311 | E3000: =1-D3000 -> 0.7689 | F3000: 122.26
A3001: 92540 | B3001: TRAMA DE MADEIRA COMPOSTA POR RIPAS, CAIBROS E TERÇAS PARA TELHADOS DE MAIS QUE 2 ÁGUAS PARA TELHA DE ENCAIXE DE CERÂMICA OU DE CONCRETO, INCLUSO TRANSPORTE VERTICAL. AF_07/2019 | C3001: M2 | D3001: 0.2593 | E3001: =1-D3001 -> 0.7407 | F3001: 104.86
A3002: 92544 | B3002: TRAMA DE MADEIRA COMPOSTA POR TERÇAS PARA TELHADOS DE ATÉ 2 ÁGUAS PARA TELHA ESTRUTURAL DE FIBROCIMENTO, INCLUSO TRANSPORTE VERTICAL. AF_07/2019 | C3002: M2 | D3002: 0.1558 | E3002: =1-D3002 -> 0.8442 | F3002: 22.33
A3003: 92543 | B3003: TRAMA DE MADEIRA COMPOSTA POR TERÇAS PARA TELHADOS DE ATÉ 2 ÁGUAS PARA TELHA ONDULADA DE FIBROCIMENTO, METÁLICA, PLÁSTICA OU TERMOACÚSTICA, INCLUSO TRANSPORTE VERTICAL. AF_07/2019 | C3003: M2 | D3003: 0.1552 | E3003: =1-D3003 -> 0.8448 | F3003: 28.03
A3004: 97740 | B3004: PEÇA CIRCULAR PRÉ-MOLDADA, VOLUME DE CONCRETO ACIMA DE 100 LITROS, TAXA DE AÇO APROXIMADA DE 30KG/M³. AF_03/2024 | C3004: M3 | D3004: 0.3064 | E3004: =1-D3004 -> 0.6936 | F3004: 2097.75
A3005: 97738 | B3005: PEÇA CIRCULAR PRÉ-MOLDADA, VOLUME DE CONCRETO DE 10 A 30 LITROS, TAXA DE FIBRA DE POLIPROPILENO APROXIMADA DE 6 KG/M³. AF_03/2024_PS | C3005: M3 | D3005: 0.4968 | E3005: =1-D3005 -> 0.5032 | F3005: 4219.6
A3006: 97739 | B3006: PEÇA CIRCULAR PRÉ-MOLDADA, VOLUME DE CONCRETO DE 30 A 100 LITROS, TAXA DE AÇO APROXIMADA DE 30KG/M³. AF_03/2024 | C3006: M3 | D3006: 0.4465 | E3006: =1-D3006 -> 0.5535 | F3006: 3069.26
A3007: 97736 | B3007: PEÇA RETANGULAR PRÉ-MOLDADA, VOLUME DE CONCRETO ACIMA DE 100 LITROS, TAXA DE AÇO APROXIMADA DE 30KG/M³. AF_03/2024 | C3007: M3 | D3007: 0.3103 | E3007: =1-D3007 -> 0.6897 | F3007: 1570.62
A3008: 97734 | B3008: PEÇA RETANGULAR PRÉ-MOLDADA, VOLUME DE CONCRETO DE 10 A 30 LITROS, TAXA DE AÇO APROXIMADA DE 30KG/M³. AF_03/2024 | C3008: M3 | D3008: 0.52 | E3008: =1-D3008 -> 0.48 | F3008: 3342.42
A3009: 97735 | B3009: PEÇA RETANGULAR PRÉ-MOLDADA, VOLUME DE CONCRETO DE 30 A 100 LITROS, TAXA DE AÇO APROXIMADA DE 30KG/M³. AF_03/2024 | C3009: M3 | D3009: 0.4797 | E3009: =1-D3009 -> 0.5203 | F3009: 2704.8
... A5860: 100307 | B5860: MONTADOR DE ELETROELETRÔNICOS COM ENCARGOS COMPLEMENTARES | C5860: H | D5860: 0.694 | E5860: =1-D5860 -> 0.306 | F5860: 30.42
A5861: 88278 | B5861: MONTADOR DE ESTRUTURA METÁLICA COM ENCARGOS COMPLEMENTARES | C5861: H | D5861: 0.7272 | E5861: =1-D5861 -> 0.2728 | F5861: 29.66 | G5861: =F5861*D5861 -> 21.568752 | H5861: =F5861*E5861 -> 8.091248
A5862: 101418 | B5862: MONTADOR DE ESTRUTURAS METÁLICAS COM ENCARGOS COMPLEMENTARES | C5862: MES | D5862: 0.7124 | E5862: =1-D5862 -> 0.2876 | F5862: 5302.91
A5863: 101419 | B5863: MONTADOR DE MÁQUINAS COM ENCARGOS COMPLEMENTARES | C5863: MES | D5863: 0.7214 | E5863: =1-D5863 -> 0.2786 | F5863: 6306.44
A5864: 88279 | B5864: MONTADOR ELETROMECÃNICO COM ENCARGOS COMPLEMENTARES | C5864: H | D5864: 0.7404 | E5864: =1-D5864 -> 0.2596 | F5864: 35.86
A5865: 88281 | B5865: MOTORISTA DE BASCULANTE COM ENCARGOS COMPLEMENTARES | C5865: H | D5865: 0.7625 | E5865: =1-D5865 -> 0.2375 | F5865: 34.06
A5866: 93558 | B5866: MOTORISTA DE CAMINHAO COM ENCARGOS COMPLEMENTARES | C5866: MES | D5866: 0.7417 | E5866: =1-D5866 -> 0.2583 | F5866: 5904.58
A5867: 101420 | B5867: MOTORISTA DE CAMINHÃO BASCULANTE COM ENCARGOS COMPLEMENTARES | C5867: MES | D5867: 0.749 | E5867: =1-D5867 -> 0.251 | F5867: 6076.26
A5868: 101421 | B5868: MOTORISTA DE CAMINHÃO CARRETA COM ENCARGOS COMPLEMENTARES | C5868: MES | D5868: 0.7812 | E5868: =1-D5868 -> 0.2188 | F5868: 6972.36
A5869: 88282 | B5869: MOTORISTA DE CAMINHÃO COM ENCARGOS COMPLEMENTARES | C5869: H | D5869: 0.7554 | E5869: =1-D5869 -> 0.2446 | F5869: 33.08
A5870: 88283 | B5870: MOTORISTA DE CAMINHÃO E CARRETA COM ENCARGOS COMPLEMENTARES | C5870: H | D5870: 0.7935 | E5870: =1-D5870 -> 0.2065 | F5870: 39.17
A5871: 101422 | B5871: MOTORISTA DE CARRO DE PASSEIO COM ENCARGOS COMPLEMENTARES | C5871: MES | D5871: 0.7183 | E5871: =1-D5871 -> 0.2817 | F5871: 5414.96
A5872: 88284 | B5872: MOTORISTA DE VEÍCULO LEVE COM ENCARGOS COMPLEMENTARES | C5872: H | D5872: 0.7329 | E5872: =1-D5872 -> 0.2671 | F5872: 30.29
...
