Workbook

Sheet ORÇAMENTO
A1: _
D3: UNIVERSIDADE ESTADUAL DO NORTE DO PARANÁ
D4: CNPJ: 08.885.100/0001-54 | L4: BDI | M4: =BDI!F28 -> 0.2668 | N4: MATERIAL | O4: MÃO DE OBRA
D5: OBRA : AMPLIAÇÃO DAS SALAS DE ATENDIMENTO DA EQUOTERAPIA | L5: BDI DIF | M5: 0.1635 | N5: =SUM(J14,J17,J25,J34,J56,J68,J81,J87,J129,J158,J164,J175,J182,J191,J200,J205,J216,J230,J234) -> 177590.32 | O5: =M6-N5 -> 72468.202
D6: Local: Campus Luiz Meneghel - CLM | L6: Total s/BDI | M6: =SUM(L14,L17,L25,L34,L56,L68,L81,L87,L129,L158,L164,L175,L182,L191,L200,L205,L216,L230,L234) -> 250058.52
D7: Data do orçamento: AGOSTO/2025 | L7: Total c/BDI | M7: =SUM(N13:N576) -> 316774.14 | N7: 400000 | O7: =M7-N7 -> -83225.864
D8: SINAPI_Custo_Ref_Composicoes_Analitico_PR_202506_Desonerado
D9: RESP. TÉCNICO: HENRIQUE FRANCIZ XIMENES DE ANDRADE BILBAO ENGENHEIRO CIVIL - CREA PR 160.587/D | E9: RESP. TÉCNICO: AMANDA ALVES DA SILVA - ARQUITETA E URBANISTA - CAU A 145.138-3
A11: ITEM | B11: RESUMO | C11: CÓDIGO | D11: DESCRIÇÃO DOS SERVIÇOS | E11: UN | F11: QTD | G11: UNITÁRIO (SEM BDI) | J11: TOTAL (Valores sem BDI) | M11: VALOR TOTAL C/ BDI
G12: MATERIAL + EQ | H12: MÃO DE OBRA | I12: TOTAL | J12: MATERIAL | K12: MÃO DE OBRA | L12: TOTAL
A14: 1 | B14: ADMINISTRAÇÃO DA OBRA | J14: =SUM(J15) -> 95.76 | K14: =SUM(K15) -> 5394.48 | L14: =SUM(L15) -> 5490.24 | M14: =SUM(M15) -> 6955.036 | N14: =M14 -> 6955.036
A15: 1.1 | B15: ACOMPANHAMENTO TÉCNICO | C15: 90778 | D15: ENGENHEIRO CIVIL DE OBRA PLENO COM ENCARGOS COMPLEMENTARES | E15: H | F15: 42 | G15: =I15-H15 -> 2.28 | H15: =ROUNDUP(VLOOKUP(C15,'VALORES SINAPI'!A1:F7840,4,0)*I15,2) -> 128.44 | I15: =VLOOKUP(C15,'VALORES SINAPI'!A1:F7840,6,0) -> 130.72 | J15: =G15*F15 -> 95.76 | K15: =H15*F15 -> 5394.48 | L15: =J15+K15 -> 5490.24 | M15: =L15*(1+$M$4) -> 6955.036
A17: 2 | B17: CANTEIRO DE OBRAS | J17: =SUM(J18:J23) -> 7393.6296 | K17: =SUM(K18:K23) -> 429.85339 | L17: =SUM(L18:L23) -> 7823.483 | M17: =SUM(M18:M23) -> 9910.7883 | N17: =M17 -> 9910.7883
A18: 2.1 | B18: PLACA DE OBRA - MODELO ESTADO DO PR - TIPO "B" 4X2 M | C18: 4813 | D18: PLACA DE OBRA (PARA CONSTRUCAO CIVIL) EM CHAPA GALVANIZADA *N. 22*, ADESIVADA, DE *2,4 X 1,2* M (SEM POSTES PARA FIXACAO) | E18: M2 | F18: 8 | G18: 250 | H18: 0 | I18: =G18+H18 -> 250 | J18: =G18*F18 -> 2000 | K18: =H18*F18 -> 0 | L18: =J18+K18 -> 2000 | M18: =L18*(1+$M$4) -> 2533.6
A19: 2.2 | B19: ANDAIME | C19: 10527 | D19: LOCACAO DE ANDAIME METALICO TUBULAR DE ENCAIXE, TIPO DE TORRE, CADA PAINEL COM LARGURA DE 1 ATE 1,5 M E ALTURA DE *1,00* M, INCLUINDO DIAGONAL, BARRAS DE LIGACAO, SAPATAS OU RODIZIOS E DEMAIS ITENS NECESSARIOS A MONTAGEM (NAO INCLUI INSTALACAO) | E19: MXMES | F19: =4*7 -> 28 | G19: 28 | H19: 0 | I19: =G19+H19 -> 28 | J19: =G19*F19 -> 784 | K19: =H19*F19 -> 0 | L19: =J19+K19 -> 784 | M19: =L19*(1+$M$4) -> 993.1712
A20: 2.3 | B20: ALMOXARIFADO | C20: 105115 | D20: INSTALAÇÃO E DESINSTALAÇÃO MECANIZADA DE CONTÊINER OU MÓDULO HABITÁVEL DE USOS DIVERSOS. AF_03/2024 | E20: UN | F20: 1 | G20: =I20-H20 -> 80.72 | H20: =ROUNDUP(VLOOKUP(C20,'VALORES SINAPI'!A6:F7845,4,0)*I20,2) -> 58.17 | I20: =VLOOKUP(C20,'VALORES SINAPI'!A6:F7845,6,0) -> 138.89 | J20: =G20*F20 -> 80.72 | K20: =H20*F20 -> 58.17 | L20: =J20+K20 -> 138.89 | M20: =L20*(1+$M$4) -> 175.94585
A21: 2.4 | B21: ALMOXARIFADO | C21: 10776 | D21: LOCACAO DE CONTAINER 2,30 X 6,00 M, ALT. 2,50 M, PARA ESCRITORIO, SEM DIVISORIAS INTERNAS E SEM SANITARIO (NAO INCLUI MOBILIZACAO/DESMOBILIZACAO) | E21: MES | F21: 7 | G21: 625 | H21: 0 | I21: =G21+H21 -> 625 | J21: =G21*F21 -> 4375 | K21: =H21*F21 -> 0 | L21: =J21+K21 -> 4375 | M21: =L21*(1+$M$4) -> 5542.25
A22: 2.5 | B22: ENERGIA PROVISÓRIA | C22: COMP.01 | D22: INSTALAÇÃO DE ENERGIA PROVISÓRIA, REMOÇÃO COM REAPROVEITAMENTO E REINSTALAÇÃO. | E22: UN | F22: 1 | G22: =COMPOSIÇÕES!I21 -> 67.930148 | H22: =COMPOSIÇÕES!J21 -> 158.31639 | I22: =G22+H22 -> 226.24654 | J22: =G22*F22 -> 67.930148 | K22: =H22*F22 -> 158.31639 | L22: =J22+K22 -> 226.24654 | M22: =L22*(1+$M$4) -> 286.60912
A23: 2.6 | B23: ENTRADA DE ÁGUA | C23: COMP.02 | D23: ENTRADA DE ÁGUA PROVISÓRIA, REMOÇÃO COM REAPROVEITAMENTO E REINSTALAÇÃO. | E23: M | F23: 5 | G23: =COMPOSIÇÕES!I29 -> 17.1959 | H23: =COMPOSIÇÕES!J29 -> 42.6734 | I23: =G23+H23 -> 59.8693 | J23: =G23*F23 -> 85.9795 | K23: =H23*F23 -> 213.367 | L23: =J23+K23 -> 299.3465 | M23: =L23*(1+$M$4) -> 379.21215
A25: 3 | B25: TERRAPLANAGEM E SERVIÇOS PRELIMINARES | J25: =SUM(J26:J32) -> 3615.649 | K25: =SUM(K26:K32) -> 2298.913 | L25: =SUM(L26:L32) -> 5914.562 | M25: =SUM(M26:M32) -> 7492.5671 | N25: =M25 -> 7492.5671
A26: 3.1 | B26: LIMPEZA VEGETAL - IMPLANTAÇÃO + ARREDORES | C26: 98525 | D26: LIMPEZA MECANIZADA DE CAMADA VEGETAL (100X50M), VEGETAÇÃO E PEQUENAS ÁRVORES (DIÂMETRO DE TRONCO MENOR QUE 0,20 M), COM TRATOR DE ESTEIRAS.AF_05/2018 | E26: M2 | F26: 195 | G26: =I26-H26 -> 0.48 | H26: =ROUNDUP(VLOOKUP(C26,'VALORES SINAPI'!A12:F7851,4,0)*I26,2) -> 0.18 | I26: =VLOOKUP(C26,'VALORES SINAPI'!A12:F7851,6,0) -> 0.66 | J26: =G26*F26 -> 93.6 | K26: =H26*F26 -> 35.1 | L26: =J26+K26 -> 128.7 | M26: =L26*(1+$M$4) -> 163.03716
A27: 3.2 | B27: VOLUME DE CORTE | C27: 101124 | D27: ESCAVAÇÃO HORIZONTAL, INCLUINDO CARGA E DESCARGA EM SOLO DE 1A CATEGORIA COM TRATOR DE ESTEIRAS (100HP/LÂMINA: 2,19M3). AF_07/2020 | E27: M3 | F27: 60 | G27: =I27-H27 -> 12.77 | H27: =ROUNDUP(VLOOKUP(C27,'VALORES SINAPI'!A13:F7852,4,0)*I27,2) -> 2.88 | I27: =VLOOKUP(C27,'VALORES SINAPI'!A13:F7852,6,0) -> 15.65 | J27: =G27*F27 -> 766.2 | K27: =H27*F27 -> 172.8 | L27: =J27+K27 -> 939 | M27: =L27*(1+$M$4) -> 1189.5252
A28: 3.3 | B28: VOLUME DE REATERRO | C28: 93368 | D28: REATERRO MECANIZADO DE VALA COM ESCAVADEIRA HIDRÁULICA (CAPACIDADE DA CAÇAMBA: 0,8 M³/POTÊNCIA: 111 HP), LARGURA ATÉ 1,5 M, PROFUNDIDADE DE 1,5 A 3,0 M, COM SOLO (SEM SUBSTITUIÇÃO) DE 1ª CATEGORIA, COM COMPACTADOR DE SOLOS DE PERCUSSÃO. AF_08/2023 | E28: M3 | F28: 25.5 | G28: =I28-H28 -> 15.39 | H28: =ROUNDUP(VLOOKUP(C28,'VALORES SINAPI'!A14:F7853,4,0)*I28,2) -> 6.4 | I28: =VLOOKUP(C28,'VALORES SINAPI'!A14:F7853,6,0) -> 21.79 | J28: =G28*F28 -> 392.445 | K28: =H28*F28 -> 163.2 | L28: =J28+K28 -> 555.645 | M28: =L28*(1+$M$4) -> 703.89109
A29: 3.4 | B29: ESPALHAMENTO PARA NIVELAMENTO DO SOLO | C29: 100574 | D29: ESPALHAMENTO DE MATERIAL COM TRATOR DE ESTEIRAS. AF_11/2019 | E29: M3 | F29: 25.5 | G29: =I29-H29 -> 1.03 | H29: =ROUNDUP(VLOOKUP(C29,'VALORES SINAPI'!A15:F7854,4,0)*I29,2) -> 0.36 | I29: =VLOOKUP(C29,'VALORES SINAPI'!A15:F7854,6,0) -> 1.39 | J29: =G29*F29 -> 26.265 | K29: =H29*F29 -> 9.18 | L29: =J29+K29 -> 35.445 | M29: =L29*(1+$M$4) -> 44.901726
A30: 3.5 | B30: COMPACTAÇÃO DA ÁREA + ARREDORES | C30: 97084 | D30: COMPACTAÇÃO MECÂNICA DE SOLO PARA EXECUÇÃO DE RADIER, PISO DE CONCRETO OU LAJE SOBRE SOLO, COM COMPACTADOR DE SOLOS TIPO PLACA VIBRATÓRIA. AF_09/2021 | E30: M2 | F30: 195 | G30: =I30-H30 -> 0.29 | H30: =ROUNDUP(VLOOKUP(C30,'VALORES SINAPI'!A16:F7855,4,0)*I30,2) -> 0.56 | I30: =VLOOKUP(C30,'VALORES SINAPI'!A16:F7855,6,0) -> 0.85 | J30: =G30*F30 -> 56.55 | K30: =H30*F30 -> 109.2 | L30: =J30+K30 -> 165.75 | M30: =L30*(1+$M$4) -> 209.9721
A31: 3.6 | B31: GABARITO OBRA | C31: 99059 | D31: LOCAÇÃO - LOCACAO CONVENCIONAL DE OBRA, UTILIZANDO GABARITO DE TÁBUAS CORRIDAS | E31: M | F31: 55.3 | G31: =I31-H31 -> 41.13 | H31: =ROUNDUP(VLOOKUP(C31,'VALORES SINAPI'!A17:F7856,4,0)*I31,2) -> 32.61 | I31: =VLOOKUP(C31,'VALORES SINAPI'!A17:F7856,6,0) -> 73.74 | J31: =G31*F31 -> 2274.489 | K31: =H31*F31 -> 1803.333 | L31: =J31+K31 -> 4077.822 | M31: =L31*(1+$M$4) -> 5165.7849
A32: 3.7 | B32: LONA DE PROTEÇÃO JANELA | C32: 03642/ORSE | D32: LONA PLÁSTICA PRETA | E32: M2 | F32: 2 | G32: 3.05 | H32: =I32-G32 -> 3.05 | I32: 6.1 | J32: =G32*F32 -> 6.1 | K32: =H32*F32 -> 6.1 | L32: =J32+K32 -> 12.2 | M32: =L32*(1+$M$4) -> 15.45496
A34: 4 | B34: FUNDAÇÃO E INFRAESTRUTURA | J34: =SUM(J36:J54) -> 16825.195 | K34: =SUM(K36:K54) -> 6233.8489 | L34: =SUM(L36:L54) -> 23059.044 | M34: =SUM(M36:M54) -> 29211.197 | N34: =M34 -> 29211.197
B35: ESTACAS
A36: 4.1 | B36: ESTACA H=3.5M; D=25CM | C36: 100896 | D36: ESTACA ESCAVADA MECANICAMENTE, SEM FLUIDO ESTABILIZANTE, COM 25CM DE DIÂMETRO, CONCRETO LANÇADO POR CAMINHÃO BETONEIRA | E36: M | F36: 60 | G36: =I36-H36 -> 53.62 | H36: =ROUNDUP(VLOOKUP(C36,'VALORES SINAPI'!A22:F7861,4,0)*I36,2) -> 6.97 | I36: =VLOOKUP(C36,'VALORES SINAPI'!A22:F7861,6,0) -> 60.59 | J36: =G36*F36 -> 3217.2 | K36: =H36*F36 -> 418.2 | L36: =J36+K36 -> 3635.4 | M36: =L36*(1+$M$4) -> 4605.3247
A37: 4.2 | B37: ESTACAS | C37: 95576 | D37: MONTAGEM DE ARMADURA DE ESTACAS, DIÂMETRO = 8,0 MM. AF_09/2021_PS | E37: KG | F37: 79 | G37: =I37-H37 -> 11.69 | H37: =ROUNDUP(VLOOKUP(C37,'VALORES SINAPI'!A23:F7862,4,0)*I37,2) -> 2.24 | I37: =VLOOKUP(C37,'VALORES SINAPI'!A23:F7862,6,0) -> 13.93 | J37: =G37*F37 -> 923.51 | K37: =H37*F37 -> 176.96 | L37: =J37+K37 -> 1100.47 | M37: =L37*(1+$M$4) -> 1394.0754
B38: BLOCOS DE COROAMENTO
A39: 4.3 | B39: ESCAVAÇÃO BLOCOS | C39: 93358 | D39: ESCAVAÇÃO MANUAL DE VALA COM PROFUNDIDADE MENOR OU IGUAL A 1,30 M. AF_02/2021 | E39: M3 | F39: 3.85 | G39: =I39-H39 -> 36.35 | H39: =ROUNDUP(VLOOKUP(C39,'VALORES SINAPI'!A25:F7864,4,0)*I39,2) -> 69.07 | I39: =VLOOKUP(C39,'VALORES SINAPI'!A25:F7864,6,0) -> 105.42 | J39: =G39*F39 -> 139.9475 | K39: =H39*F39 -> 265.9195 | L39: =J39+K39 -> 405.867 | M39: =L39*(1+$M$4) -> 514.15232
A40: 4.4 | B40: REATERRO BLOCOS | C40: 93382 | D40: REATERRO MANUAL DE VALAS COM COMPACTAÇÃO MECANIZADA. AF_04/2016 | E40: M3 | F40: 0.5 | G40: =I40-H40 -> 12.13 | H40: =ROUNDUP(VLOOKUP(C40,'VALORES SINAPI'!A26:F7865,4,0)*I40,2) -> 18.59 | I40: =VLOOKUP(C40,'VALORES SINAPI'!A26:F7865,6,0) -> 30.72 | J40: =G40*F40 -> 6.065 | K40: =H40*F40 -> 9.295 | L40: =J40+K40 -> 15.36 | M40: =L40*(1+$M$4) -> 19.458048
A41: 4.5 | B41: BLOCO | C41: 96534 | D41: FABRICAÇÃO, MONTAGEM E DESMONTAGEM DE FÔRMA PARA BLOCO DE COROAMENTO, EM MADEIRA SERRADA, E=25 MM, 4 UTILIZAÇÕES. AF_06/2017 | E41: M2 | F41: 28.32 | G41: =I41-H41 -> 39.69 | H41: =ROUNDUP(VLOOKUP(C41,'VALORES SINAPI'!A27:F7866,4,0)*I41,2) -> 45.01 | I41: =VLOOKUP(C41,'VALORES SINAPI'!A27:F7866,6,0) -> 84.7 | J41: =G41*F41 -> 1124.0208 | K41: =H41*F41 -> 1274.6832 | L41: =J41+K41 -> 2398.704 | M41: =L41*(1+$M$4) -> 3038.6782
A42: 4.6 | B42: BLOCO (LASTRO CONCRETO MAGRO 3CM) | C42: 94962 | D42: CONCRETO MAGRO PARA LASTRO, TRAÇO 1:4,5:4,5 (EM MASSA SECA DE CIMENTO/ AREIA MÉDIA/ BRITA 1) - PREPARO MECÂNICO COM BETONEIRA 400 L. AF_05/2021 | E42: M3 | F42: 0.2 | G42: =I42-H42 -> 318.56 | H42: =ROUNDUP(VLOOKUP(C42,'VALORES SINAPI'!A28:F7867,4,0)*I42,2) -> 74 | I42: =VLOOKUP(C42,'VALORES SINAPI'!A28:F7867,6,0) -> 392.56 | J42: =G42*F42 -> 63.712 | K42: =H42*F42 -> 14.8 | L42: =J42+K42 -> 78.512 | M42: =L42*(1+$M$4) -> 99.459002
A43: 4.7 | B43: BLOCO - FERRAGEM | C43: 96545 | D43: ARMAÇÃO DE BLOCO UTILIZANDO AÇO CA-60 DE 5 MM - MONTAGEM. AF_01/2024 | E43: KG | F43: 59.5 | G43: =I43-H43 -> 13 | H43: =ROUNDUP(VLOOKUP(C43,'VALORES SINAPI'!A29:F7868,4,0)*I43,2) -> 5.16 | I43: =VLOOKUP(C43,'VALORES SINAPI'!A29:F7868,6,0) -> 18.16 | J43: =G43*F43 -> 773.5 | K43: =H43*F43 -> 307.02 | L43: =J43+K43 -> 1080.52 | M43: =L43*(1+$M$4) -> 1368.8027
A44: 4.8 | B44: BLOCO - FERRAGEM | C44: 96546 | D44: ARMAÇÃO DE BLOCO UTILIZANDO AÇO CA-50 DE 10 MM - MONTAGEM. AF_01/2024 | E44: KG | F44: 57.1 | G44: =I44-H44 -> 11.87 | H44: =ROUNDUP(VLOOKUP(C44,'VALORES SINAPI'!A30:F7869,4,0)*I44,2) -> 3.88 | I44: =VLOOKUP(C44,'VALORES SINAPI'!A30:F7869,6,0) -> 15.75 | J44: =G44*F44 -> 677.777 | K44: =H44*F44 -> 221.548 | L44: =J44+K44 -> 899.325 | M44: =L44*(1+$M$4) -> 1139.2649
A45: 4.9 | B45: BLOCO | C45: 96557 | D45: CONCRETAGEM DE BLOCO DE COROAMENTO OU VIGA BALDRAME, FCK 30 MPA, COM USO DE BOMBA - LANÇAMENTO, ADENSAMENTO E ACABAMENTO. AF_01/2024 | E45: M3 | F45: 3.42 | G45: =I45-H45 -> 626.85 | H45: =ROUNDUP(VLOOKUP(C45,'VALORES SINAPI'!A31:F7870,4,0)*I45,2) -> 17 | I45: =VLOOKUP(C45,'VALORES SINAPI'!A31:F7870,6,0) -> 643.85 | J45: =G45*F45 -> 2143.827 | K45: =H45*F45 -> 58.14 | L45: =J45+K45 -> 2201.967 | M45: =L45*(1+$M$4) -> 2789.4518
B46: VIGAS BALDRAME
...

Sheet COMPOSIÇÕES
D3: UNIVERSIDADE ESTADUAL DO NORTE DO PARANÁ
D4: CNPJ: 08.885.100/0001-54
D5: OBRA : AMPLIAÇÃO DAS SALAS DE ATENDIMENTO DA EQUOTERAPIA
D6: Local: Campus Luiz Meneghel - CLM
D7: Data do orçamento: AGOSTO/2025
D8: SINAPI_Custo_Ref_Composicoes_Analitico_PR_202506_Desonerado
D9: RESP. TÉCNICO: HENRIQUE FRANCIZ XIMENES DE ANDRADE BILBAO ENGENHEIRO CIVIL - CREA PR 160.587/D | G9: RESP. TÉCNICO: AMANDA ALVES DA SILVA - ARQUITETA E URBANISTA - CAU A 145.138-3
A11: COMPOSIÇÕES UENP - BASE SINAPI
A14: 01. INSTALAÇÃO DE ENERGIA PROVISÓRIA, REMOÇÃO COM REAPROVEITAMENTO E REINSTALAÇÃO.
A15: DESCRIÇÃO | B15: REMOÇÃO E REINSTALAÇÃO DE QUADRO DE ENERGIA PROVISÓRIO, COM POSTE EM MADEIRA, QUADRO COM TOMADAS, DISJUNTOR E CABOS. SOMENTE MÃO DE OBRA. | H15: UNIDADE | I15: UN
B16: COD | D16: UN | E16: QTD | F16: VALOR MAT+EQ | G16: VALOR M.O | H16: VALOR UN | I16: VT MAT+EQ | J16: VT M.O | K16: VT
A17: COMPOSICAO | B17: 88247 | C17: AUXILIAR DE ELETRICISTA COM ENCARGOS COMPLEMENTARES | D17: H | E17: 0.3897 | F17: =H17-G17 -> 9.3 | G17: =ROUNDUP(VLOOKUP(B17,'VALORES SINAPI'!$A$2:$F$7840,4,0)*H17,2) -> 19.23 | H17: =VLOOKUP(B17,'VALORES SINAPI'!$A$2:$F$7840,6,0) -> 28.53 | I17: =F17*E17 -> 3.62421 | J17: =G17*E17 -> 7.493931 | K17: =I17+J17 -> 11.118141
A18: COMPOSICAO | B18: 88264 | C18: ELETRICISTA COM ENCARGOS COMPLEMENTARES | D18: H | E18: 3.5078 | F18: =H18-G18 -> 9.31 | G18: =ROUNDUP(VLOOKUP(B18,'VALORES SINAPI'!$A$2:$F$7840,4,0)*H18,2) -> 25.1 | H18: =VLOOKUP(B18,'VALORES SINAPI'!$A$2:$F$7840,6,0) -> 34.41 | I18: =F18*E18 -> 32.657618 | J18: =G18*E18 -> 88.04578 | K18: =I18+J18 -> 120.7034
A19: COMPOSICAO | B19: 88316 | C19: SERVENTE COM ENCARGOS COMPLEMENTARES | D19: H | E19: =1.542*2 -> 3.084 | F19: =H19-G19 -> 9.18 | G19: =ROUNDUP(VLOOKUP(B19,'VALORES SINAPI'!$A$2:$F$7840,4,0)*H19,2) -> 17.47 | H19: =VLOOKUP(B19,'VALORES SINAPI'!$A$2:$F$7840,6,0) -> 26.65 | I19: =F19*E19 -> 28.31112 | J19: =G19*E19 -> 53.87748 | K19: =I19+J19 -> 82.1886
A20: COMPOSICAO | B20: 88309 | C20: PEDREIRO COM ENCARGOS COMPLEMENTARES | D20: H | E20: 0.36 | F20: =H20-G20 -> 9.27 | G20: =ROUNDUP(VLOOKUP(B20,'VALORES SINAPI'!$A$2:$F$7840,4,0)*H20,2) -> 24.72 | H20: =VLOOKUP(B20,'VALORES SINAPI'!$A$2:$F$7840,6,0) -> 33.99 | I20: =F20*E20 -> 3.3372 | J20: =G20*E20 -> 8.8992 | K20: =I20+J20 -> 12.2364
I21: =SUM(I17:I20) -> 67.930148 | J21: =SUM(J17:J20) -> 158.31639 | K21: =SUM(K17:K20) -> 226.24654
A23: 02. ENTRADA DE ÁGUA PROVISÓRIA, REMOÇÃO COM REAPROVEITAMENTO E REINSTALAÇÃO.
A24: DESCRIÇÃO | B24: REMOÇÃO E REINTALAÇÃO DE ÁGUA FRIA PARA ABASTECIMENTO PROVISÓRIO, SOMENTE MÃO DE OBRA. | H24: UNIDADE | I24: M
B25: COD | D25: UN | E25: QTD | F25: VALOR MAT+EQ | G25: VALOR M.O | H25: VALOR UN | I25: VT MAT+EQ | J25: VT M.O | K25: VT
A26: COMPOSICAO | B26: 88267 | C26: ENCANADOR OU BOMBEIRO HIDRÁULICO COM ENCARGOS COMPLEMENTARES | D26: H | E26: 0.85 | F26: =H26-G26 -> 8.63 | G26: =ROUNDUP(VLOOKUP(B26,'VALORES SINAPI'!$A$2:$F$7840,4,0)*H26,2) -> 24.63 | H26: =VLOOKUP(B26,'VALORES SINAPI'!$A$2:$F$7840,6,0) -> 33.26 | I26: =F26*E26 -> 7.3355 | J26: =G26*E26 -> 20.9355 | K26: =I26+J26 -> 28.271
A27: COMPOSICAO | B27: 88316 | C27: SERVENTE COM ENCARGOS COMPLEMENTARES | D27: H | E27: 0.65 | F27: =H27-G27 -> 9.18 | G27: =ROUNDUP(VLOOKUP(B27,'VALORES SINAPI'!$A$2:$F$7840,4,0)*H27,2) -> 17.47 | H27: =VLOOKUP(B27,'VALORES SINAPI'!$A$2:$F$7840,6,0) -> 26.65 | I27: =F27*E27 -> 5.967 | J27: =G27*E27 -> 11.3555 | K27: =I27+J27 -> 17.3225
A28: COMPOSICAO | B28: 88309 | C28: PEDREIRO COM ENCARGOS COMPLEMENTARES | D28: H | E28: 0.42 | F28: =H28-G28 -> 9.27 | G28: =ROUNDUP(VLOOKUP(B28,'VALORES SINAPI'!$A$2:$F$7840,4,0)*H28,2) -> 24.72 | H28: =VLOOKUP(B28,'VALORES SINAPI'!$A$2:$F$7840,6,0) -> 33.99 | I28: =F28*E28 -> 3.8934 | J28: =G28*E28 -> 10.3824 | K28: =I28+J28 -> 14.2758
I29: =SUM(I26:I28) -> 17.1959 | J29: =SUM(J26:J28) -> 42.6734 | K29: =SUM(K26:K28) -> 59.8693
A31: 03. PORTA DE ABRIR EM VIDRO TEMPERADO, 2 FOLHAS, 140X210 CM, ESPESSURA DD 10MM, INCLUSIVE ACESSÓRIOS NA COR BRANCA.
A32: DESCRIÇÃO | B32: P01 - VER PROJETO | F32: BASEADO SINAPI 102185 | H32: UNIDADE | I32: UN
B33: COD | D33: UN | E33: QTD | F33: VALOR MAT+EQ | G33: VALOR M.O | H33: VALOR UN | I33: VT MAT+EQ | J33: VT M.O | K33: VT
A34: INSUMO | B34: 3104 | C34: CONJ. DE FERRAGENS PARA PORTA DE VIDRO TEMPERADO, EM ZAMAC CROMADO, CONTEMPLANDO DOBRADICA INF., DOBRADICA SUP., PIVO PARA DOBRADICA INF., PIVO PARA DOBRADICA SUP., FECHADURA CENTRAL EM ZAMC. CROMADO, CONTRA FECHADURA DE PRESSAO | D34: CJ | E34: 1 | F34: 147.51 | G34: 0 | H34: =G34+F34 -> 147.51 | I34: =F34*E34 -> 147.51 | J34: =G34*E34 -> 0 | K34: =I34+J34 -> 147.51
A35: INSUMO | B35: 38168 | C35: [ADAP. NA COR BRANCA] PUXADOR TUBULAR RETO DUPLO, EM ALUMINIO CROMADO, COMPRIMENTO DE APROX 400 MM E DIAMETRO DE 25 MM (1") | D35: UN | E35: 2 | F35: 138.43 | G35: 0 | H35: =G35+F35 -> 138.43 | I35: =F35*E35 -> 276.86 | J35: =G35*E35 -> 0 | K35: =I35+J35 -> 276.86
A36: INSUMO | B36: 5031 | C36: VIDRO TEMPERADO INCOLOR PARA PORTA DE ABRIR, E = 10 MM (SEM FERRAGENS E SEM COLOCACAO) | D36: M² | E36: =1.4*2.1 -> 2.94 | F36: 440 | G36: 0 | H36: =G36+F36 -> 440 | I36: =F36*E36 -> 1293.6 | J36: =G36*E36 -> 0 | K36: =I36+J36 -> 1293.6
A37: COMPOSICAO | B37: 88316 | C37: SERVENTE COM ENCARGOS COMPLEMENTARES | D37: H | E37: 6.57 | F37: =H37-G37 -> 9.18 | G37: =ROUNDUP(VLOOKUP(B37,'VALORES SINAPI'!$A$2:$F$7840,4,0)*H37,2) -> 17.47 | H37: =VLOOKUP(B37,'VALORES SINAPI'!$A$2:$F$7840,6,0) -> 26.65 | I37: =F37*E37 -> 60.3126 | J37: =G37*E37 -> 114.7779 | K37: =I37+J37 -> 175.0905
A38: COMPOSICAO | B38: 88325 | C38: VIDRACEIRO COM ENCARGOS COMPLEMENTARES | D38: H | E38: 6.76 | F38: =H38-G38 -> 9.27 | G38: =ROUNDUP(VLOOKUP(B38,'VALORES SINAPI'!$A$2:$F$7840,4,0)*H38,2) -> 24.93 | H38: =VLOOKUP(B38,'VALORES SINAPI'!$A$2:$F$7840,6,0) -> 34.2 | I38: =F38*E38 -> 62.6652 | J38: =G38*E38 -> 168.5268 | K38: =I38+J38 -> 231.192
I39: =SUM(I34:I38) -> 1840.9478 | J39: =SUM(J34:J38) -> 283.3047 | K39: =SUM(K34:K38) -> 2124.2525
A41: 04. PORTA DE ABRIR EM VIDRO TEMPERADO, 1 FOLHA, 90X210 CM, ESPESSURA DD 10MM, INCLUSIVE ACESSÓRIOS NA COR BRANCA.
A42: DESCRIÇÃO | B42: P03 - VER PROJETO | F42: BASEADO SINAPI 102182 | H42: UNIDADE | I42: UN
B43: COD | D43: UN | E43: QTD | F43: VALOR MAT+EQ | G43: VALOR M.O | H43: VALOR UN | I43: VT MAT+EQ | J43: VT M.O | K43: VT
A44: INSUMO | B44: 3104 | C44: CONJ. DE FERRAGENS PARA PORTA DE VIDRO TEMPERADO, EM ZAMAC CROMADO, CONTEMPLANDO DOBRADICA INF., DOBRADICA SUP., PIVO PARA DOBRADICA INF., PIVO PARA DOBRADICA SUP., FECHADURA CENTRAL EM ZAMC. CROMADO, CONTRA FECHADURA DE PRESSAO | D44: CJ | E44: 1 | F44: 147.51 | G44: 0 | H44: =G44+F44 -> 147.51 | I44: =F44*E44 -> 147.51 | J44: =G44*E44 -> 0 | K44: =I44+J44 -> 147.51
A45: INSUMO | B45: 38168 | C45: [ADAP. NA COR BRANCA] PUXADOR TUBULAR RETO DUPLO, EM ALUMINIO CROMADO, COMPRIMENTO DE APROX 400 MM E DIAMETRO DE 25 MM (1") | D45: UN | E45: 1 | F45: 138.43 | G45: 0 | H45: =G45+F45 -> 138.43 | I45: =F45*E45 -> 138.43 | J45: =G45*E45 -> 0 | K45: =I45+J45 -> 138.43
A46: INSUMO | B46: 5031 | C46: VIDRO TEMPERADO INCOLOR PARA PORTA DE ABRIR, E = 10 MM (SEM FERRAGENS E SEM COLOCACAO) | D46: M² | E46: 1.89 | F46: 440 | G46: 0 | H46: =G46+F46 -> 440 | I46: =F46*E46 -> 831.6 | J46: =G46*E46 -> 0 | K46: =I46+J46 -> 831.6
A47: COMPOSICAO | B47: 88316 | C47: SERVENTE COM ENCARGOS COMPLEMENTARES | D47: H | E47: 1.86 | F47: =H47-G47 -> 9.18 | G47: =ROUNDUP(VLOOKUP(B47,'VALORES SINAPI'!$A$2:$F$7840,4,0)*H47,2) -> 17.47 | H47: =VLOOKUP(B47,'VALORES SINAPI'!$A$2:$F$7840,6,0) -> 26.65 | I47: =F47*E47 -> 17.0748 | J47: =G47*E47 -> 32.4942 | K47: =I47+J47 -> 49.569
A48: COMPOSICAO | B48: 88325 | C48: VIDRACEIRO COM ENCARGOS COMPLEMENTARES | D48: H | E48: 1.92 | F48: =H48-G48 -> 9.27 | G48: =ROUNDUP(VLOOKUP(B48,'VALORES SINAPI'!$A$2:$F$7840,4,0)*H48,2) -> 24.93 | H48: =VLOOKUP(B48,'VALORES SINAPI'!$A$2:$F$7840,6,0) -> 34.2 | I48: =F48*E48 -> 17.7984 | J48: =G48*E48 -> 47.8656 | K48: =I48+J48 -> 65.664
...

Sheet COTAÇÃO
C3: UNIVERSIDADE ESTADUAL DO NORTE DO PARANÁ
C4: CNPJ: 08.885.100/0001-54
C5: OBRA : AMPLIAÇÃO DAS SALAS DE ATENDIMENTO DA EQUOTERAPIA
C6: Local: Campus Luiz Meneghel - CLM
C7: Data do orçamento: SETEMBRO/2024
C8: SINAPI_Custo_Ref_Composicoes_Analitico_PR_202407_Desonerado
C9: RESP. TÉCNICO: HENRIQUE FRANCIZ XIMENES DE ANDRADE BILBAO ENGENHEIRO CIVIL - CREA PR 160.587/D | F9: RESP. TÉCNICO: AMANDA ALVES DA SILVA - ARQUITETA E URBANISTA - CAU A 145.138-3
A11: COTAÇÕES
A13: COTAÇÃO.01 | B13: ACABAMENTO FRONTAL EM AÇO PARA TELHA TRAPEZOIDAL 30MM
A14: DESCRIÇÃO
B15: NOME PRODUTO | D15: CNPJ | E15: CONTATO | F15: VALOR UNITÁRIO | G15: VALOR MÉDIO
A16: EMPRESA 01 | B16: Acabamento Frontal em Aço para Isotelha Trapezoidal Telha Térmica Sanduíche 30mm - Pç. 1MT | D16: 00.289.348/0001-40 | E16: Lojas Kingspan | F16: 9.56 | G16: =AVERAGE(F16:F17) -> 4.78
A17: EMPRESA 02 | F17: 0

Sheet CRONOGRAMA
D3: UNIVERSIDADE ESTADUAL DO NORTE DO PARANÁ
D4: CNPJ: 08.885.100/0001-54
D5: OBRA : AMPLIAÇÃO DAS SALAS DE ATENDIMENTO DA EQUOTERAPIA
D6: Local: Campus Luiz Meneghel - CLM
D7: Data do orçamento: AGOSTO/2025
D8: SINAPI_Custo_Ref_Composicoes_Analitico_PR_202506_Desonerado
D9: RESP. TÉCNICO: HENRIQUE FRANCIZ XIMENES DE ANDRADE BILBAO ENGENHEIRO CIVIL - CREA PR 160.587/D | G9: RESP. TÉCNICO: AMANDA ALVES DA SILVA - ARQUITETA E URBANISTA - CAU A 145.138-3
E10: 1 | F10: 30 | G10: 2 | H10: =F10+30 -> 60 | I10: 3 | J10: =H10+30 -> 90 | K10: 3 | L10: =J10+30 -> 120 | M10: 4 | N10: =L10+30 -> 150 | O10: 4 | P10: =N10+30 -> 180 | Q10: 5 | R10: =P10+30 -> 210 | S10: 5 | T10: =R10+30 -> 240 | V10: 6 | W10: =T10+30 -> 270 | X10: 6 | Y10: =W10+30 -> 300 | Z10: 7 | AA10: =Y10+30 -> 330 | AB10: 7 | AC10: =AA10+30 -> 360 | AD10: 8 | AE10: =AC10+30 -> 390 | AF10: 8 | AG10: =AE10+30 -> 420 | AH10: 9 | AI10: =AG10+30 -> 450 | AJ10: 9 | AK10: =AI10+30 -> 480 | AL10: 10 | AM10: =AK10+30 -> 510 | AN10: 10 | AO10: =AM10+30 -> 540 | AP10: 11 | AQ10: =AO10+30 -> 570 | AR10: 11 | AS10: =AQ10+30 -> 600
A12: CRONOGRAMA FÍSICO- FINANCEIRO
B13: SERVIÇO/LOCAL | C13: Valores | D13: % | E13: 30 DIAS | G13: 60 DIAS | I13: 90 DIAS | K13: 120 DIAS | M13: 150 DIAS | O13: 180 DIAS | Q13: 210 DIAS | S13: 240 DIAS | V13: 270 DIAS | X13: 300 DIAS | Z13: 330 DIAS | AB13: 360 DIAS | AD13: 390 DIAS | AF13: 420 DIAS | AH13: 450 DIAS | AJ13: 480 DIAS | AL13: 510 DIAS | AN13: 540 DIAS | AP13: 570 DIAS | AR13: 600 DIAS
E14: % | F14: R$ | G14: % | H14: R$ | I14: % | J14: R$ | K14: % | L14: R$ | M14: % | N14: R$ | O14: % | P14: R$ | Q14: % | R14: R$ | S14: % | T14: R$ | V14: % | W14: R$ | X14: % | Y14: R$ | Z14: % | AA14: R$ | AB14: % | AC14: R$ | AD14: % | AE14: R$ | AF14: % | AG14: R$ | AH14: % | AI14: R$ | AJ14: % | AK14: R$ | AL14: % | AM14: R$ | AN14: % | AO14: R$ | AP14: % | AQ14: R$ | AR14: % | AS14: R$
A15: 1 | B15: =VLOOKUP(A15,ORÇAMENTO!$A$2:$M$312,2,FALSE()) -> ADMINISTRAÇÃO DA OBRA | C15: =VLOOKUP(A15,ORÇAMENTO!$A$2:$M$312,13,FALSE()) -> 6955.036 | D15: =C15/$C$37 -> 0.02195582 | E15: 0.15 | F15: =IF(E15>0,E15*$C15," ") -> 1043.2554 | G15: 0.14 | H15: =IF(G15>0,G15*$C15," ") -> 973.70504 | I15: 0.14 | J15: =IF(I15>0,I15*$C15," ") -> 973.70504 | K15: 0.14 | L15: =IF(K15>0,K15*$C15," ") -> 973.70504 | M15: 0.14 | N15: =IF(M15>0,M15*$C15," ") -> 973.70504 | O15: 0.14 | P15: =IF(O15>0,O15*$C15," ") -> 973.70504 | Q15: 0.15 | R15: =IF(Q15>0,Q15*$C15," ") -> 1043.2554 | S15: 0.05 | T15: =IF(S15>0,S15*$C15," ") -> 347.7518 | V15: 0.05 | W15: =IF(V15>0,V15*$C15," ") -> 347.7518 | X15: 0.05 | Y15: =IF(X15>0,X15*$C15," ") -> 347.7518 | Z15: 0.05 | AA15: =IF(Z15>0,Z15*$C15," ") -> 347.7518 | AB15: 0.05 | AC15: =IF(AB15>0,AB15*$C15," ") -> 347.7518 | AD15: 0.05 | AE15: =IF(AD15>0,AD15*$C15," ") -> 347.7518 | AF15: 0.05 | AG15: =IF(AF15>0,AF15*$C15," ") -> 347.7518 | AH15: 0.05 | AI15: =IF(AH15>0,AH15*$C15," ") -> 347.7518 | AJ15: 0.05 | AK15: =IF(AJ15>0,AJ15*$C15," ") -> 347.7518 | AL15: 0.05 | AM15: =IF(AL15>0,AL15*$C15," ") -> 347.7518 | AN15: 0.05 | AO15: =IF(AN15>0,AN15*$C15," ") -> 347.7518 | AP15: 0.05 | AQ15: =IF(AP15>0,AP15*$C15," ") -> 347.7518 | AR15: 0.05 | AS15: =IF(AR15>0,AR15*$C15," ") -> 347.7518 | AT15: =Q15+O15+M15+K15+I15+G15+E15 -> 1
A16: 2 | B16: =VLOOKUP(A16,ORÇAMENTO!$A$2:$M$312,2,FALSE()) -> CANTEIRO DE OBRAS | C16: =VLOOKUP(A16,ORÇAMENTO!$A$2:$M$312,13,FALSE()) -> 9910.7883 | D16: =C16/$C$37 -> 0.031286608 | E16: 0.55 | F16: =IF(E16>0,E16*$C16," ") -> 5450.9336 | G16: 0.45 | H16: =IF(G16>0,G16*$C16," ") -> 4459.8547 | I16: 0 | J16: =IF(I16>0,I16*$C16," ") | K16: 0 | L16: =IF(K16>0,K16*$C16," ") | M16: 0 | N16: =IF(M16>0,M16*$C16," ") | O16: 0 | P16: =IF(O16>0,O16*$C16," ") | Q16: 0 | R16: =IF(Q16>0,Q16*$C16," ") | T16: =IF(S16>0,S16*$C16," ") | W16: =IF(V16>0,V16*$C16," ") | Y16: =IF(X16>0,X16*$C16," ") | AA16: =IF(Z16>0,Z16*$C16," ") | AC16: =IF(AB16>0,AB16*$C16," ") | AE16: =IF(AD16>0,AD16*$C16," ") | AG16: =IF(AF16>0,AF16*$C16," ") | AI16: =IF(AH16>0,AH16*$C16," ") | AK16: =IF(AJ16>0,AJ16*$C16," ") | AM16: =IF(AL16>0,AL16*$C16," ") | AO16: =IF(AN16>0,AN16*$C16," ") | AQ16: =IF(AP16>0,AP16*$C16," ") | AS16: =IF(AR16>0,AR16*$C16," ") | AT16: =Q16+O16+M16+K16+I16+G16+E16 -> 1
A17: 3 | B17: =VLOOKUP(A17,ORÇAMENTO!$A$2:$M$312,2,FALSE()) -> TERRAPLANAGEM E SERVIÇOS PRELIMINARES | C17: =VLOOKUP(A17,ORÇAMENTO!$A$2:$M$312,13,FALSE()) -> 7492.5671 | D17: =C17/$C$37 -> 0.023652711 | E17: 0.65 | F17: =IF(E17>0,E17*$C17," ") -> 4870.1686 | G17: 0.35 | H17: =IF(G17>0,G17*$C17," ") -> 2622.3985 | I17: 0 | J17: =IF(I17>0,I17*$C17," ") | K17: 0 | L17: =IF(K17>0,K17*$C17," ") | M17: 0 | N17: =IF(M17>0,M17*$C17," ") | O17: 0 | P17: =IF(O17>0,O17*$C17," ") | Q17: 0 | R17: =IF(Q17>0,Q17*$C17," ") | AT17: =Q17+O17+M17+K17+I17+G17+E17 -> 1
A18: 4 | B18: =VLOOKUP(A18,ORÇAMENTO!$A$2:$M$312,2,FALSE()) -> FUNDAÇÃO E INFRAESTRUTURA | C18: =VLOOKUP(A18,ORÇAMENTO!$A$2:$M$312,13,FALSE()) -> 29211.197 | D18: =C18/$C$37 -> 0.09221459 | E18: 0.4 | F18: =IF(E18>0,E18*$C18," ") -> 11684.479 | G18: 0.3 | H18: =IF(G18>0,G18*$C18," ") -> 8763.3591 | I18: 0.3 | J18: =IF(I18>0,I18*$C18," ") -> 8763.3591 | K18: 0 | L18: =IF(K18>0,K18*$C18," ") | M18: 0 | N18: =IF(M18>0,M18*$C18," ") | O18: 0 | P18: =IF(O18>0,O18*$C18," ") | Q18: 0 | R18: =IF(Q18>0,Q18*$C18," ") | AT18: =Q18+O18+M18+K18+I18+G18+E18 -> 1
A19: 5 | B19: =VLOOKUP(A19,ORÇAMENTO!$A$2:$M$312,2,FALSE()) -> SUPERESTRUTURA | C19: =VLOOKUP(A19,ORÇAMENTO!$A$2:$M$312,13,FALSE()) -> 18685.093 | D19: =C19/$C$37 -> 0.058985539 | E19: 0.1 | F19: =IF(E19>0,E19*$C19," ") -> 1868.5093 | G19: 0.1 | H19: =IF(G19>0,G19*$C19," ") -> 1868.5093 | I19: 0.3 | J19: =IF(I19>0,I19*$C19," ") -> 5605.5279 | K19: 0.3 | L19: =IF(K19>0,K19*$C19," ") -> 5605.5279 | M19: 0.2 | N19: =IF(M19>0,M19*$C19," ") -> 3737.0186 | O19: 0 | P19: =IF(O19>0,O19*$C19," ") | Q19: 0 | R19: =IF(Q19>0,Q19*$C19," ") | AT19: =Q19+O19+M19+K19+I19+G19+E19 -> 1
A20: 6 | B20: =VLOOKUP(A20,ORÇAMENTO!$A$2:$M$312,2,FALSE()) -> COBERTURA | C20: =VLOOKUP(A20,ORÇAMENTO!$A$2:$M$312,13,FALSE()) -> 57643.128 | D20: =C20/$C$37 -> 0.18196917 | E20: 0 | F20: =IF(E20>0,E20*$C20," ") | G20: 0 | H20: =IF(G20>0,G20*$C20," ") | I20: 0 | J20: =IF(I20>0,I20*$C20," ") | K20: 0.15 | L20: =IF(K20>0,K20*$C20," ") -> 8646.4692 | M20: 0.25 | N20: =IF(M20>0,M20*$C20," ") -> 14410.782 | O20: 0.25 | P20: =IF(O20>0,O20*$C20," ") -> 14410.782 | Q20: 0.35 | R20: =IF(Q20>0,Q20*$C20," ") -> 20175.095 | AT20: =Q20+O20+M20+K20+I20+G20+E20 -> 1
A21: 7 | B21: =VLOOKUP(A21,ORÇAMENTO!$A$2:$M$312,2,FALSE()) -> ALVENARIA E OUTRAS VEDAÇÕES | C21: =VLOOKUP(A21,ORÇAMENTO!$A$2:$M$312,13,FALSE()) -> 45211.008 | D21: =C21/$C$37 -> 0.14272317 | E21: 0 | F21: =IF(E21>0,E21*$C21," ") | G21: 0.35 | H21: =IF(G21>0,G21*$C21," ") -> 15823.853 | I21: 0.35 | J21: =IF(I21>0,I21*$C21," ") -> 15823.853 | K21: 0.3 | L21: =IF(K21>0,K21*$C21," ") -> 13563.302 | M21: 0 | N21: =IF(M21>0,M21*$C21," ") | O21: 0 | P21: =IF(O21>0,O21*$C21," ") | Q21: 0 | R21: =IF(Q21>0,Q21*$C21," ") | AT21: =Q21+O21+M21+K21+I21+G21+E21 -> 1
A22: 8 | B22: =VLOOKUP(A22,ORÇAMENTO!$A$2:$M$312,2,FALSE()) -> INSTALAÇÕES HIDROSSANITÁRIAS | C22: =VLOOKUP(A22,ORÇAMENTO!$A$2:$M$312,13,FALSE()) -> 9950.6505 | D22: =C22/$C$37 -> 0.031412446 | E22: 0 | F22: =IF(E22>0,E22*$C22," ") | G22: 0.35 | H22: =IF(G22>0,G22*$C22," ") -> 3482.7277 | I22: 0.3 | J22: =IF(I22>0,I22*$C22," ") -> 2985.1952 | K22: 0.25 | L22: =IF(K22>0,K22*$C22," ") -> 2487.6626 | M22: 0.1 | N22: =IF(M22>0,M22*$C22," ") -> 995.06505 | O22: 0 | P22: =IF(O22>0,O22*$C22," ") | Q22: 0 | R22: =IF(Q22>0,Q22*$C22," ") | AT22: =Q22+O22+M22+K22+I22+G22+E22 -> 1
A23: 9 | B23: =VLOOKUP(A23,ORÇAMENTO!$A$2:$M$312,2,FALSE()) -> INSTALAÇÕES ELÉTRICAS | C23: =VLOOKUP(A23,ORÇAMENTO!$A$2:$M$312,13,FALSE()) -> 17004.735 | D23: =C23/$C$37 -> 0.053680945 | E23: 0 | F23: =IF(E23>0,E23*$C23," ") | G23: 0.15 | H23: =IF(G23>0,G23*$C23," ") -> 2550.7102 | I23: 0.2 | J23: =IF(I23>0,I23*$C23," ") -> 3400.947 | K23: 0.25 | L23: =IF(K23>0,K23*$C23," ") -> 4251.1837 | M23: 0.25 | N23: =IF(M23>0,M23*$C23," ") -> 4251.1837 | O23: 0.15 | P23: =IF(O23>0,O23*$C23," ") -> 2550.7102 | Q23: 0 | R23: =IF(Q23>0,Q23*$C23," ") | AT23: =Q23+O23+M23+K23+I23+G23+E23 -> 1
A24: 10 | B24: =VLOOKUP(A24,ORÇAMENTO!$A$2:$M$312,2,FALSE()) -> REMOÇÕES E DEMOLIÇÕES | C24: =VLOOKUP(A24,ORÇAMENTO!$A$2:$M$312,13,FALSE()) -> 232.18354 | D24: =C24/$C$37 -> 0.00073296242 | E24: 0 | F24: =IF(E24>0,E24*$C24," ") | G24: 0 | H24: =IF(G24>0,G24*$C24," ") | I24: 0 | J24: =IF(I24>0,I24*$C24," ") | K24: 1 | L24: =IF(K24>0,K24*$C24," ") -> 232.18354 | M24: 0 | N24: =IF(M24>0,M24*$C24," ") | O24: 0 | P24: =IF(O24>0,O24*$C24," ") | Q24: 0 | R24: =IF(Q24>0,Q24*$C24," ") | AT24: =Q24+O24+M24+K24+I24+G24+E24 -> 1
A25: 11 | B25: =VLOOKUP(A25,ORÇAMENTO!$A$2:$M$312,2,FALSE()) -> ESQUADRIAS | C25: =VLOOKUP(A25,ORÇAMENTO!$A$2:$M$312,13,FALSE()) -> 25903.67 | D25: =C25/$C$37 -> 0.081773311 | E25: 0 | F25: =IF(E25>0,E25*$C25," ") | G25: 0 | H25: =IF(G25>0,G25*$C25," ") | I25: 0 | J25: =IF(I25>0,I25*$C25," ") | K25: 0 | L25: =IF(K25>0,K25*$C25," ") | M25: 0.1 | N25: =IF(M25>0,M25*$C25," ") -> 2590.367 | O25: 0.45 | P25: =IF(O25>0,O25*$C25," ") -> 11656.651 | Q25: 0.45 | R25: =IF(Q25>0,Q25*$C25," ") -> 11656.651 | AT25: =Q25+O25+M25+K25+I25+G25+E25 -> 1
A26: 12 | B26: =VLOOKUP(A26,ORÇAMENTO!$A$2:$M$312,2,FALSE()) -> REVESTIMENTOS | C26: =VLOOKUP(A26,ORÇAMENTO!$A$2:$M$312,13,FALSE()) -> 19419.356 | D26: =C26/$C$37 -> 0.061303478 | E26: 0 | F26: =IF(E26>0,E26*$C26," ") | G26: 0.1 | H26: =IF(G26>0,G26*$C26," ") -> 1941.9356 | I26: 0.25 | J26: =IF(I26>0,I26*$C26," ") -> 4854.839 | K26: 0.2 | L26: =IF(K26>0,K26*$C26," ") -> 3883.8712 | M26: 0.2 | N26: =IF(M26>0,M26*$C26," ") -> 3883.8712 | O26: 0.2 | P26: =IF(O26>0,O26*$C26," ") -> 3883.8712 | Q26: 0.05 | R26: =IF(Q26>0,Q26*$C26," ") -> 970.96781 | AT26: =Q26+O26+M26+K26+I26+G26+E26 -> 1
A27: 13 | B27: =VLOOKUP(A27,ORÇAMENTO!$A$2:$M$312,2,FALSE()) -> PISOS | C27: =VLOOKUP(A27,ORÇAMENTO!$A$2:$M$312,13,FALSE()) -> 22421.298 | D27: =C27/$C$37 -> 0.070780079 | E27: 0 | F27: =IF(E27>0,E27*$C27," ") | G27: 0.15 | H27: =IF(G27>0,G27*$C27," ") -> 3363.1948 | I27: 0.25 | J27: =IF(I27>0,I27*$C27," ") -> 5605.3246 | K27: 0.2 | L27: =IF(K27>0,K27*$C27," ") -> 4484.2597 | M27: 0.3 | N27: =IF(M27>0,M27*$C27," ") -> 6726.3895 | O27: 0.1 | P27: =IF(O27>0,O27*$C27," ") -> 2242.1298 | Q27: 0 | R27: =IF(Q27>0,Q27*$C27," ") | AT27: =Q27+O27+M27+K27+I27+G27+E27 -> 1
A28: 14 | B28: =VLOOKUP(A28,ORÇAMENTO!$A$2:$M$312,2,FALSE()) -> FORRO E ACABAMENTOS | C28: =VLOOKUP(A28,ORÇAMENTO!$A$2:$M$312,13,FALSE()) -> 15516.644 | D28: =C28/$C$37 -> 0.048983306 | E28: 0 | F28: =IF(E28>0,E28*$C28," ") | G28: 0 | H28: =IF(G28>0,G28*$C28," ") | I28: 0 | J28: =IF(I28>0,I28*$C28," ") | K28: 0 | L28: =IF(K28>0,K28*$C28," ") | M28: 0.3 | N28: =IF(M28>0,M28*$C28," ") -> 4654.9933 | O28: 0.3 | P28: =IF(O28>0,O28*$C28," ") -> 4654.9933 | Q28: 0.4 | R28: =IF(Q28>0,Q28*$C28," ") -> 6206.6578 | AT28: =Q28+O28+M28+K28+I28+G28+E28 -> 1
... A33: 19 | B33: =VLOOKUP(A33,ORÇAMENTO!$A$2:$M$312,2,FALSE()) -> FINALIZAÇÕES | C33: =VLOOKUP(A33,ORÇAMENTO!$A$2:$M$312,13,FALSE()) -> 1399.3199 | D33: =C33/$C$37 -> 0.0044174059 | E33: 0 | F33: =IF(E33>0,E33*$C33," ") | G33: 0 | H33: =IF(G33>0,G33*$C33," ") | I33: 0 | J33: =IF(I33>0,I33*$C33," ") | K33: 0 | L33: =IF(K33>0,K33*$C33," ") | M33: 0.1 | N33: =IF(M33>0,M33*$C33," ") -> 139.93199 | O33: 0.3 | P33: =IF(O33>0,O33*$C33," ") -> 419.79598 | Q33: 0.6 | R33: =IF(Q33>0,Q33*$C33," ") -> 839.59197 | AT33: =Q33+O33+M33+K33+I33+G33+E33 -> 1
D35: =C35/$C$37 -> 0 | E35: 0 | F35: =IF(E35>0,E35*$C35," ") | G35: 0 | H35: =IF(G35>0,G35*$C35," ") | I35: 0 | J35: =IF(I35>0,I35*$C35," ") | K35: 0 | L35: =IF(K35>0,K35*$C35," ") | M35: 0 | N35: =IF(M35>0,M35*$C35," ") | O35: 0 | P35: =IF(O35>0,O35*$C35," ") | Q35: 0 | R35: =IF(Q35>0,Q35*$C35," ") | AT35: =Q35+O35+M35+K35+I35+G35+E35 -> 0
D36: =C36/$C$37 -> 0 | E36: 0 | F36: =IF(E36>0,E36*$C36," ") | G36: 0 | H36: =IF(G36>0,G36*$C36," ") | I36: 0 | J36: =IF(I36>0,I36*$C36," ") | K36: 0 | L36: =IF(K36>0,K36*$C36," ") | M36: 0 | N36: =IF(M36>0,M36*$C36," ") | O36: 0 | P36: =IF(O36>0,O36*$C36," ") | Q36: 0 | R36: =IF(Q36>0,Q36*$C36," ") | T36: =IF(S36>0,S36*$C36," ") | W36: =IF(V36>0,V36*$C36," ") | Y36: =IF(X36>0,X36*$C36," ") | AT36: =Q36+O36+M36+K36+I36+G36+E36 -> 0
B37: TOTAL | C37: =SUM(C15:C36) -> 316774.14 | D37: =C37/$C$37 -> 1 | F37: =IF(E37>0,E37*$C37," ") | H37: =IF(G37>0,G37*$C37," ") | J37: =IF(I37>0,I37*$C37," ") | L37: =IF(K37>0,K37*$C37," ") | N37: =IF(M37>0,M37*$C37," ") | P37: =IF(O37>0,O37*$C37," ") | R37: =IF(Q37>0,Q37*$C37," ") | T37: =IF(S37>0,S37*$C37," ") | W37: =IF(V37>0,V37*$C37," ") | Y37: =IF(X37>0,X37*$C37," ") | AA37: =IF(Z37>0,Z37*$C37," ") | AC37: =IF(AB37>0,AB37*$C37," ") | AE37: =IF(AD37>0,AD37*$C37," ") | AG37: =IF(AF37>0,AF37*$C37," ") | AI37: =IF(AH37>0,AH37*$C37," ") | AK37: =IF(AJ37>0,AJ37*$C37," ") | AM37: =IF(AL37>0,AL37*$C37," ") | AO37: =IF(AN37>0,AN37*$C37," ") | AQ37: =IF(AP37>0,AP37*$C37," ") | AS37: =IF(AR37>0,AR37*$C37," ")
B39: R$ parcial (valor período) | E39: =SUM(F15:F37) -> 24917.346 | G39: =SUM(H15:H37) -> 47236.351 | I39: =SUM(J15:J37) -> 49398.854 | K39: =SUM(L15:L37) -> 48020.541 | M39: =SUM(N15:N37) -> 49300.136 | O39: =SUM(P15:P37) -> 47718.365 | Q39: =SUM(R15:R37) -> 50182.544 | S39: =SUM(T15:T37) -> 347.7518 | V39: =SUM(W15:W37) -> 347.7518 | X39: =SUM(Y15:Y37) -> 347.7518 | Z39: =SUM(AA15:AA37) -> 347.7518 | AB39: =SUM(AC15:AC37) -> 347.7518 | AD39: =SUM(AE15:AE37) -> 347.7518 | AF39: =SUM(AG15:AG37) -> 347.7518 | AH39: =SUM(AI15:AI37) -> 347.7518 | AJ39: =SUM(AK15:AK37) -> 347.7518 | AL39: =SUM(AM15:AM37) -> 347.7518 | AN39: =SUM(AO15:AO37) -> 347.7518 | AP39: =SUM(AQ15:AQ37) -> 347.7518 | AR39: =SUM(AS15:AS37) -> 347.7518
B40: %_parcial (período) | E40: =SUM(E39/$C$37) -> 0.07865966 | G40: =SUM(G39/$C$37) -> 0.14911682 | I40: =SUM(I39/$C$37) -> 0.15594346 | K40: =SUM(K39/$C$37) -> 0.15159237 | M40: =SUM(M39/$C$37) -> 0.15563182 | O40: =SUM(O39/$C$37) -> 0.15063845 | Q40: =SUM(Q39/$C$37) -> 0.15841743 | S40: =SUM(S39/$C$37) -> 0.001097791 | V40: =SUM(V39/$C$37) -> 0.001097791 | X40: =SUM(X39/$C$37) -> 0.001097791 | Z40: =SUM(Z39/$C$37) -> 0.001097791 | AB40: =SUM(AB39/$C$37) -> 0.001097791 | AD40: =SUM(AD39/$C$37) -> 0.001097791 | AF40: =SUM(AF39/$C$37) -> 0.001097791 | AH40: =SUM(AH39/$C$37) -> 0.001097791 | AJ40: =SUM(AJ39/$C$37) -> 0.001097791 | AL40: =SUM(AL39/$C$37) -> 0.001097791 | AN40: =SUM(AN39/$C$37) -> 0.001097791 | AP40: =SUM(AP39/$C$37) -> 0.001097791 | AR40: =SUM(AR39/$C$37) -> 0.001097791
B41: R$_ acumulado | E41: =E39 -> 24917.346 | G41: =E41+G39 -> 72153.696 | I41: =G41+I39 -> 121552.55 | K41: =I41+K39 -> 169573.09 | M41: =K41+M39 -> 218873.23 | O41: =M41+O39 -> 266591.59 | Q41: =SUM(O41+Q39) -> 316774.14 | S41: =Q41+S39 -> 317121.89 | V41: =S41+V39 -> 317469.64 | X41: =V41+X39 -> 317817.39 | Z41: =X41+Z39 -> 318165.14 | AB41: =Z41+AB39 -> 318512.9 | AD41: =SUM(AB41+AD39) -> 318860.65 | AF41: =AD41+AF39 -> 319208.4 | AH41: =AF41+AH39 -> 319556.15 | AJ41: =AH41+AJ39 -> 319903.9 | AL41: =AJ41+AL39 -> 320251.65 | AN41: =AL41+AN39 -> 320599.41 | AP41: =SUM(AN41+AP39) -> 320947.16 | AR41: =AP41+AR39 -> 321294.91
B42: %_acumulado | E42: =E40 -> 0.07865966 | G42: =E42+G40 -> 0.22777648 | I42: =G42+I40 -> 0.38371993 | K42: =I42+K40 -> 0.5353123 | M42: =K42+M40 -> 0.69094412 | O42: =M42+O40 -> 0.84158257 | Q42: =O42+Q40 -> 1 | S42: =Q42+S40 -> 1.0010978 | V42: =S42+V40 -> 1.0021956 | X42: =V42+X40 -> 1.0032934 | Z42: =X42+Z40 -> 1.0043912 | AB42: =Z42+AB40 -> 1.005489 | AD42: =AB42+AD40 -> 1.0065867 | AF42: =AD42+AF40 -> 1.0076845 | AH42: =AF42+AH40 -> 1.0087823 | AJ42: =AH42+AJ40 -> 1.0098801 | AL42: =AJ42+AL40 -> 1.0109779 | AN42: =AL42+AN40 -> 1.0120757 | AP42: =AN42+AP40 -> 1.0131735 | AR42: =AP42+AR40 -> 1.0142713
A44: NOTAS:
A46: A. A ÚLTIMA PARCELA DEVE OBRIGATORIAMENTE SER MAIOR QUE 11%
A47: B. O PRAZO MÁXIMO PARA EXECUÇÃO É DE 210 DIAS

Sheet BDI
E3: UNIVERSIDADE ESTADUAL DO NORTE DO PARANÁ
E4: CNPJ: 08.885.100/0001-54
E5: OBRA : AMPLIAÇÃO DAS SALAS DE ATENDIMENTO DA EQUOTERAPIA
E6: Local: Campus Luiz Meneghel - CLM
E7: Data do orçamento: SETEMBRO/2024
E8: SINAPI_Custo_Ref_Composicoes_Analitico_PR_202407_Desonerado
E9: RESP. TÉCNICO: HENRIQUE FRANCIZ XIMENES DE ANDRADE BILBAO ENGENHEIRO CIVIL - CREA PR 160.587/D | H9: RESP. TÉCNICO: AMANDA ALVES DA SILVA - ARQUITETA E URBANISTA - CAU A 145.138-3
A11: COMPOSIÇÃO DO BDI
A12: CUSTO TOTAL DO SERVIÇO (R$)
A13: ITEM | B13: DISCRIMINAÇÃO | E13: VALOR | F13: TAXA (%) | G13: OBSERVAÇÃO | H13: SITUAÇÃO DO INTERVALO ADMISSÍVEL | I13: PARCELAS DO BDI (%)
I14: 1 QUARTIL | J14: MÉDIO | K14: 3 QUARTIL
A15: 1 | B15: AC – ADMINISTRAÇÃO CENTRAL | E15: - | F15: 0.03 | H15: =IF(AND(F15>=I15,F15<=K15),"OK","DIFERE") -> OK | I15: 0.03 | J15: 0.04 | K15: 0.055
A16: 2 | B16: SG – SEGUROS + GARANTIA | E16: - | F16: 0.008 | H16: =IF(AND(F16>=I16,F16<=K16),"OK","DIFERE") -> OK | I16: 0.008 | J16: 0.008 | K16: 0.01
A17: 3 | B17: R – RISCOS | E17: - | F17: 0.0097 | H17: =IF(AND(F17>=I17,F17<=K17),"OK","DIFERE") -> OK | I17: 0.0097 | J17: 0.0127 | K17: 0.0127
A18: 4 | B18: DF – DESPESAS FINANCEIRAS | E18: - | F18: 0.0059 | H18: =IF(AND(F18>=I18,F18<=K18),"OK","DIFERE") -> OK | I18: 0.0059 | J18: 0.0123 | K18: 0.0139
A19: 5 | B19: L – LUCRO BRUTO | E19: - | F19: 0.068 | H19: =IF(AND(F19>=I19,F19<=K19),"OK","DIFERE") -> OK | I19: 0.0616 | J19: 0.074 | K19: 0.0896
A20: 6 | B20: I – IMPOSTOS | E20: - | F20: =SUM(F21:F24) -> 0.1115 | G20: FÓRMULA DO BDI DE ACORDO COM ACÓRDÃO 2.369/2011-TCU- PLENÁRIO
A21: 43836 | B21: PIS | F21: 0.0065
A22: 43867 | B22: COFINS | F22: 0.03
A23: 43896 | B23: ISS (CONFORME LEGISLAÇÃO MUNICIPAL) | F23: 0.03
A24: 43927 | B24: CONTRIB. PREVIDÊNCIA SOBRE RECEITA BRUTA – CPRB | F24: 0.045
A26: TOTAL DO BDI (R$)
A27: PREÇO DE VENDA (R$) | G27: ONDE:
A28: BDI (%) | F28: =ROUND(((((1+(F15+F16+F17))*(1+F18)*(1+F19))/(1-F20))-1),4) -> 0.2668 | G28: AC : TAXA DE ADMINISTRAÇÃO CENTRAL
G29: S: TAXA DE SEGURO
A30: Parâmetros do Acórdão 2.622/2013 - Plenário | G30: G: TAXA DE GARANTIAS
A31: Sem CPRB | B31: 0.2034 | C31: 0.2212 | D31: 0.25 | G31: R: TAXA DE RISCOS
A32: Com CPRB | B32: 0.2601 | C32: 0.2787 | D32: 0.3089 | G32: DF: TAXA DE DESPESAS
G33: L: TAXA DE LUCRO
G34: I: TAXA DE INCIDÊNCIA DE IMPOSTOS (PIS, COFINS, ISS, CPRB)
A37: COMPOSIÇÃO DO BDI DIFERENCIADO
A38: CUSTO TOTAL DO SERVIÇO (R$)
A39: ITEM | B39: DISCRIMINAÇÃO | E39: VALOR | F39: TAXA (%) | G39: OBSERVAÇÃO | H39: SITUAÇÃO DO INTERVALO ADMISSÍVEL | I39: PARCELAS DO BDI (%)
I40: 1 QUARTIL | J40: MÉDIO | K40: 3 QUARTIL
A41: 1 | B41: AC – ADMINISTRAÇÃO CENTRAL | F41: 0.015 | H41: =IF(AND(F41>=I41,F41<=K41),"OK","DIFERE") -> OK | I41: 0.015 | J41: 0.0345 | K41: 0.0449
A42: 2 | B42: SG – SEGUROS + GARANTIA | F42: 0.003 | H42: =IF(AND(F42>=I42,F42<=K42),"OK","DIFERE") -> OK | I42: 0.003 | J42: 0.0048 | K42: 0.0082
A43: 3 | B43: R – RISCOS | F43: 0.0056 | H43: =IF(AND(F43>=I43,F43<=K43),"OK","DIFERE") -> OK | I43: 0.0056 | J43: 0.0085 | K43: 0.0089
A44: 4 | B44: DF – DESPESAS FINANCEIRAS | F44: 0.0085 | H44: =IF(AND(F44>=I44,F44<=K44),"OK","DIFERE") -> OK | I44: 0.0085 | J44: 0.0085 | K44: 0.0111
A45: 5 | B45: L – LUCRO BRUTO | F45: 0.0352 | H45: =IF(AND(F45>=I45,F45<=K45),"OK","DIFERE") -> OK | I45: 0.035 | J45: 0.0511 | K45: 0.0622
A46: 6 | B46: I – IMPOSTOS | F46: =SUM(F47:F50) -> 0.0815 | G46: FÓRMULA DO BDI DE ACORDO COM ACÓRDÃO 2.369/2011-TCU- PLENÁRIO
...

Sheet VALORES SINAPI
A1: Código da Composição | B1: Descrição | C1: Unidade | D1: M.O. | E1: MAT+EQ | F1: VALOR
A2: 104658 | B2: PISO PODOTÁTIL DE ALERTA OU DIRECIONAL, DE CONCRETO, ASSENTADO SOBRE ARGAMASSA. AF_03/2024 | C2: M2 | D2: 0.2722 | E2: =1-D2 -> 0.7278 | F2: 140.01
A3: 105002 | B3: RAMPA DE ACESSIBILIDADE EM CONCRETO MOLDADO IN LOCO, EM CALÇADA NOVA COM LARGURA MAIOR OU IGUAL À 3,00 M, FCK 25MPA, COM PISO PODOTÁTIL. AF_03/2024 | C3: UN | D3: 0.3838 | E3: =1-D3 -> 0.6162 | F3: 734.11
A4: 105004 | B4: RAMPA DE ACESSIBILIDADE EM CONCRETO MOLDADO IN LOCO, EM CALÇADA NOVA COM LARGURA MENOR À 3,00 M, FCK 25MPA, COM PISO PODOTÁTIL. AF_03/2024 | C4: M2 | D4: 0.3872 | E4: =1-D4 -> 0.6128 | F4: 125.9
A5: 105003 | B5: RAMPA DE ACESSIBILIDADE EM CONCRETO MOLDADO IN LOCO, EM CALÇADA PRÉ EXISTENTE COM LARGURA MAIOR OU IGUAL À 3,00 M, FCK 25MPA, COM PISO PODOTÁTIL. AF_03/2024 | C5: UN | D5: 0.4478 | E5: =1-D5 -> 0.5522 | F5: 1234.77
A6: 105005 | B6: RAMPA DE ACESSIBILIDADE EM CONCRETO MOLDADO IN LOCO, EM CALÇADA PRÉ EXISTENTE COM LARGURA MENOR À 3,00 M, FCK 25MPA, COM PISO PODOTÁTIL. AF_03/2024 | C6: M2 | D6: 0.4527 | E6: =1-D6 -> 0.5473 | F6: 218.59
A7: 105000 | B7: RAMPA DE ACESSIBILIDADE PARA ACESSO A EDIFICAÇÕES COM INCLINAÇÃO DE 8,33% EM CONCRETO MOLDADO IN LOCO, COM LARGURA DE 1,20M, FCK 25MPA, NÃO ARMADA, COM JUNTA A CADA 2M COM CORTE À SECO. AF_03/2024 | C7: M | D7: 0.3269 | E7: =1-D7 -> 0.6731 | F7: 1447.92
A8: 105001 | B8: RAMPA DE ACESSIBILIDADE PARA ACESSO A EDIFICAÇÕES COM INCLINAÇÃO DE 8,33% EM CONCRETO MOLDADO IN LOCO, COM LARGURA DE 1,50M, FCK 25MPA, NÃO ARMADA, COM JUNTA A CADA 2M COM CORTE À SECO. AF_03/2024 | C8: M | D8: 0.3238 | E8: =1-D8 -> 0.6762 | F8: 1476.38
A9: 89306 | B9: ALVENARIA ESTRUTURAL DE BLOCOS CERÂMICOS 14X19X29, (ESPESSURA DE 14 CM), UTILIZANDO COLHER DE PEDREIRO E ARGAMASSA DE ASSENTAMENTO COM PREPARO EM BETONEIRA. AF_03/2023 | C9: M2 | D9: 0.4101 | E9: =1-D9 -> 0.5899 | F9: 103.22
A10: 89307 | B10: ALVENARIA ESTRUTURAL DE BLOCOS CERÂMICOS 14X19X29, (ESPESSURA DE 14 CM), UTILIZANDO COLHER DE PEDREIRO E ARGAMASSA DE ASSENTAMENTO COM PREPARO MANUAL. AF_03/2023 | C10: M2 | D10: 0.4146 | E10: =1-D10 -> 0.5854 | F10: 105.83
A11: 89290 | B11: ALVENARIA ESTRUTURAL DE BLOCOS CERÂMICOS 14X19X29, (ESPESSURA DE 14 CM), UTILIZANDO PALHETA E ARGAMASSA DE ASSENTAMENTO COM PREPARO EM BETONEIRA. AF_03/2023 | C11: M2 | D11: 0.3605 | E11: =1-D11 -> 0.6395 | F11: 84.29
A12: 89291 | B12: ALVENARIA ESTRUTURAL DE BLOCOS CERÂMICOS 14X19X29, (ESPESSURA DE 14 CM), UTILIZANDO PALHETA E ARGAMASSA DE ASSENTAMENTO COM PREPARO MANUAL. AF_03/2023 | C12: M2 | D12: 0.3659 | E12: =1-D12 -> 0.6341 | F12: 86.23
A13: 89298 | B13: ALVENARIA ESTRUTURAL DE BLOCOS CERÂMICOS 14X19X39, (ESPESSURA DE 14 CM), UTILIZANDO COLHER DE PEDREIRO E ARGAMASSA DE ASSENTAMENTO COM PREPARO EM BETONEIRA. AF_03/2023 | C13: M2 | D13: 0.3575 | E13: =1-D13 -> 0.6425 | F13: 87.82
... A7840: 103017 | B7840: VÁLVULA DE RETENÇÃO, DE BRONZE, PÉ COM CRIVOS, ROSCÁVEL, 4" - FORNECIMENTO E INSTALAÇÃO. AF_08/2021 | C7840: UN | D7840: 0.0153 | E7840: =1-D7840 -> 0.9847 | F7840: 1028.43
