Workbook

Sheet ORÇAMENTO
D3: UNIVERSIDADE ESTADUAL DO NORTE DO PARANÁ
D4: CNPJ: 08.885.100/0001-54 | L4: BDI | M4: 0.2602
D5: OBRA: ADEQUAÇÕES NO HOSPITAL VETERINÁRIO - CLM
D6: Local: Campus Luiz Meneghel | L6: Total S/BDI | M6: =SUM(L20,L31,L52,L56,L74,L85,L89,L96,L101,L106,L126,L138,L142,L148,L157,L161,L172,L178) -> 225921.03
D7: Data do orçamento: MAIO/2025 | L7: Total c/BDI | M7: =SUM(M15,M20,M31,M52,M56,M74,M85,M89,M96,M101,M106,M126,M138,M142,M148,M157,M161,M172,M178,M188) -> 298855.53
D8: REFERÊNCIA DE PREÇOS : SINAPI_03/2025
D9: RESP.TÉCNICO: ARQ. AMANDA ALVES DA SILVA - CAU A145.438-3
A11: ITEM | B11: RESUMO | C11: CÓDIGO | D11: DESCRIÇÃO DOS SERVIÇOS | E11: UN | F11: QTD | G11: UNITÁRIO (SEM BDI) | J11: TOTAL (Valores sem BDI) | M11: VALOR TOTAL C/ BDI
G12: MATERIAL + EQ | H12: MÃO DE OBRA | I12: TOTAL | J12: MATERIAL | K12: MÃO DE OBRA | L12: TOTAL
B14: GERAL
A15: 1 | B15: SERVIÇOS PRELIMINARES GERAL | J15: =SUM(J16:J17) -> 3902.55 | K15: =SUM(K16:K17) -> 58.15 | L15: =SUM(L16:L17) -> 3960.7 | M15: =SUM(M16:M17) -> 4991.2741
A16: 1.1 | B16: CANTEIRO DE OBRA | C16: 105115 | D16: INSTALAÇÃO E DESINSTALAÇÃO MECANIZADA DE CONTÊINER OU MÓDULO HABITÁVEL DE USOS DIVERSOS. AF_03/2024 | E16: UN | F16: 1 | G16: 74.46 | H16: 58.15 | I16: =G16+H16 -> 132.61 | J16: =G16*F16 -> 74.46 | K16: =H16*F16 -> 58.15 | L16: =J16+K16 -> 132.61 | M16: =L16*(1+$M$4) -> 167.11512
A17: 1.2 | B17: CANTEIRO DE OBRA | C17: 10776 | D17: LOCACAO DE CONTAINER 2,30 X 6,00 M, ALT. 2,50 M, PARA ESCRITORIO, SEM DIVISORIAS INTERNAS E SEM SANITARIO (NAO INCLUI MOBILIZACAO/DESMOBILIZACAO) | E17: MÊS | F17: 7 | G17: 546.87 | H17: 0 | I17: =G17+H17 -> 546.87 | J17: =G17*F17 -> 3828.09 | K17: =H17*F17 -> 0 | L17: =J17+K17 -> 3828.09 | M17: =L17*(1+$M$4) -> 4824.159
B19: BANHEIROS
A20: 2 | B20: SERVIÇOS PRELIMINARES | J20: =SUM(J21:J30) -> 1168.1535 | K20: =SUM(K21:K30) -> 2650.596 | L20: =SUM(L21:L30) -> 3818.7495 | M20: =SUM(M21:M30) -> 4812.3881
A21: 2.1 | B21: DEMOLIÇÃO ALVENARIA | C21: 97622 | D21: DEMOLIÇÃO DE ALVENARIA DE BLOCO FURADO, DE FORMA MANUAL, SEM REAPROVEITAMENTO. AF_09/2023 | E21: M3 | F21: 45.7 | G21: 18.47 | H21: 41.47 | I21: =G21+H21 -> 59.94 | J21: =G21*F21 -> 844.079 | K21: =H21*F21 -> 1895.179 | L21: =J21+K21 -> 2739.258 | M21: =L21*(1+$M$4) -> 3452.0129
A22: 2.2 | B22: REMOÇÃO DE PORTAS - 10 UN | C22: 97644 | D22: REMOÇÃO DE PORTAS, DE FORMA MANUAL, SEM REAPROVEITAMENTO. AF_09/2023 | E22: M2 | F22: 16.15 | G22: 3.02 | H22: 7.09 | I22: =G22+H22 -> 10.11 | J22: =G22*F22 -> 48.773 | K22: =H22*F22 -> 114.5035 | L22: =J22+K22 -> 163.2765 | M22: =L22*(1+$M$4) -> 205.76105
A23: 2.3 | B23: REMOÇÃO DE LOUÇAS | C23: 97663 | D23: REMOÇÃO DE LOUÇAS, DE FORMA MANUAL, SEM REAPROVEITAMENTO. AF_09/2023 | E23: UN | F23: 12 | G23: 3.95 | H23: 9.42 | I23: =G23+H23 -> 13.37 | J23: =G23*F23 -> 47.4 | K23: =H23*F23 -> 113.04 | L23: =J23+K23 -> 160.44 | M23: =L23*(1+$M$4) -> 202.18649
A24: 2.4 | B24: DEMOLIÇÃO DE PISO E CONTRAPISO | C24: 97629 | D24: DEMOLIÇÃO DE LAJES, EM CONCRETO ARMADO, DE FORMA MECANIZADA COM MARTELETE, SEM REAPROVEITAMENTO. AF_09/2023 | E24: M3 | F24: 2 | G24: 26.93 | H24: 62.38 | I24: =G24+H24 -> 89.31 | J24: =G24*F24 -> 53.86 | K24: =H24*F24 -> 124.76 | L24: =J24+K24 -> 178.62 | M24: =L24*(1+$M$4) -> 225.09692
A25: 2.5 | B25: ABERTURA EM LAJE - EXAUSTOR | C25: 97629 | D25: DEMOLIÇÃO DE LAJES, EM CONCRETO ARMADO, DE FORMA MECANIZADA COM MARTELETE, SEM REAPROVEITAMENTO. AF_09/2023 | E25: M3 | F25: 0.1 | G25: 26.93 | H25: 62.38 | I25: =G25+H25 -> 89.31 | J25: =G25*F25 -> 2.693 | K25: =H25*F25 -> 6.238 | L25: =J25+K25 -> 8.931 | M25: =L25*(1+$M$4) -> 11.254846
A26: 2.6 | B26: REMOÇÃO DE REVESTIMENTOS - AZULEJOS | C26: 97634 | D26: DEMOLIÇÃO DE REVESTIMENTO CERÂMICO, DE FORMA MECANIZADA COM MARTELETE, SEM REAPROVEITAMENTO. AF_09/2023 | E26: M2 | F26: 62.05 | G26: 2.17 | H26: 5.01 | I26: =G26+H26 -> 7.18 | J26: =G26*F26 -> 134.6485 | K26: =H26*F26 -> 310.8705 | L26: =J26+K26 -> 445.519 | M26: =L26*(1+$M$4) -> 561.44304
A27: 2.7 | B27: REMOÇÃO DE TUBULAÇÕES | C27: 97662/ ADAPTADO | D27: (ADAPTADO PARA REMOÇÃO DE TODAS) REMOÇÃO DE TUBULAÇÕES (TUBOS E CONEXÕES) DE ÁGUA FRIA, DE FORMA MANUAL, SEM REAPROVEITAMENTO. AF_09/2023 | E27: M | F27: 50.5 | G27: 0.16 | H27: 0.37 | I27: =G27+H27 -> 0.53 | J27: =G27*F27 -> 8.08 | K27: =H27*F27 -> 18.685 | L27: =J27+K27 -> 26.765 | M27: =L27*(1+$M$4) -> 33.729253
A28: 2.8 | B28: REMOÇÃO DE LUMINÁRIAS | C28: 97665 | D28: REMOÇÃO DE LUMINÁRIAS, DE FORMA MANUAL, SEM REAPROVEITAMENTO. AF_09/2023 | E28: UN | F28: 4 | G28: 0.57 | H28: 1.34 | I28: =G28+H28 -> 1.91 | J28: =G28*F28 -> 2.28 | K28: =H28*F28 -> 5.36 | L28: =J28+K28 -> 7.64 | M28: =L28*(1+$M$4) -> 9.627928
A29: 2.9 | B29: REMOÇÃO DE INTERRUPTORES | C29: 97660 | D29: REMOÇÃO DE INTERRUPTORES/TOMADAS ELÉTRICAS, DE FORMA MANUAL, SEM REAPROVEITAMENTO. AF_09/2023 | E29: UN | F29: 4 | G29: 0.21 | H29: 0.49 | I29: =G29+H29 -> 0.7 | J29: =G29*F29 -> 0.84 | K29: =H29*F29 -> 1.96 | L29: =J29+K29 -> 2.8 | M29: =L29*(1+$M$4) -> 3.52856
A30: 2.10 | B30: REMOÇÃO DE CABOS ELÉTRICOS EXISTENTES | C30: 104793 | D30: REMOÇÃO DE CABOS ELÉTRICOS, COM SEÇÃO MAIOR QUE 2,5 MM² E MENOR QUE 10 MM², DE FORMA MANUAL, SEM REAPROVEITAMENTO. AF_09/2023 | E30: UN | F30: 150 | G30: 0.17 | H30: 0.4 | I30: =G30+H30 -> 0.57 | J30: =G30*F30 -> 25.5 | K30: =H30*F30 -> 60 | L30: =J30+K30 -> 85.5 | M30: =L30*(1+$M$4) -> 107.7471
A31: 3 | B31: FUNDAÇÃO, INFRAESTRUTURA E SUPERESTRUTURA | J31: =SUM(J32:J51) -> 4333.9314 | K31: =SUM(K32:K51) -> 1681.5079 | L31: =SUM(L32:L51) -> 6015.4393 | M31: =SUM(M32:M51) -> 7580.6566
A32: 3.1 | B32: ESTACAS H= 2,5M - 3UN | C32: 101174 | D32: ESTACA BROCA DE CONCRETO, DIÂMETRO DE 25CM, ESCAVAÇÃO MANUAL COM TRADO CONCHA, COM ARMADURA DE ARRANQUE. AF_05/2020 | E32: M | F32: 7.5 | G32: 60.32 | H32: 52.45 | I32: =G32+H32 -> 112.77 | J32: =G32*F32 -> 452.4 | K32: =H32*F32 -> 393.375 | L32: =J32+K32 -> 845.775 | M32: =L32*(1+$M$4) -> 1065.8457
A33: 3.2 | B33: ESTACAS - CONCRETO | C33: 94965 | D33: CONCRETO FCK = 25MPA, TRAÇO 1:2,3:2,7 (EM MASSA SECA DE CIMENTO/ AREIA MÉDIA/ BRITA 1) - PREPARO MECÂNICO COM BETONEIRA 400 L. AF_05/2021 | E33: M3 | F33: 0.35 | G33: 724.34 | H33: 141.99 | I33: =G33+H33 -> 866.33 | J33: =G33*F33 -> 253.519 | K33: =H33*F33 -> 49.6965 | L33: =J33+K33 -> 303.2155 | M33: =L33*(1+$M$4) -> 382.11217
A34: 3.3 | B34: BLOCO 55X55X40 CM - ESCAVAÇÃO | C34: 93358 | D34: ESCAVAÇÃO MANUAL DE VALA COM PROFUNDIDADE MENOR OU IGUAL A 1,30 M. AF_02/2021 | E34: M3 | F34: 0.4 | G34: 28.61 | H34: 60.75 | I34: =G34+H34 -> 89.36 | J34: =G34*F34 -> 11.444 | K34: =H34*F34 -> 24.3 | L34: =J34+K34 -> 35.744 | M34: =L34*(1+$M$4) -> 45.044589
A35: 3.4 | B35: BLOCO - FÔRMA | C35: 96534 | D35: FABRICAÇÃO, MONTAGEM E DESMONTAGEM DE FÔRMA PARA BLOCO DE COROAMENTO, EM MADEIRA SERRADA, E=25 MM, 4 UTILIZAÇÕES. AF_01/2024 | E35: M2 | F35: 1.1 | G35: 32.78 | H35: 41.53 | I35: =G35+H35 -> 74.31 | J35: =G35*F35 -> 36.058 | K35: =H35*F35 -> 45.683 | L35: =J35+K35 -> 81.741 | M35: =L35*(1+$M$4) -> 103.01001
A36: 3.5 | B36: BLOCO - LASTRO COM MATERIAL GRANULAR | C36: 96624 | D36: LASTRO COM MATERIAL GRANULAR (PEDRA BRITADA N.2), APLICADO EM PISOS OU LAJES SOBRE SOLO, ESPESSURA DE *10 CM*. AF_01/2024 | E36: M3 | F36: 0.1 | G36: 342.57 | H36: 194.29 | I36: =G36+H36 -> 536.86 | J36: =G36*F36 -> 34.257 | K36: =H36*F36 -> 19.429 | L36: =J36+K36 -> 53.686 | M36: =L36*(1+$M$4) -> 67.655097
A37: 3.6 | B37: BLOCO - ARMAÇÃO | C37: 96546 | D37: ARMAÇÃO DE BLOCO UTILIZANDO AÇO CA-50 DE 10 MM - MONTAGEM. AF_01/2024 | E37: KG | F37: 26.5 | G37: 12.51 | H37: 4.84 | I37: =G37+H37 -> 17.35 | J37: =G37*F37 -> 331.515 | K37: =H37*F37 -> 128.26 | L37: =J37+K37 -> 459.775 | M37: =L37*(1+$M$4) -> 579.40846
A38: 3.7 | B38: BLOCO - CONCRETO | C38: 94965 | D38: CONCRETO FCK = 25MPA, TRAÇO 1:2,3:2,7 (EM MASSA SECA DE CIMENTO/ AREIA MÉDIA/ BRITA 1) - PREPARO MECÂNICO COM BETONEIRA 400 L. AF_05/2021 | E38: M3 | F38: 0.6 | G38: 724.34 | H38: 141.99 | I38: =G38+H38 -> 866.33 | J38: =G38*F38 -> 434.604 | K38: =H38*F38 -> 85.194 | L38: =J38+K38 -> 519.798 | M38: =L38*(1+$M$4) -> 655.04944
A39: 3.8 | B39: BALDRAMES 15X30 CM - ESCAVAÇÃO | C39: 93358 | D39: ESCAVAÇÃO MANUAL DE VALA COM PROFUNDIDADE MENOR OU IGUAL A 1,30 M. AF_02/2021 | E39: M3 | F39: 0.4 | G39: 28.61 | H39: 60.75 | I39: =G39+H39 -> 89.36 | J39: =G39*F39 -> 11.444 | K39: =H39*F39 -> 24.3 | L39: =J39+K39 -> 35.744 | M39: =L39*(1+$M$4) -> 45.044589
A40: 3.9 | B40: BALDRAMES - FÔRMA | C40: 96536 | D40: FABRICAÇÃO, MONTAGEM E DESMONTAGEM DE FÔRMA PARA VIGA BALDRAME, EM MADEIRA SERRADA, E=25 MM, 4 UTILIZAÇÕES. AF_06/2017 | E40: M2 | F40: 3 | G40: 29.61 | H40: 34.55 | I40: =G40+H40 -> 64.16 | J40: =G40*F40 -> 88.83 | K40: =H40*F40 -> 103.65 | L40: =J40+K40 -> 192.48 | M40: =L40*(1+$M$4) -> 242.5633
A41: 3.10 | B41: BALDRAMES - LASTRO COM MATERIAL GRANULAR | C41: 96624 | D41: LASTRO COM MATERIAL GRANULAR (PEDRA BRITADA N.2), APLICADO EM PISOS OU LAJES SOBRE SOLO, ESPESSURA DE *10 CM*. AF_01/2024 | E41: M3 | F41: 0.1 | G41: 342.57 | H41: 194.29 | I41: =G41+H41 -> 536.86 | J41: =G41*F41 -> 34.257 | K41: =H41*F41 -> 19.429 | L41: =J41+K41 -> 53.686 | M41: =L41*(1+$M$4) -> 67.655097
A42: 3.11 | B42: BALDRAMES - ARMAÇÃO | C42: 92762 | D42: ARMAÇÃO DE PILAR OU VIGA DE ESTRUTURA CONVENCIONAL DE CONCRETO ARMADO UTILIZANDO AÇO CA-50 DE 10,0 MM - MONTAGEM. AF_06/2022 | E42: KG | F42: 13.4 | G42: 12.45 | H42: 1.78 | I42: =G42+H42 -> 14.23 | J42: =G42*F42 -> 166.83 | K42: =H42*F42 -> 23.852 | L42: =J42+K42 -> 190.682 | M42: =L42*(1+$M$4) -> 240.29746
A43: 3.12 | B43: BALDRAMES - CONCRETO | C43: 94965 | D43: CONCRETO FCK = 25MPA, TRAÇO 1:2,3:2,7 (EM MASSA SECA DE CIMENTO/ AREIA MÉDIA/ BRITA 1) - PREPARO MECÂNICO COM BETONEIRA 400 L. AF_05/2021 | E43: M3 | F43: 0.25 | G43: 724.34 | H43: 141.99 | I43: =G43+H43 -> 866.33 | J43: =G43*F43 -> 181.085 | K43: =H43*F43 -> 35.4975 | L43: =J43+K43 -> 216.5825 | M43: =L43*(1+$M$4) -> 272.93727
... A51: 3.20 | B51: VERGAS | C51: 105023 | D51: VERGA MOLDADA IN LOCO EM CONCRETO, ESPESSURA DE *15* CM. AF_03/2024 | E51: M | F51: 5.2 | G51: 49.12 | H51: 26.43 | I51: =G51+H51 -> 75.55 | J51: =G51*F51 -> 255.424 | K51: =H51*F51 -> 137.436 | L51: =J51+K51 -> 392.86 | M51: =L51*(1+$M$4) -> 495.08217
A52: 4 | B52: ALVENARIA E OUTRAS VEDAÇÕES | J52: =SUM(J53:J55) -> 15489.407 | K52: =SUM(K53:K55) -> 3637.246 | L52: =SUM(L53:L55) -> 19126.653 | M52: =SUM(M53:M55) -> 24103.408
...

Sheet ESCOLHA DO PISO
L4: BDI | M4: 0.2602
B5: CERÂMICO + RODAPÉ RETO - NÃO INDICADO
B6: REVESTIMENTO CERÂMICO - PISO | C6: 87257 | D6: REVESTIMENTO CERÂMICO PARA PISO COM PLACAS TIPO ESMALTADA EXTRA DE DIMENSÕES 60X60 CM APLICADA EM AMBIENTES DE ÁREA MAIOR QUE 10 M2. AF_06/2014 | E6: M2 | F6: 654 | G6: 65.13 | H6: 12.15 | I6: =G6+H6 -> 77.28 | J6: =G6*F6 -> 42595.02 | K6: =H6*F6 -> 7946.1 | L6: =J6+K6 -> 50541.12 | M6: =L6*(1+$M$4) -> 63691.919 | N6: =SUM(M6:M7) -> 73921.704
B7: RODAPÉ CERÂMICO | C7: 88650 | D7: RODAPÉ CERÂMICO DE 7CM DE ALTURA COM PLACAS TIPO ESMALTADA DE DIMENSÕES 60X60CM. AF_02/2023 | E7: M | F7: 574.9 | G7: 10.82 | H7: 3.3 | I7: =G7+H7 -> 14.12 | J7: =G7*F7 -> 6220.418 | K7: =H7*F7 -> 1897.17 | L7: =J7+K7 -> 8117.588 | M7: =L7*(1+$M$4) -> 10229.784
B10: CERÂMICO + RODAPÉ CURVO PVC
B11: REVESTIMENTO CERÂMICO - PISO | C11: 87257 | D11: REVESTIMENTO CERÂMICO PARA PISO COM PLACAS TIPO ESMALTADA EXTRA DE DIMENSÕES 60X60 CM APLICADA EM AMBIENTES DE ÁREA MAIOR QUE 10 M2. AF_06/2014 | E11: M2 | F11: 654 | G11: 65.13 | H11: 12.15 | I11: =G11+H11 -> 77.28 | J11: =G11*F11 -> 42595.02 | K11: =H11*F11 -> 7946.1 | L11: =J11+K11 -> 50541.12 | M11: =L11*(1+$M$4) -> 63691.919 | N11: =SUM(M11:M12) -> 158994.51
B12: RODAPÉ SOBREPOR ABAULADO- PVC | C12: COMP. | D12: RODAPÉ HOSPITALAR ABAULADO, PVC 10CM | E12: M | F12: 574.9 | G12: 85.837308 | H12: 45.707256 | I12: =G12+H12 -> 131.54456 | J12: =G12*F12 -> 49347.868 | K12: =H12*F12 -> 26277.101 | L12: =J12+K12 -> 75624.97 | M12: =L12*(1+$M$4) -> 95302.587
B15: GRANILITE + RODAPÉ GRANILITE CURVO
B16: REVESTIMENTO GRANILITE - PISO | C16: COMP.04 | D16: PISO GRANILITE COM ACABAMENTO RESINADO | E16: M2 | F16: 654 | G16: 49.3285 | H16: 28.5853 | I16: =G16+H16 -> 77.9138 | J16: =G16*F16 -> 32260.839 | K16: =H16*F16 -> 18694.786 | L16: =J16+K16 -> 50955.625 | M16: =L16*(1+$M$4) -> 64214.279 | N16: =SUM(M16:M17) -> 83724.767
B17: RODAPÉ EMBUTIDO ABAULADO - GRANILITE | C17: 101741/ ADAPT | D17: [ADAPTADO PARA GRANILITE] RODAPÉ EM MARMORITE, ALTURA 10CM. AF_09/2020 | E17: M | F17: 574.9 | G17: 8.72 | H17: 18.21 | I17: =G17+H17 -> 26.93 | J17: =G17*F17 -> 5013.128 | K17: =H17*F17 -> 10468.929 | L17: =J17+K17 -> 15482.057 | M17: =L17*(1+$M$4) -> 19510.488

Sheet COMPOSIÇÃO
D3: UNIVERSIDADE ESTADUAL DO NORTE DO PARANÁ
D4: CNPJ: 08.885.100/0001-54
D5: OBRA: ADEQUAÇÕES NO HOSPITAL VETERINÁRIO - CLM
D6: Local: Campus Luiz Meneghel
D7: Data do orçamento: MAIO/2025
D8: REFERÊNCIA DE PREÇOS : SINAPI_03/2025
D9: RESP.TÉCNICO: ARQ. AMANDA ALVES DA SILVA - CAU A145.438-3
A11: COMPOSIÇÕES UENP - BASE SINAPI
A13: 01 | B13: KIT DE PORTA-PRONTA DE MADEIRA EM ACABAMENTO MELAMÍNICO BRANCO, FOLHA LEVE OU MÉDIA, E BATENTE METÁLICO, 90X210CM, COM REVESTIMENTO RESISTENTE A IMPACTOS (90X40CM) E BARRA PNE, FIXAÇÃO COM ARGAMASSA - FORNECIMENTO E INSTALAÇÃO.
A14: DESC. | B14: PORTA PARA O BANHEIRO PNE - P03 (VER PROJETO). | F14: BASEADO SINAPI | G14: 90797 | H14: UNIDADE | I14: UN
B15: COD | D15: UN | E15: QTD | F15: VALOR MAT+EQ | G15: VALOR M.O | H15: VALOR UN | I15: VT MAT+EQ | J15: VT M.O | K15: VT
A16: INSUMO | B16: 39485 | C16: KIT PORTA PRONTA DE MADEIRA, FOLHA LEVE (NBR 15930) DE 900 X 2100 MM, DE 35 MM A 40 MM DE ESPESSURA, COM MARCO EM ACO, NUCLEO COLMEIA, CAPA LISA EM HDF, ACABAMENTO MELAMINICO BRANCO (INCLUI MARCO, ALIZARES, DOBRADICAS E FECHADURA) | D16: UN | E16: 1 | F16: 718.33 | G16: 0 | H16: =F16+G16 -> 718.33 | I16: =F16*E16 -> 718.33 | J16: =G16*E16 -> 0 | K16: =I16+J16 -> 718.33
A17: COMPOSIÇÃO | B17: 88261 | C17: CARPINTEIRO DE ESQUADRIA COM ENCARGOS COMPLEMENTARES | D17: H | E17: 0.33 | F17: 7.16 | G17: 20.44 | H17: =F17+G17 -> 27.6 | I17: =F17*E17 -> 2.3628 | J17: =G17*E17 -> 6.7452 | K17: =I17+J17 -> 9.108
A18: COMPOSIÇÃO | B18: 88309 | C18: PEDREIRO COM ENCARGOS COMPLEMENTARES | D18: H | E18: 2.02 | F18: 7.34 | G18: 21.87 | H18: =F18+G18 -> 29.21 | I18: =F18*E18 -> 14.8268 | J18: =G18*E18 -> 44.1774 | K18: =I18+J18 -> 59.0042
A19: COMPOSIÇÃO | B19: 88316 | C19: SERVENTE COM ENCARGOS COMPLEMENTARES | D19: H | E19: 1.5 | F19: 7.23 | G19: 15.36 | H19: =F19+G19 -> 22.59 | I19: =F19*E19 -> 10.845 | J19: =G19*E19 -> 23.04 | K19: =I19+J19 -> 33.885
A20: COMPOSIÇÃO | B20: 88629 | C20: ARGAMASSA TRAÇO 1:3 (EM VOLUME DE CIMENTO E AREIA MÉDIA ÚMIDA), PREPARO MANUAL. AF_08/2019 | D20: M3 | E20: 0.02 | F20: 716.14 | G20: 218.16 | H20: =F20+G20 -> 934.3 | I20: =F20*E20 -> 14.3228 | J20: =G20*E20 -> 4.3632 | K20: =I20+J20 -> 18.686
A21: COMPOSIÇÃO | B21: 100870 ADAPTADO | C21: (ADAPTADO PARA BARRA DE 40CM) BARRA DE APOIO RETA, EM ALUMINIO, COMPRIMENTO 60 CM, FIXADA NA PAREDE - FORNECIMENTO E INSTALAÇÃO. AF_01/2020 | D21: UN | E21: 1 | F21: 268.47 | G21: 36.16 | H21: =F21+G21 -> 304.63 | I21: =F21*E21 -> 268.47 | J21: =G21*E21 -> 36.16 | K21: =I21+J21 -> 304.63
A22: INSUMO | B22: 12759 | C22: CHAPA ACO INOX AISI 304 NUMERO 9 (E = 4 MM), ACABAMENTO NUMERO 1 (LAMINADO A QUENTE, FOSCO) | D22: M2 | E22: 0.36 | F22: 1162.59 | G22: 0 | H22: =F22+G22 -> 1162.59 | I22: =F22*E22 -> 418.5324 | J22: =G22*E22 -> 0 | K22: =I22+J22 -> 418.5324
A23: INSUMO | B23: 4791 | C23: ADESIVO ACRILICO DE BASE AQUOSA / COLA DE CONTATO | D23: KG | E23: 0.01 | F23: 38.04 | G23: 0 | H23: =F23+G23 -> 38.04 | I23: =F23*E23 -> 0.3804 | J23: =G23*E23 -> 0 | K23: =I23+J23 -> 0.3804
I24: =SUM(I16:I23) -> 1448.0702 | J24: =SUM(J16:J23) -> 114.4858 | K24: =SUM(K16:K23) -> 1562.556
A26: 02 | B26: TOALHEIRO PLASTICO TIPO DISPENSER PARA PAPEL TOALHA INTERFOLHADO
A27: DESC. | F27: BASEADO SINAPI | H27: UNIDADE | I27: UN
B28: COD | D28: UN | E28: QTD | F28: VALOR MAT+EQ | G28: VALOR M.O | H28: VALOR UN | I28: VT MAT+EQ | J28: VT M.O | K28: VT
A29: INSUMO | B29: 37401 | C29: TOALHEIRO PLASTICO TIPO DISPENSER PARA PAPEL TOALHA INTERFOLHADO | D29: UN | E29: 1 | F29: 41.52 | G29: 0 | H29: =F29+G29 -> 41.52 | I29: =F29*E29 -> 41.52 | J29: =G29*E29 -> 0 | K29: =I29+J29 -> 41.52
A30: COMPOSIÇÃO | B30: 88267 | C30: ENCANADOR OU BOMBEIRO HIDRÁULICO COM ENCARGOS COMPLEMENTARES | D30: H | E30: 0.3162 | F30: 6.8 | G30: 21.69 | H30: =F30+G30 -> 28.49 | I30: =F30*E30 -> 2.15016 | J30: =G30*E30 -> 6.858378 | K30: =I30+J30 -> 9.008538
A31: COMPOSIÇÃO | B31: 88316 | C31: SERVENTE COM ENCARGOS COMPLEMENTARES | D31: H | E31: 0.0996 | F31: 7.23 | G31: 15.36 | H31: =F31+G31 -> 22.59 | I31: =F31*E31 -> 0.720108 | J31: =G31*E31 -> 1.529856 | K31: =I31+J31 -> 2.249964
I32: =SUM(I29:I31) -> 44.390268 | J32: =SUM(J29:J31) -> 8.388234 | K32: =SUM(K29:K31) -> 52.778502
A34: 03 | B34: PAPELEIRA PLASTICA TIPO DISPENSER PARA PAPEL HIGIENICO ROLAO
A35: DESC. | F35: BASEADO SINAPI | H35: UNIDADE | I35: UN
B36: COD | D36: UN | E36: QTD | F36: VALOR MAT+EQ | G36: VALOR M.O | H36: VALOR UN | I36: VT MAT+EQ | J36: VT M.O | K36: VT
A37: INSUMO | B37: 37400 | C37: PAPELEIRA PLASTICA TIPO DISPENSER PARA PAPEL HIGIENICO ROLAO | D37: UN | E37: 1 | F37: 41.52 | G37: 0 | H37: =F37+G37 -> 41.52 | I37: =F37*E37 -> 41.52 | J37: =G37*E37 -> 0 | K37: =I37+J37 -> 41.52
A38: COMPOSIÇÃO | B38: 88267 | C38: ENCANADOR OU BOMBEIRO HIDRÁULICO COM ENCARGOS COMPLEMENTARES | D38: H | E38: 0.3162 | F38: 6.8 | G38: 21.69 | H38: =F38+G38 -> 28.49 | I38: =F38*E38 -> 2.15016 | J38: =G38*E38 -> 6.858378 | K38: =I38+J38 -> 9.008538
A39: COMPOSIÇÃO | B39: 88316 | C39: SERVENTE COM ENCARGOS COMPLEMENTARES | D39: H | E39: 0.0996 | F39: 7.23 | G39: 15.36 | H39: =F39+G39 -> 22.59 | I39: =F39*E39 -> 0.720108 | J39: =G39*E39 -> 1.529856 | K39: =I39+J39 -> 2.249964
I40: =SUM(I37:I39) -> 44.390268 | J40: =SUM(J37:J39) -> 8.388234 | K40: =SUM(K37:K39) -> 52.778502
A42: 04 | B42: PISO EM GRANILITE COM ACABAMENTO RESINADO
A43: DESC. | B43: PISO EM GRANILITE COM JUNTAS DE DILATAÇÃO A CADA 1,5M, ACABAMENTO LISO E RESINADO | F43: BASEADO SINAPI | H43: UNIDADE | I43: UN
B44: COD | D44: UN | E44: QTD | F44: VALOR MAT+EQ | G44: VALOR M.O | H44: VALOR UN | I44: VT MAT+EQ | J44: VT M.O | K44: VT
A45: INSUMO | B45: 3671 | C45: JUNTA PLASTICA DE DILATACAO PARA PISOS, COR CINZA, 17 X 3 MM (ALTURA X ESPESSURA) | D45: M | E45: 1.67 | F45: 3 | G45: 0 | H45: =F45+G45 -> 3 | I45: =F45*E45 -> 5.01 | J45: =G45*E45 -> 0 | K45: =I45+J45 -> 5.01
A46: INSUMO | B46: 4824 | C46: GRANILHA/ GRANA/ PEDRISCO OU AGREGADO EM MARMORE/ GRANITO/ QUARTZO E CALCARIO, PRETO, CINZA, PALHA OU BRANCO | D46: KG | E46: 23.24 | F46: 0.61 | G46: 0 | H46: =F46+G46 -> 0.61 | I46: =F46*E46 -> 14.1764 | J46: =G46*E46 -> 0 | K46: =I46+J46 -> 14.1764
A47: COMPOSIÇÃO | B47: 87298 | C47: ARGAMASSA TRAÇO 1:3 (EM VOLUME DE CIMENTO E AREIA MÉDIA ÚMIDA) PARA CONTRAPISO, PREPARO MECÂNICO COM BETONEIRA 400 L. AF_08/2019 | D47: M3 | E47: 0.02 | F47: 818.79 | G47: 151.34 | H47: =F47+G47 -> 970.13 | I47: =F47*E47 -> 16.3758 | J47: =G47*E47 -> 3.0268 | K47: =I47+J47 -> 19.4026
...

Sheet ORÇAMENTO SINTETICO
D3: UNIVERSIDADE ESTADUAL DO NORTE DO PARANÁ
D4: CNPJ: 08.885.100/0001-54 | L4: BDI | M4: 0.2602
D5: OBRA: REFORMA NO HOSPITAL VETERINÁRIO - CLM
D6: Local: Campus Luiz Meneghel | L6: Total S/BDI | M6: =SUM(L14,L70,L81,L92,L103,L133,L162,L173,L184,L195,L211,L222,L234,L245,L269,L280,L291,L302,L313,L324,L399,L410,L415) -> #REF!
D7: Data do orçamento: SETEMBRO/2023 | L7: Total c/BDI | M7: =SUM(N14:N418) -> #REF!
D8: REFERÊNCIA DE PREÇOS : SINAPI_Custo_Ref_Composicoes_Analitico_PR_202308_Desonerado EMISSÃO 15/09/2023
D9: RESP.TÉCNICO: ENG.CIVIL FELIPE SCALA FRÂNCICA - CREA SP 5069900657
A11: ITEM | B11: RESUMO | C11: CÓDIGO | D11: DESCRIÇÃO DOS SERVIÇOS | E11: UN | F11: QTD | G11: UNITÁRIO (SEM BDI) | J11: TOTAL (Valores sem BDI) | M11: VALOR TOTAL C/ BDI
G12: MATERIAL + EQ | H12: MÃO DE OBRA | I12: TOTAL | J12: MATERIAL | K12: MÃO DE OBRA | L12: TOTAL
A14: 1 | D14: CIRCULAÇÃO | J14: =J16+J25+J34+J43+J52+J61 -> 19615.392 | K14: =K16+K25+K34+K43+K52+K61 -> 7712.4529 | L14: =L16+L25+L34+L43+L52+L61 -> 27327.845 | M14: =M16+M25+M34+M43+M52+M61 -> 34438.55 | N14: =M14 -> 34438.55
A16: 1.1 | D16: RECEPÇÃO | J16: =SUM(J17:J23) -> 1567.7567 | K16: =SUM(K17:K23) -> 621.55468 | L16: =SUM(L17:L23) -> 2189.3114 | M16: =SUM(M17:M23) -> 2758.9702
A17: 1.1.1 | B17: REMOÇÃO: PISO | C17: 97633 | D17: DEMOLIÇÃO DE REVESTIMENTO CERÂMICO, DE FORMA MANUAL, SEM REAPROVEITAMENTO. AF_12/2017 | E17: m² | F17: 12.08 | G17: 7.5 | H17: 17.23 | I17: =SUM(G17:H17) -> 24.73 | J17: =G17*F17 -> 90.6 | K17: =H17*F17 -> 208.1384 | L17: =I17*F17 -> 298.7384 | M17: =L17*(1+$M$4) -> 376.47013
A18: 1.1.2 | B18: REGULARIZAÇÃO: PISO | C18: 87299 | D18: ARGAMASSA TRAÇO 1:3 (EM VOLUME DE CIMENTO E AREIA MÉDIA ÚMIDA) PARA CONTRAPISO, PREPARO MECÂNICO COM BETONEIRA 600 L. AF_08/2019 | E18: m³ | F18: 0.3624 | G18: 372.95 | H18: 66.6 | I18: =SUM(G18:H18) -> 439.55 | J18: =G18*F18 -> 135.15708 | K18: =H18*F18 -> 24.13584 | L18: =I18*F18 -> 159.29292 | M18: =L18*(1+$M$4) -> 200.74094
A19: 1.1.3 | B19: REVESTIMENTO: PISO | C19: 87257 | D19: REVESTIMENTO CERÂMICO PARA PISO COM PLACAS TIPO ESMALTADA EXTRA DE DIMENSÕES 60X60 CM APLICADA EM AMBIENTES DE ÁREA MAIOR QUE 10 M2. AF_06/2014 | E19: m² | F19: 12.08 | G19: 75.45 | H19: 8.62 | I19: =SUM(G19:H19) -> 84.07 | J19: =G19*F19 -> 911.436 | K19: =H19*F19 -> 104.1296 | L19: =I19*F19 -> 1015.5656 | M19: =L19*(1+$M$4) -> 1279.8158
A20: 1.1.4 | B20: REVESTIMENTO: RODAPÉ (H=0,10cm) | C20: 87257 | D20: REVESTIMENTO CERÂMICO PARA PISO COM PLACAS TIPO ESMALTADA EXTRA DE DIMENSÕES 60X60 CM APLICADA EM AMBIENTES DE ÁREA MAIOR QUE 10 M2. AF_06/2014 | E20: m² | F20: 0.972 | G20: 75.45 | H20: 8.62 | I20: =SUM(G20:H20) -> 84.07 | J20: =G20*F20 -> 73.3374 | K20: =H20*F20 -> 8.37864 | L20: =I20*F20 -> 81.71604 | M20: =L20*(1+$M$4) -> 102.97855
A21: 1.1.5 | B21: PINTURA: PAREDE - FUNDO SELADOR | C21: 88485 | D21: APLICAÇÃO DE FUNDO SELADOR ACRÍLICO EM PAREDES, UMA DEMÃO. AF_06/2014 | E21: m² | F21: 35.13 | G21: 2.25 | H21: 1.85 | I21: =SUM(G21:H21) -> 4.1 | J21: =G21*F21 -> 79.0425 | K21: =H21*F21 -> 64.9905 | L21: =I21*F21 -> 144.033 | M21: =L21*(1+$M$4) -> 181.51039
A22: 1.1.6 | B22: PINTURA ESMALTE: PAREDE (H=1,50m) | C22: 102220 | D22: PINTURA TINTA DE ACABAMENTO (PIGMENTADA) ESMALTE SINTÉTICO BRILHANTE EM MADEIRA, 2 DEMÃOS. AF_01/2021 | E22: m² | F22: 14.58 | G22: 8.29 | H22: 8.54 | I22: =SUM(G22:H22) -> 16.83 | J22: =G22*F22 -> 120.8682 | K22: =H22*F22 -> 124.5132 | L22: =I22*F22 -> 245.3814 | M22: =L22*(1+$M$4) -> 309.22964
A23: 1.1.7 | B23: PINTURA ACRILICO: PAREDE (H=1,65m) | C23: 88489 | D23: APLICAÇÃO MANUAL DE PINTURA COM TINTA LÁTEX ACRÍLICA EM PAREDES, DUAS DEMÃOS. AF_06/2014 | E23: m² | F23: 19.35 | G23: 8.13 | H23: 4.51 | I23: =SUM(G23:H23) -> 12.64 | J23: =G23*F23 -> 157.3155 | K23: =H23*F23 -> 87.2685 | L23: =I23*F23 -> 244.584 | M23: =L23*(1+$M$4) -> 308.22476
A25: 1.2 | D25: ESPERA | J25: =SUM(J26:J32) -> 5437.5714 | K25: =SUM(K26:K32) -> 1996.2723 | L25: =SUM(L26:L32) -> 7433.8437 | M25: =SUM(M26:M32) -> 9368.1299
A26: 1.2.1 | B26: REMOÇÃO: PISO | C26: 97633 | D26: DEMOLIÇÃO DE REVESTIMENTO CERÂMICO, DE FORMA MANUAL, SEM REAPROVEITAMENTO. AF_12/2017 | E26: m² | F26: 46.48 | G26: 7.5 | H26: 17.23 | I26: =SUM(G26:H26) -> 24.73 | J26: =G26*F26 -> 348.6 | K26: =H26*F26 -> 800.8504 | L26: =I26*F26 -> 1149.4504 | M26: =L26*(1+$M$4) -> 1448.5374
A27: 1.2.2 | B27: REGULARIZAÇÃO: PISO | C27: 87299 | D27: ARGAMASSA TRAÇO 1:3 (EM VOLUME DE CIMENTO E AREIA MÉDIA ÚMIDA) PARA CONTRAPISO, PREPARO MECÂNICO COM BETONEIRA 600 L. AF_08/2019 | E27: m³ | F27: 1.3944 | G27: 372.95 | H27: 66.6 | I27: =SUM(G27:H27) -> 439.55 | J27: =G27*F27 -> 520.04148 | K27: =H27*F27 -> 92.86704 | L27: =I27*F27 -> 612.90852 | M27: =L27*(1+$M$4) -> 772.38732
A28: 1.2.3 | B28: REVESTIMENTO: PISO | C28: 87257 | D28: REVESTIMENTO CERÂMICO PARA PISO COM PLACAS TIPO ESMALTADA EXTRA DE DIMENSÕES 60X60 CM APLICADA EM AMBIENTES DE ÁREA MAIOR QUE 10 M2. AF_06/2014 | E28: m² | F28: 46.48 | G28: 75.45 | H28: 8.62 | I28: =SUM(G28:H28) -> 84.07 | J28: =G28*F28 -> 3506.916 | K28: =H28*F28 -> 400.6576 | L28: =I28*F28 -> 3907.5736 | M28: =L28*(1+$M$4) -> 4924.3243
A29: 1.2.4 | B29: REVESTIMENTO: RODAPÉ (H=0,10cm) | C29: 87257 | D29: REVESTIMENTO CERÂMICO PARA PISO COM PLACAS TIPO ESMALTADA EXTRA DE DIMENSÕES 60X60 CM APLICADA EM AMBIENTES DE ÁREA MAIOR QUE 10 M2. AF_06/2014 | E29: m² | F29: 2.38 | G29: 75.45 | H29: 8.62 | I29: =SUM(G29:H29) -> 84.07 | J29: =G29*F29 -> 179.571 | K29: =H29*F29 -> 20.5156 | L29: =I29*F29 -> 200.0866 | M29: =L29*(1+$M$4) -> 252.14913
A30: 1.2.5 | B30: PINTURA: PAREDE - FUNDO SELADOR | C30: 88485 | D30: APLICAÇÃO DE FUNDO SELADOR ACRÍLICO EM PAREDES, UMA DEMÃO. AF_06/2014 | E30: m² | F30: 85 | G30: 2.25 | H30: 1.85 | I30: =SUM(G30:H30) -> 4.1 | J30: =G30*F30 -> 191.25 | K30: =H30*F30 -> 157.25 | L30: =I30*F30 -> 348.5 | M30: =L30*(1+$M$4) -> 439.1797
A31: 1.2.6 | B31: PINTURA ESMALTE: PAREDE (H=1,50m) | C31: 102220 | D31: PINTURA TINTA DE ACABAMENTO (PIGMENTADA) ESMALTE SINTÉTICO BRILHANTE EM MADEIRA, 2 DEMÃOS. AF_01/2021 | E31: m² | F31: 35.7 | G31: 8.29 | H31: 8.54 | I31: =SUM(G31:H31) -> 16.83 | J31: =G31*F31 -> 295.953 | K31: =H31*F31 -> 304.878 | L31: =I31*F31 -> 600.831 | M31: =L31*(1+$M$4) -> 757.16723
A32: 1.2.7 | B32: PINTURA ACRILICO: PAREDE (H=1,65m) | C32: 88489 | D32: APLICAÇÃO MANUAL DE PINTURA COM TINTA LÁTEX ACRÍLICA EM PAREDES, DUAS DEMÃOS. AF_06/2014 | E32: m² | F32: 48.615 | G32: 8.13 | H32: 4.51 | I32: =SUM(G32:H32) -> 12.64 | J32: =G32*F32 -> 395.23995 | K32: =H32*F32 -> 219.25365 | L32: =I32*F32 -> 614.4936 | M32: =L32*(1+$M$4) -> 774.38483
A34: 1.3 | D34: CIRCULAÇÃO 1 | J34: =SUM(J35:J41) -> 3340.5999 | K34: =SUM(K35:K41) -> 1318.9187 | L34: =SUM(L35:L41) -> 4659.5186 | M34: =SUM(M35:M41) -> 5871.9254
A35: 1.3.1 | B35: REMOÇÃO: PISO | C35: 97633 | D35: DEMOLIÇÃO DE REVESTIMENTO CERÂMICO, DE FORMA MANUAL, SEM REAPROVEITAMENTO. AF_12/2017 | E35: m² | F35: 25.88 | G35: 7.5 | H35: 17.23 | I35: =SUM(G35:H35) -> 24.73 | J35: =G35*F35 -> 194.1 | K35: =H35*F35 -> 445.9124 | L35: =I35*F35 -> 640.0124 | M35: =L35*(1+$M$4) -> 806.54363
A36: 1.3.2 | B36: REGULARIZAÇÃO: PISO | C36: 87299 | D36: ARGAMASSA TRAÇO 1:3 (EM VOLUME DE CIMENTO E AREIA MÉDIA ÚMIDA) PARA CONTRAPISO, PREPARO MECÂNICO COM BETONEIRA 600 L. AF_08/2019 | E36: m³ | F36: 0.7764 | G36: 372.95 | H36: 66.6 | I36: =SUM(G36:H36) -> 439.55 | J36: =G36*F36 -> 289.55838 | K36: =H36*F36 -> 51.70824 | L36: =I36*F36 -> 341.26662 | M36: =L36*(1+$M$4) -> 430.06419
A37: 1.3.3 | B37: REVESTIMENTO: PISO | C37: 87257 | D37: REVESTIMENTO CERÂMICO PARA PISO COM PLACAS TIPO ESMALTADA EXTRA DE DIMENSÕES 60X60 CM APLICADA EM AMBIENTES DE ÁREA MAIOR QUE 10 M2. AF_06/2014 | E37: m² | F37: 25.88 | G37: 75.45 | H37: 8.62 | I37: =SUM(G37:H37) -> 84.07 | J37: =G37*F37 -> 1952.646 | K37: =H37*F37 -> 223.0856 | L37: =I37*F37 -> 2175.7316 | M37: =L37*(1+$M$4) -> 2741.857
A38: 1.3.4 | B38: REVESTIMENTO: RODAPÉ (H=0,10cm) | C38: 87257 | D38: REVESTIMENTO CERÂMICO PARA PISO COM PLACAS TIPO ESMALTADA EXTRA DE DIMENSÕES 60X60 CM APLICADA EM AMBIENTES DE ÁREA MAIOR QUE 10 M2. AF_06/2014 | E38: m² | F38: 2.046 | G38: 75.45 | H38: 8.62 | I38: =SUM(G38:H38) -> 84.07 | J38: =G38*F38 -> 154.3707 | K38: =H38*F38 -> 17.63652 | L38: =I38*F38 -> 172.00722 | M38: =L38*(1+$M$4) -> 216.7635
A39: 1.3.5 | B39: PINTURA: PAREDE - FUNDO SELADOR | C39: 88485 | D39: APLICAÇÃO DE FUNDO SELADOR ACRÍLICO EM PAREDES, UMA DEMÃO. AF_06/2014 | E39: m² | F39: 72.5575 | G39: 2.25 | H39: 1.85 | I39: =SUM(G39:H39) -> 4.1 | J39: =G39*F39 -> 163.25438 | K39: =H39*F39 -> 134.23138 | L39: =I39*F39 -> 297.48575 | M39: =L39*(1+$M$4) -> 374.89154
A40: 1.3.6 | B40: PINTURA ESMALTE: PAREDE (H=1,50m) | C40: 102220 | D40: PINTURA TINTA DE ACABAMENTO (PIGMENTADA) ESMALTE SINTÉTICO BRILHANTE EM MADEIRA, 2 DEMÃOS. AF_01/2021 | E40: m² | F40: 30.675 | G40: 8.29 | H40: 8.54 | I40: =SUM(G40:H40) -> 16.83 | J40: =G40*F40 -> 254.29575 | K40: =H40*F40 -> 261.9645 | L40: =I40*F40 -> 516.26025 | M40: =L40*(1+$M$4) -> 650.59117
A41: 1.3.7 | B41: PINTURA ACRILICO: PAREDE (H=1,65m) | C41: 88489 | D41: APLICAÇÃO MANUAL DE PINTURA COM TINTA LÁTEX ACRÍLICA EM PAREDES, DUAS DEMÃOS. AF_06/2014 | E41: m² | F41: 40.8825 | G41: 8.13 | H41: 4.51 | I41: =SUM(G41:H41) -> 12.64 | J41: =G41*F41 -> 332.37473 | K41: =H41*F41 -> 184.38008 | L41: =I41*F41 -> 516.7548 | M41: =L41*(1+$M$4) -> 651.2144
A43: 1.4 | D43: CIRCULAÇÃO 2 | J43: =SUM(J44:J50) -> 2700.1314 | K43: =SUM(K44:K50) -> 1058.3236 | L43: =SUM(L44:L50) -> 3758.4549 | M43: =SUM(M44:M50) -> 4736.4049
A44: 1.4.1 | B44: REMOÇÃO: PISO | C44: 97633 | D44: DEMOLIÇÃO DE REVESTIMENTO CERÂMICO, DE FORMA MANUAL, SEM REAPROVEITAMENTO. AF_12/2017 | E44: m² | F44: 21.15 | G44: 7.5 | H44: 17.23 | I44: =SUM(G44:H44) -> 24.73 | J44: =G44*F44 -> 158.625 | K44: =H44*F44 -> 364.4145 | L44: =I44*F44 -> 523.0395 | M44: =L44*(1+$M$4) -> 659.13438
A45: 1.4.2 | B45: REGULARIZAÇÃO: PISO | C45: 87299 | D45: ARGAMASSA TRAÇO 1:3 (EM VOLUME DE CIMENTO E AREIA MÉDIA ÚMIDA) PARA CONTRAPISO, PREPARO MECÂNICO COM BETONEIRA 600 L. AF_08/2019 | E45: m³ | F45: 0.6345 | G45: 372.95 | H45: 66.6 | I45: =SUM(G45:H45) -> 439.55 | J45: =G45*F45 -> 236.63678 | K45: =H45*F45 -> 42.2577 | L45: =I45*F45 -> 278.89447 | M45: =L45*(1+$M$4) -> 351.46282
A46: 1.4.3 | B46: REVESTIMENTO: PISO | C46: 87257 | D46: REVESTIMENTO CERÂMICO PARA PISO COM PLACAS TIPO ESMALTADA EXTRA DE DIMENSÕES 60X60 CM APLICADA EM AMBIENTES DE ÁREA MAIOR QUE 10 M2. AF_06/2014 | E46: m² | F46: 21.15 | G46: 75.45 | H46: 8.62 | I46: =SUM(G46:H46) -> 84.07 | J46: =G46*F46 -> 1595.7675 | K46: =H46*F46 -> 182.313 | L46: =I46*F46 -> 1778.0805 | M46: =L46*(1+$M$4) -> 2240.737
A47: 1.4.4 | B47: REVESTIMENTO: RODAPÉ (H=0,10cm) | C47: 87257 | D47: REVESTIMENTO CERÂMICO PARA PISO COM PLACAS TIPO ESMALTADA EXTRA DE DIMENSÕES 60X60 CM APLICADA EM AMBIENTES DE ÁREA MAIOR QUE 10 M2. AF_06/2014 | E47: m² | F47: 1.634 | G47: 75.45 | H47: 8.62 | I47: =SUM(G47:H47) -> 84.07 | J47: =G47*F47 -> 123.2853 | K47: =H47*F47 -> 14.08508 | L47: =I47*F47 -> 137.37038 | M47: =L47*(1+$M$4) -> 173.11415
A48: 1.4.5 | B48: PINTURA: PAREDE - FUNDO SELADOR | C48: 88485 | D48: APLICAÇÃO DE FUNDO SELADOR ACRÍLICO EM PAREDES, UMA DEMÃO. AF_06/2014 | E48: m² | F48: 56.0595 | G48: 2.25 | H48: 1.85 | I48: =SUM(G48:H48) -> 4.1 | J48: =G48*F48 -> 126.13388 | K48: =H48*F48 -> 103.71008 | L48: =I48*F48 -> 229.84395 | M48: =L48*(1+$M$4) -> 289.64935
...

Sheet CRONOGRAMA
D3: UNIVERSIDADE ESTADUAL DO NORTE DO PARANÁ
D4: CNPJ: 08.885.100/0001-54
D5: OBRA: ADEQUAÇÕES NO HOSPITAL VETERINÁRIO - CLM
D6: Local: Campus Luiz Meneghel
D7: Data do orçamento: MAIO/2025
D8: REFERÊNCIA DE PREÇOS : SINAPI_03/2025
D9: RESP.TÉCNICO: ARQ. AMANDA ALVES DA SILVA - CAU A145.438-3
A11: CRONOGRAMA FÍSICO-FINANCEIRO
B12: SERVIÇO/LOCAL | E12: MÊS 1 | G12: MÊS 2 | I12: MÊS 3 | K12: MÊS 4 | M12: MÊS 5 | O12: MÊS 6 | Q12: MÊS 7
C13: Valores | D13: % | E13: % | F13: R$ | G13: % | H13: R$ | I13: % | J13: R$ | K13: % | L13: R$ | M13: % | N13: R$ | O13: % | P13: R$ | Q13: % | R13: R$
A14: 1 | B14: =VLOOKUP(A14,ORÇAMENTO!$A$2:$M$1230,2,FALSE()) -> SERVIÇOS PRELIMINARES GERAL | C14: =VLOOKUP(A14,ORÇAMENTO!$A$2:$M$1244,13,FALSE()) -> 4991.2741 | D14: =C14/$C$35 -> 0.016701294 | E14: 0.15 | F14: =C14*E14 -> 748.69112 | G14: 0.15 | H14: =C14*G14 -> 748.69112 | I14: 0.15 | J14: =C14*I14 -> 748.69112 | K14: 0.15 | L14: =C14*K14 -> 748.69112 | M14: 0.15 | N14: =C14*M14 -> 748.69112 | O14: 0.15 | P14: =C14*O14 -> 748.69112 | Q14: 0.1 | R14: =C14*Q14 -> 499.12741 | S14: =SUM(E14+G14+I14+K14+M14+O14+Q14) -> 1
A15: 2 | B15: =VLOOKUP(A15,ORÇAMENTO!$A$2:$M$1230,2,FALSE()) -> SERVIÇOS PRELIMINARES | C15: =VLOOKUP(A15,ORÇAMENTO!$A$2:$M$1244,13,FALSE()) -> 4812.3881 | D15: =C15/$C$35 -> 0.016102724 | E15: 0.5 | F15: =E15*C15 -> 2406.1941 | G15: 0.5 | H15: =C15*G15 -> 2406.1941 | I15: 0 | J15: =C15*I15 -> 0 | K15: 0 | L15: =C15*K15 -> 0 | M15: 0 | N15: =C15*M15 -> 0 | O15: 0 | P15: =C15*O15 -> 0 | Q15: 0 | R15: =C15*Q15 -> 0 | S15: =SUM(E15+G15+I15+K15+M15+O15+Q15) -> 1
A16: 3 | B16: =VLOOKUP(A16,ORÇAMENTO!$A$2:$M$1230,2,FALSE()) -> FUNDAÇÃO, INFRAESTRUTURA E SUPERESTRUTURA | C16: =VLOOKUP(A16,ORÇAMENTO!$A$2:$M$1244,13,FALSE()) -> 7580.6566 | D16: =C16/$C$35 -> 0.025365623 | E16: 0.4 | F16: =E16*C16 -> 3032.2626 | G16: 0.4 | H16: =C16*G16 -> 3032.2626 | I16: 0.2 | J16: =C16*I16 -> 1516.1313 | K16: 0 | L16: =C16*K16 -> 0 | M16: 0 | N16: =C16*M16 -> 0 | O16: 0 | P16: =C16*O16 -> 0 | Q16: 0 | R16: =C16*Q16 -> 0 | S16: =SUM(E16+G16+I16+K16+M16+O16+Q16) -> 1
A17: 4 | B17: =VLOOKUP(A17,ORÇAMENTO!$A$2:$M$1230,2,FALSE()) -> ALVENARIA E OUTRAS VEDAÇÕES | C17: =VLOOKUP(A17,ORÇAMENTO!$A$2:$M$1244,13,FALSE()) -> 24103.408 | D17: =C17/$C$35 -> 0.080652374 | E17: 0.3 | F17: =E17*C17 -> 7231.0224 | G17: 0.3 | H17: =C17*G17 -> 7231.0224 | I17: 0.4 | J17: =C17*I17 -> 9641.3632 | K17: 0 | L17: =C17*K17 -> 0 | M17: 0 | N17: =C17*M17 -> 0 | O17: 0 | P17: =C17*O17 -> 0 | Q17: 0 | R17: =C17*Q17 -> 0 | S17: =SUM(E17+G17+I17+K17+M17+O17+Q17) -> 1
A18: 5 | B18: =VLOOKUP(A18,ORÇAMENTO!$A$2:$M$1230,2,FALSE()) -> INSTALAÇÕES HIDROSSANITÁRIAS | C18: =VLOOKUP(A18,ORÇAMENTO!$A$2:$M$1244,13,FALSE()) -> 3606.2449 | D18: =C18/$C$35 -> 0.01206685 | E18: 0.3 | F18: =E18*C18 -> 1081.8735 | G18: 0.4 | H18: =C18*G18 -> 1442.498 | I18: 0.3 | J18: =C18*I18 -> 1081.8735 | K18: 0 | L18: =C18*K18 -> 0 | M18: 0 | N18: =C18*M18 -> 0 | O18: 0 | P18: =C18*O18 -> 0 | Q18: 0 | R18: =C18*Q18 -> 0 | S18: =SUM(E18+G18+I18+K18+M18+O18+Q18) -> 1
A19: 6 | B19: =VLOOKUP(A19,ORÇAMENTO!$A$2:$M$1230,2,FALSE()) -> INSTALAÇÕES ELÉTRICAS | C19: =VLOOKUP(A19,ORÇAMENTO!$A$2:$M$1244,13,FALSE()) -> 3389.8876 | D19: =C19/$C$35 -> 0.011342897 | E19: 0.3 | F19: =E19*C19 -> 1016.9663 | G19: 0.3 | H19: =C19*G19 -> 1016.9663 | I19: 0.2 | J19: =C19*I19 -> 677.97752 | K19: 0.2 | L19: =C19*K19 -> 677.97752 | M19: 0 | N19: =C19*M19 -> 0 | O19: 0 | P19: =C19*O19 -> 0 | Q19: 0 | R19: =C19*Q19 -> 0 | S19: =SUM(E19+G19+I19+K19+M19+O19+Q19) -> 1
A20: 7 | B20: =VLOOKUP(A20,ORÇAMENTO!$A$2:$M$1230,2,FALSE()) -> ESQUADRIAS | C20: =VLOOKUP(A20,ORÇAMENTO!$A$2:$M$1244,13,FALSE()) -> 9830.6387 | D20: =C20/$C$35 -> 0.032894284 | E20: 0 | F20: =E20*C20 -> 0 | G20: 0 | H20: =C20*G20 -> 0 | I20: 0 | J20: =C20*I20 -> 0 | K20: 0 | L20: =C20*K20 -> 0 | M20: 0.5 | N20: =C20*M20 -> 4915.3194 | O20: 0.2 | P20: =C20*O20 -> 1966.1277 | Q20: 0.3 | R20: =C20*Q20 -> 2949.1916 | S20: =SUM(E20+G20+I20+K20+M20+O20+Q20) -> 1
A21: 8 | B21: =VLOOKUP(A21,ORÇAMENTO!$A$2:$M$1230,2,FALSE()) -> PISOS | C21: =VLOOKUP(A21,ORÇAMENTO!$A$2:$M$1244,13,FALSE()) -> 6883.0536 | D21: =C21/$C$35 -> 0.023031374 | E21: 0 | F21: =E21*C21 -> 0 | G21: 0.5 | H21: =C21*G21 -> 3441.5268 | I21: 0.3 | J21: =C21*I21 -> 2064.9161 | K21: 0.2 | L21: =C21*K21 -> 1376.6107 | M21: 0 | N21: =C21*M21 -> 0 | O21: 0 | P21: =C21*O21 -> 0 | Q21: 0 | R21: =C21*Q21 -> 0 | S21: =SUM(E21+G21+I21+K21+M21+O21+Q21) -> 1
A22: 9 | B22: =VLOOKUP(A22,ORÇAMENTO!$A$2:$M$1230,2,FALSE()) -> REVESTIMENTOS | C22: =VLOOKUP(A22,ORÇAMENTO!$A$2:$M$1244,13,FALSE()) -> 16240.374 | D22: =C22/$C$35 -> 0.054341888 | E22: 0 | F22: =E22*C22 -> 0 | G22: 0 | H22: =C22*G22 -> 0 | I22: 0.2 | J22: =C22*I22 -> 3248.0748 | K22: 0.5 | L22: =C22*K22 -> 8120.1869 | M22: 0.3 | N22: =C22*M22 -> 4872.1121 | O22: 0 | P22: =C22*O22 -> 0 | Q22: 0 | R22: =C22*Q22 -> 0 | S22: =SUM(E22+G22+I22+K22+M22+O22+Q22) -> 1
A23: 10 | B23: =VLOOKUP(A23,ORÇAMENTO!$A$2:$M$1230,2,FALSE()) -> PINTURAS | C23: =VLOOKUP(A23,ORÇAMENTO!$A$2:$M$1244,13,FALSE()) -> 635.47097 | D23: =C23/$C$35 -> 0.0021263484 | E23: 0 | F23: =E23*C23 -> 0 | G23: 0 | H23: =C23*G23 -> 0 | I23: 0 | J23: =C23*I23 -> 0 | K23: 0.2 | L23: =C23*K23 -> 127.09419 | M23: 0.3 | N23: =C23*M23 -> 190.64129 | O23: 0.2 | P23: =C23*O23 -> 127.09419 | Q23: 0.3 | R23: =C23*Q23 -> 190.64129 | S23: =SUM(E23+G23+I23+K23+M23+O23+Q23) -> 1
A24: 11 | B24: =VLOOKUP(A24,ORÇAMENTO!$A$2:$M$1230,2,FALSE()) -> LOUÇAS E ACESSÓRIOS | C24: =VLOOKUP(A24,ORÇAMENTO!$A$2:$M$1244,13,FALSE()) -> 11666.455 | D24: =C24/$C$35 -> 0.039037107 | E24: 0 | F24: =E24*C24 -> 0 | G24: 0 | H24: =C24*G24 -> 0 | I24: 0 | J24: =C24*I24 -> 0 | K24: 0 | L24: =C24*K24 -> 0 | M24: 0 | N24: =C24*M24 -> 0 | O24: 0.2 | P24: =C24*O24 -> 2333.2911 | Q24: 0.8 | R24: =C24*Q24 -> 9333.1642 | S24: =SUM(E24+G24+I24+K24+M24+O24+Q24) -> 1
A25: 12 | B25: =VLOOKUP(A25,ORÇAMENTO!$A$2:$M$1230,2,FALSE()) -> SERVIÇOS PRELIMINARES | C25: =VLOOKUP(A25,ORÇAMENTO!$A$2:$M$1244,13,FALSE()) -> 8898.8959 | D25: =C25/$C$35 -> 0.029776581 | E25: 0.15 | F25: =E25*C25 -> 1334.8344 | G25: 0.15 | H25: =C25*G25 -> 1334.8344 | I25: 0.15 | J25: =C25*I25 -> 1334.8344 | K25: 0.15 | L25: =C25*K25 -> 1334.8344 | M25: 0.15 | N25: =C25*M25 -> 1334.8344 | O25: 0.15 | P25: =C25*O25 -> 1334.8344 | Q25: 0.1 | R25: =C25*Q25 -> 889.88959 | S25: =SUM(E25+G25+I25+K25+M25+O25+Q25) -> 1
A26: 13 | B26: =VLOOKUP(A26,ORÇAMENTO!$A$2:$M$1230,2,FALSE()) -> ALVENARIA E OUTRAS VEDAÇÕES | C26: =VLOOKUP(A26,ORÇAMENTO!$A$2:$M$1244,13,FALSE()) -> 3023.4819 | D26: =C26/$C$35 -> 0.010116868 | E26: 0 | F26: =E26*C26 -> 0 | G26: 0 | H26: =C26*G26 -> 0 | I26: 0.3 | J26: =C26*I26 -> 907.04458 | K26: 0.3 | L26: =C26*K26 -> 907.04458 | M26: 0.2 | N26: =C26*M26 -> 604.69638 | O26: 0.2 | P26: =C26*O26 -> 604.69638 | Q26: 0 | R26: =C26*Q26 -> 0 | S26: =SUM(E26+G26+I26+K26+M26+O26+Q26) -> 1
... A33: 20 | B33: =VLOOKUP(A33,ORÇAMENTO!$A$2:$M$1230,2,FALSE()) -> LIMPEZA GERAL | C33: =VLOOKUP(A33,ORÇAMENTO!$A$2:$M$1244,13,FALSE()) -> 9158.576 | D33: =C33/$C$35 -> 0.030645496 | E33: 0.05 | F33: =E33*C33 -> 457.9288 | G33: 0.15 | H33: =C33*G33 -> 1373.7864 | I33: 0.15 | J33: =C33*I33 -> 1373.7864 | K33: 0.15 | L33: =C33*K33 -> 1373.7864 | M33: 0.15 | N33: =C33*M33 -> 1373.7864 | O33: 0.15 | P33: =C33*O33 -> 1373.7864 | Q33: 0.2 | R33: =C33*Q33 -> 1831.7152 | S33: =SUM(E33+G33+I33+K33+M33+O33+Q33) -> 1
B35: TOTAL | C35: =SUM(C14:C33) -> 298855.53 | D35: =SUM(D14:D33) -> 1
D37: R$ parcial (valor período) | E37: =SUM(F14:F33) -> 34016.708 | G37: =SUM(H14:H33) -> 38106.704 | I37: =SUM(J14:J33) -> 40093.907 | K37: =SUM(L14:L33) -> 44698.151 | M37: =SUM(N14:N33) -> 48885.034 | O37: =SUM(P14:P33) -> 47543.024 | Q37: =SUM(R14:R33) -> 45512.005
D38: %_parcial (período) | E38: =SUM(E37/$C$35) -> 0.11382325 | G38: =SUM(G37/$C$35) -> 0.12750878 | I38: =SUM(I37/$C$35) -> 0.13415816 | K38: =SUM(K37/$C$35) -> 0.14956441 | M38: =SUM(M37/$C$35) -> 0.16357413 | O38: =SUM(O37/$C$35) -> 0.15908363 | Q38: =SUM(Q37/$C$35) -> 0.15228764
D39: R$_ acumulado | E39: =E37 -> 34016.708 | G39: =E39+G37 -> 72123.412 | I39: =G39+I37 -> 112217.32 | K39: =I39+K37 -> 156915.47 | M39: =K39+M37 -> 205800.5 | O39: =M39+O37 -> 253343.53 | Q39: =O39+Q37 -> 298855.53
D40: %_acumulado | E40: =E38 -> 0.11382325 | G40: =E40+G38 -> 0.24133203 | I40: =G40+I38 -> 0.37549019 | K40: =I40+K38 -> 0.52505459 | M40: =K40+M38 -> 0.68862872 | O40: =M40+O38 -> 0.84771236 | Q40: =O40+Q38 -> 1

Sheet BDI
E3: UNIVERSIDADE ESTADUAL DO NORTE DO PARANÁ
E4: CNPJ: 08.885.100/0001-54
E5: OBRA: ADEQUAÇÕES NO HOSPITAL VETERINÁRIO - CLM
E6: Local: Campus Luiz Meneghel
E7: Data do orçamento: MAIO/2025
E8: REFERÊNCIA DE PREÇOS : SINAPI_03/2025
E9: RESP.TÉCNICO: ARQ. AMANDA ALVES DA SILVA - CAU A145.438-3
A11: COMPOSIÇÃO DO BDI
A12: CUSTO TOTAL DO SERVIÇO (R$)
A13: ITEM | B13: DISCRIMINAÇÃO | E13: VALOR | F13: TAXA (%) | G13: OBSERVAÇÃO | H13: SITUAÇÃO DO INTERVALO ADMISSÍVEL | I13: PARCELAS DO BDI (%)
I14: 1 QUARTIL | J14: MÉDIO | K14: 3 QUARTIL
A15: 1 | B15: AC – ADMINISTRAÇÃO CENTRAL | F15: 0.03 | H15: OK | I15: 0.03 | J15: 0.04 | K15: 0.055
A16: 2 | B16: SG – SEGUROS + GARANTIA | F16: 0.008 | H16: OK | I16: 0.008 | J16: 0.008 | K16: 0.01
A17: 3 | B17: R – RISCOS | F17: 0.0097 | H17: OK | I17: 0.0097 | J17: 0.0127 | K17: 0.0127
A18: 4 | B18: DF – DESPESAS FINANCEIRAS | F18: 0.0059 | H18: OK | I18: 0.0059 | J18: 0.0123 | K18: 0.0139
A19: 5 | B19: L – LUCRO BRUTO | F19: 0.06245 | H19: OK | I19: 0.0616 | J19: 0.074 | K19: 0.0896
A20: 6 | B20: I – IMPOSTOS | F20: =SUM(F21:F24) -> 0.1115 | G20: FÓRMULA DO BDI DE ACORDO COM ACÓRDÃO 2.369/2011-TCU- PLENÁRIO
A21: 43836 | B21: PIS | F21: 0.0065
A22: 43867 | B22: COFINS | F22: 0.03
A23: 43896 | B23: ISS (CONFORME LEGISLAÇÃO MUNICIPAL) | F23: 0.03
A24: 43927 | B24: CONTRIB. PREVIDÊNCIA SOBRE RECEITA BRUTA – CPRB | F24: 0.045
A26: TOTAL DO BDI (R$)
A27: PREÇO DE VENDA (R$) | G27: ONDE:
A28: BDI (%) | F28: =(((1+(F15+F16+F17))*(1+F18)*(1+F19))/(1-F20))-1 -> 0.26020971 | G28: AC : TAXA DE ADMINISTRAÇÃO CENTRAL
G29: S: TAXA DE SEGURO
G30: G: TAXA DE GARANTIAS
G31: R: TAXA DE RISCOS
G32: DF: TAXA DE DESPESAS
G33: L: TAXA DE LUCRO
G34: I: TAXA DE INCIDÊNCIA DE IMPOSTOS (PIS, COFINS, ISS, CPRB)
A38: COMPOSIÇÃO DO BDI REDUZIDO
A39: CUSTO TOTAL DO SERVIÇO (R$)
A40: ITEM | B40: DISCRIMINAÇÃO | E40: VALOR | F40: TAXA (%) | G40: OBSERVAÇÃO | H40: SITUAÇÃO DO INTERVALO ADMISSÍVEL | I40: PARCELAS DO BDI (%)
I41: 1 QUARTIL | J41: MÉDIO | K41: 3 QUARTIL
A42: 1 | B42: AC – ADMINISTRAÇÃO CENTRAL | F42: 0.015 | H42: =IF(AND(F42>=I42,F42<=K42),"OK","DIFERE") -> OK | I42: 0.015 | J42: 0.0345 | K42: 0.0449
A43: 2 | B43: SG – SEGUROS + GARANTIA | F43: 0.003 | H43: =IF(AND(F43>=I43,F43<=K43),"OK","DIFERE") -> OK | I43: 0.003 | J43: 0.0048 | K43: 0.0082
A44: 3 | B44: R – RISCOS | F44: 0.0056 | H44: =IF(AND(F44>=I44,F44<=K44),"OK","DIFERE") -> OK | I44: 0.0056 | J44: 0.0085 | K44: 0.0089
A45: 4 | B45: DF – DESPESAS FINANCEIRAS | F45: 0.0085 | H45: =IF(AND(F45>=I45,F45<=K45),"OK","DIFERE") -> OK | I45: 0.0085 | J45: 0.0085 | K45: 0.0111
A46: 5 | B46: L – LUCRO BRUTO | F46: 0.0352 | H46: =IF(AND(F46>=I46,F46<=K46),"OK","DIFERE") -> OK | I46: 0.035 | J46: 0.0511 | K46: 0.0622
A47: 6 | B47: I – IMPOSTOS | F47: =SUM(F48:F51) -> 0.0815 | G47: FÓRMULA DO BDI DE ACORDO COM ACÓRDÃO 2.369/2011-TCU- PLENÁRIO
...
