Workbook

Sheet ORÇAMENTO
A1: _
D3: UNIVERSIDADE ESTADUAL DO NORTE DO PARANÁ
D4: CNPJ: 08.885.100/0001-54 | L4: BDI | M4: =BDI!F28 -> 0.2668
D5: SERVIÇO: ADEQUAÇÕES DA REDE ELÉTRICAS DO CJ - MEDIA TENSÃO | L5: BDI DIF | M5: 0.1635
D6: Local: Campus Jacarezinho - Centro de Ciências da Saúde | L6: Total s/BDI | M6: =SUM(L14,L17,L78) -> 123767.27
L7: Total c/BDI | M7: =SUM(N13:N437) -> 152642.19 | S7: 5476830
A11: ITEM | B11: RESUMO | C11: CÓDIGO | D11: DESCRIÇÃO DOS SERVIÇOS | E11: UN | F11: QTD | G11: UNITÁRIO (SEM BDI) | J11: TOTAL (Valores sem BDI) | M11: VALOR TOTAL C/ BDI
G12: MATERIAL + EQ | H12: MÃO DE OBRA | I12: TOTAL | J12: MATERIAL | K12: MÃO DE OBRA | L12: TOTAL
A14: 1 | B14: ACOMPANHAMENTO TÉCNICO | J14: =SUM(J15) -> 184.5 | K14: =SUM(K15) -> 11580.3 | L14: =SUM(L15) -> 11764.8 | M14: =SUM(M15) -> 14903.649 | N14: =M14 -> 14903.649
A15: 1.1 | B15: ACOMPANHAMENTO TÉCNICO | C15: 90778 | D15: ENGENHEIRO CIVIL DE OBRA PLENO COM ENCARGOS COMPLEMENTARES | E15: H | F15: 90 | G15: 2.05 | H15: 128.67 | I15: =G15+H15 -> 130.72 | J15: =G15*F15 -> 184.5 | K15: =H15*F15 -> 11580.3 | L15: =J15+K15 -> 11764.8 | M15: =L15*(1+$M$4) -> 14903.649
A17: 2 | B17: POSTE TRANSFORMADOR/ACESSORIOS | J17: =SUM(J18:J77) -> 87829.188 | K17: =SUM(K18:K77) -> 8385.0144 | L17: =SUM(L18:L77) -> 96214.202 | M17: =SUM(M18:M77) -> 117737.97 | N17: =M17 -> 117737.97
A18: 2.1 | B18: ELETRODUTO DE FERRO GALVANIZADO 4" X 6M - MODELO CPFL | C18: 04228/ORSE | D18: ELETRODUTO EM FERRO GALVANIZADO PESADO SEM COSTURA 4" X 3M | E18: UN | F18: 8 | G18: 509.73 | H18: 26.23 | I18: =G18+H18 -> 535.96 | J18: =G18*F18 -> 4077.84 | K18: =H18*F18 -> 209.84 | L18: =J18+K18 -> 4287.68 | M18: =L18*(1+$M$4) -> 5431.633
A19: 2.2 | B19: ARAME GALVANIZADO 14 | C19: 000344-I ADAPT | D19: ARAME GALVANIZADO 16 BWG, D = 1,65MM (0,0166 KG/M) | E19: KG | F19: 3 | G19: 34.77 | H19: 0 | I19: =G19+H19 -> 34.77 | J19: =G19*F19 -> 104.31 | K19: =H19*F19 -> 0 | L19: =J19+K19 -> 104.31 | M19: =L19*(1+$M$4) -> 132.13991
A20: 2.3 | B20: CABO 16 MM² 15KV - MODELO CPFL | C20: 09508/ORSE ADAPT | D20: CABO DE COBRE ISOLADO EPR, FLEXIVEL, 35MM², 8,7/15KV / 90º C (EPROTENAX OU SIMILAR) | E20: M | F20: 18 | G20: 74.54 | H20: 7.33 | I20: =G20+H20 -> 81.87 | J20: =G20*F20 -> 1341.72 | K20: =H20*F20 -> 131.94 | L20: =J20+K20 -> 1473.66 | M20: =L20*(1+$M$4) -> 1866.8325
A21: 2.4 | B21: CABO COBRE 185 MM² EPR 90° 0,6/1KV - AZUL - PADRÃO CPFL | C21: 92998 | D21: CABO DE COBRE FLEXÍVEL ISOLADO, 185 MM², ANTI-CHAMA 0,6/1,0 KV, PARA REDE ENTERRADA DE DISTRIBUIÇÃO DE ENERGIA ELÉTRICA - FORNECIMENTO E INSTALAÇÃO. AF_12/2021 | E21: M | F21: 15 | G21: 182.21 | H21: 9.97 | I21: =G21+H21 -> 192.18 | J21: =G21*F21 -> 2733.15 | K21: =H21*F21 -> 149.55 | L21: =J21+K21 -> 2882.7 | M21: =L21*(1+$M$4) -> 3651.8044
A22: 2.5 | B22: CABO COBRE 185 MM² EPR 90° 0,6/1KV - PRETO- PADRÃO CPFL | C22: 92998 | D22: CABO DE COBRE FLEXÍVEL ISOLADO, 185 MM², ANTI-CHAMA 0,6/1,0 KV, PARA REDE ENTERRADA DE DISTRIBUIÇÃO DE ENERGIA ELÉTRICA - FORNECIMENTO E INSTALAÇÃO. AF_12/2021 | E22: M | F22: 40 | G22: 182.21 | H22: 9.97 | I22: =G22+H22 -> 192.18 | J22: =G22*F22 -> 7288.4 | K22: =H22*F22 -> 398.8 | L22: =J22+K22 -> 7687.2 | M22: =L22*(1+$M$4) -> 9738.145
A23: 2.6 | B23: CABO COBRE FLEXÍVEL #25 MM - VERDE - PADRÃO CPFL | C23: 101889 | D23: CABO DE COBRE ISOLADO, 25 MM², ANTI-CHAMA 0,6/1 KV, INSTALADO EM ELETROCALHA OU PERFILADO - FORNECIMENTO E INSTALAÇÃO. AF_10/2020 | E23: M | F23: 15 | G23: 24.77 | H23: 0.58 | I23: =G23+H23 -> 25.35 | J23: =G23*F23 -> 371.55 | K23: =H23*F23 -> 8.7 | L23: =J23+K23 -> 380.25 | M23: =L23*(1+$M$4) -> 481.7007
A24: 2.7 | B24: CABO COBRE NÚ #50MM - PADRÃO CPFL | C24: 96974 | D24: CORDOALHA DE COBRE NU 50 MM², NÃO ENTERRADA, COM ISOLADOR - FORNECIMENTO E INSTALAÇÃO. AF_08/2023 | E24: M | F24: 160 | G24: 71.86 | H24: 23.28 | I24: =G24+H24 -> 95.14 | J24: =G24*F24 -> 11497.6 | K24: =H24*F24 -> 3724.8 | L24: =J24+K24 -> 15222.4 | M24: =L24*(1+$M$4) -> 19283.736
A25: 2.8 | B25: CABO DE COBRE #1,5MM² - PADRÃO CPFL | C25: 91925 | D25: CABO DE COBRE FLEXÍVEL ISOLADO, 1,5 MM², ANTI-CHAMA 0,6/1,0 KV, PARA CIRCUITOS TERMINAIS - FORNECIMENTO E INSTALAÇÃO. AF_03/2023 | E25: M | F25: 100 | G25: 2.74 | H25: 1.1 | I25: =G25+H25 -> 3.84 | J25: =G25*F25 -> 274 | K25: =H25*F25 -> 110 | L25: =J25+K25 -> 384 | M25: =L25*(1+$M$4) -> 486.4512
A26: 2.9 | B26: CABO DE COBRE #2,5MM² - PADRÃO CPFL | C26: 91927 | D26: CABO DE COBRE FLEXÍVEL ISOLADO, 2,5 MM², ANTI-CHAMA 0,6/1,0 KV, PARA CIRCUITOS TERMINAIS - FORNECIMENTO E INSTALAÇÃO. AF_03/2023 | E26: M | F26: 100 | G26: 3.75 | H26: 1.39 | I26: =G26+H26 -> 5.14 | J26: =G26*F26 -> 375 | K26: =H26*F26 -> 139 | L26: =J26+K26 -> 514 | M26: =L26*(1+$M$4) -> 651.1352
A27: 2.10 | B27: CABO COBRE FLEXÍVEL #25 MM - PADRÃO CPFL | C27: 101889 | D27: CABO DE COBRE ISOLADO, 25 MM², ANTI-CHAMA 0,6/1 KV, INSTALADO EM ELETROCALHA OU PERFILADO - FORNECIMENTO E INSTALAÇÃO. AF_10/2020 | E27: M | F27: 15 | G27: 2.74 | H27: 1.1 | I27: =G27+H27 -> 3.84 | J27: =G27*F27 -> 41.1 | K27: =H27*F27 -> 16.5 | L27: =J27+K27 -> 57.6 | M27: =L27*(1+$M$4) -> 72.96768
A28: 2.11 | B28: ELETRODUTO CORRUGADO 1" | C28: 91860 - adapt | D28: ELETRODUTO FLEXÍVEL CORRUGADO, PEAD, DN 40MM (1"), PARA CIRCUITOS TERMINAIS, INSTALADO EM PAREDE - FORNECIMENTO E INSTALAÇÃO. AF_03/2023 | E28: M | F28: 50 | G28: 7.95 | H28: 7.78 | I28: =G28+H28 -> 15.73 | J28: =G28*F28 -> 397.5 | K28: =H28*F28 -> 389 | L28: =J28+K28 -> 786.5 | M28: =L28*(1+$M$4) -> 996.3382
A29: 2.12 | B29: FIO PARALELO 2X1,5M | C29: 00417/ORSE | D29: FIO FLEXÍVEL 2 X 1,5MM2 (PARALELO OU TORCIDO) | E29: M | F29: 100 | G29: 4.32 | H29: 4.19 | I29: =G29+H29 -> 8.51 | J29: =G29*F29 -> 432 | K29: =H29*F29 -> 419 | L29: =J29+K29 -> 851 | M29: =L29*(1+$M$4) -> 1078.0468
... A35: 2.19 | B35: CABEÇOTE 4" - PADRÃO CPFL | C35: 03998/ORSE | D35: CABEÇOTE DE ALUMÍNIO DE 4" - FORNECIMENTO | E35: UN | F35: 1 | G35: 39.72 | H35: 5.33 | I35: =G35+H35 -> 45.05 | J35: =G35*F35 -> 39.72 | K35: =H35*F35 -> 5.33 | L35: =J35+K35 -> 45.05 | M35: =L35*(1+$M$4) -> 57.06934
A36: 2.20 | B36: CAIXA DE MEDIÇÃO E PROTEÇÃO CPFL - 1800X1600X400MM | C36: REF. 01 | D36: CAIXA DE MEDIÇÃO INDIRETA EM ALUMÍNIO - FORNECIMENTO | E36: UN | F36: 1 | G36: =COMPOSIÇÕES!J14 -> 2692.3638 | H36: =COMPOSIÇÕES!K14 -> 67.512656 | I36: =G36+H36 -> 2759.8765 | J36: =G36*F36 -> 2692.3638 | K36: =H36*F36 -> 67.512656 | L36: =J36+K36 -> 2759.8765 | M36: =L36*(1+$M$4) -> 3496.2116
A37: 2.21 | B37: CHAVE FUSÍVEL 15KV - PADRÃO CPFL | C37: REF. 02 | D37: FORNECIMENTO DE CHAVE FUSÍVEL 15KV - 100A, RUPTURA ASSIM. 10 KA | E37: UN | F37: 1 | G37: =COMPOSIÇÕES!J19 -> 408.62 | H37: =COMPOSIÇÕES!K19 -> 44.32 | I37: =G37+H37 -> 452.94 | J37: =G37*F37 -> 408.62 | K37: =H37*F37 -> 44.32 | L37: =J37+K37 -> 452.94 | M37: =L37*(1+$M$4) -> 573.78439
A38: 2.22 | B38: CINTA P/ POSTE CIRCULAR TIPO B, AÇO CARBONO GALVANIZADO A FOGO | C38: 000420-I | D38: CINTA CIRCULAR EM ACO GALVANIZADO DE 150 MM DE DIAMETRO PARA FIXACAO DE CAIXA MEDICAO, INCLUI PARAFUSOS E PORCAS | E38: UN | F38: 5 | G38: 24.54 | H38: 0 | I38: =G38+H38 -> 24.54 | J38: =G38*F38 -> 122.7 | K38: =H38*F38 -> 0 | L38: =J38+K38 -> 122.7 | M38: =L38*(1+$M$4) -> 155.43636
A39: 2.23 | B39: CONDULETE 1" | C39: 95780 | D39: CONDULETE DE ALUMÍNIO, TIPO B, PARA ELETRODUTO DE AÇO GALVANIZADO DN 25 MM (1''), APARENTE - FORNECIMENTO E INSTALAÇÃO. AF_10/2022 | E39: UN | F39: 8 | G39: 23.81 | H39: 12.17 | I39: =G39+H39 -> 35.98 | J39: =G39*F39 -> 190.48 | K39: =H39*F39 -> 97.36 | L39: =J39+K39 -> 287.84 | M39: =L39*(1+$M$4) -> 364.63571
A40: 2.24 | B40: CONECTOR CN-12 | C40: 04152/ORSE | D40: CONECTOR CUNHA 4 X 4/0 AWG CAA, FORNECIMENTO | E40: UN | F40: 6 | G40: 37.52 | H40: 0 | I40: =G40+H40 -> 37.52 | J40: =G40*F40 -> 225.12 | K40: =H40*F40 -> 0 | L40: =J40+K40 -> 225.12 | M40: =L40*(1+$M$4) -> 285.18202
A41: 2.25 | B41: CONECTOR DERIVAÇÃO PARALELO ESTANHADO C/ 1 PARAFUSO - PADRÃO CPFL | C41: 104751 | D41: CONECTOR GRAMPO PARALELO METÁLICO, PARA SPDA, PARA CABOS DE 6 A 50 MM2 - FORNECIMENTO E INSTALAÇÃO. AF_08/2023 | E41: UN | F41: 35 | G41: 13.58 | H41: 8.84 | I41: =G41+H41 -> 22.42 | J41: =G41*F41 -> 475.3 | K41: =H41*F41 -> 309.4 | L41: =J41+K41 -> 784.7 | M41: =L41*(1+$M$4) -> 994.05796
A42: 2.26 | B42: CONECTOR DERIVAÇÃO TIPO ESTRIBO A COMPRESSÃO DE ALUMÍNIO - PADRÃO CPFL | C42: 04138/ORSE | D42: CONECTOR ESTRIBO PRESSÃO PARA CABO AL 4 CAA, FORNECIMENTO | E42: UN | F42: 15 | G42: 18.47 | H42: 0 | I42: =G42+H42 -> 18.47 | J42: =G42*F42 -> 277.05 | K42: =H42*F42 -> 0 | L42: =J42+K42 -> 277.05 | M42: =L42*(1+$M$4) -> 350.96694
A43: 2.27 | B43: CONECTOR UNIDUT 1" | C43: 11969/ORSE | D43: LUVA SEM ROSCA UNIDUT Ø=1 " C- PB | E43: UN | F43: 16 | G43: 5.79 | H43: 1.75 | I43: =G43+H43 -> 7.54 | J43: =G43*F43 -> 92.64 | K43: =H43*F43 -> 28 | L43: =J43+K43 -> 120.64 | M43: =L43*(1+$M$4) -> 152.82675
A44: 2.28 | B44: CONJUTO 2X4 1T | C44: 007528-I | D44: TOMADA 2P+T 10A, 250V, CONJUNTO MONTADO PARA EMBUTIR 4" X 2" (PLACA + SUPORTE + MODULO) | E44: UN | F44: 4 | G44: 10.18 | H44: 0 | I44: =G44+H44 -> 10.18 | J44: =G44*F44 -> 40.72 | K44: =H44*F44 -> 0 | L44: =J44+K44 -> 40.72 | M44: =L44*(1+$M$4) -> 51.584096
A45: 2.29 | B45: CRUZETA POLIMÉRICA - PADRÃO CPFL | C45: 04141/ORSE | D45: CRUZETA DE CONCRETO TIPO T 2400 MM 400 KGF, FORNECIMENTO | E45: UN | F45: 2 | G45: 286 | H45: 0 | I45: =G45+H45 -> 286 | J45: =G45*F45 -> 572 | K45: =H45*F45 -> 0 | L45: =J45+K45 -> 572 | M45: =L45*(1+$M$4) -> 724.6096
A46: 2.30 | B46: CURVA PVC 180° 1.1/4" - PADRÃO CPFL | C46: 91922 | D46: CURVA 180 GRAUS PARA ELETRODUTO, PVC, ROSCÁVEL, DN 40 MM (1 1/4"), PARA CIRCUITOS TERMINAIS, INSTALADA EM PAREDE - FORNECIMENTO E INSTALAÇÃO. AF_03/2023 | E46: UN | F46: 1 | G46: 17.03 | H46: 17.12 | I46: =G46+H46 -> 34.15 | J46: =G46*F46 -> 17.03 | K46: =H46*F46 -> 17.12 | L46: =J46+K46 -> 34.15 | M46: =L46*(1+$M$4) -> 43.26122
A47: 2.31 | B47: CURVA 90° AÇO ZINCADO A QUENTE - 4" - PADRÃO CPFL | C47: 97453 - adaptado | D47: CURVA 90 GRAUS, EM AÇO, CONEXÃO SOLDADA, DN 50 (2"), INSTALADO EM PRUMADAS - FORNECIMENTO E INSTALAÇÃO. AF_10/2020 | E47: UN | F47: 4 | G47: 149.27 | H47: 56.79 | I47: =G47+H47 -> 206.06 | J47: =G47*F47 -> 597.08 | K47: =H47*F47 -> 227.16 | L47: =J47+K47 -> 824.24 | M47: =L47*(1+$M$4) -> 1044.1472
A48: 2.32 | B48: DISJUNTOR CAIXA MOLDADA 800A - PADRÃO CPFL | C48: 101900 | D48: DISJUNTOR BAIXA TENSÃO TRIPOLAR A SECO 800A/600V - FORNECIMENTO E INSTALAÇÃO. AF_10/2020 | E48: UN | F48: 1 | G48: 4801.8 | H48: 65.22 | I48: =G48+H48 -> 4867.02 | J48: =G48*F48 -> 4801.8 | K48: =H48*F48 -> 65.22 | L48: =J48+K48 -> 4867.02 | M48: =L48*(1+$M$4) -> 6165.5409
A49: 2.33 | B49: DISJUNTOR TIPO MINI BIPOLAR CURVA C - 2A | C49: 93674 | D49: DISJUNTOR BIPOLAR TIPO NEMA, CORRENTE NOMINAL DE 10 ATÉ 50A - FORNECIMENTO E INSTALAÇÃO. AF_10/2020 | E49: UN | F49: 1 | G49: 71.69 | H49: 6.49 | I49: =G49+H49 -> 78.18 | J49: =G49*F49 -> 71.69 | K49: =H49*F49 -> 6.49 | L49: =J49+K49 -> 78.18 | M49: =L49*(1+$M$4) -> 99.038424
... A59: 2.43 | B59: GRAMPO DE LINHA VIVA - GED 941 - PADRÃO CPFL | C59: 02885/ORSE | D59: FORNECIMENTO DE GRAMPO DE LINHA VIVA 6 A 250 MCM, RAMAL 8 A 2/0 AWG | E59: UN | F59: 3 | G59: 50 | H59: 0 | I59: =G59+H59 -> 50 | J59: =G59*F59 -> 150 | K59: =H59*F59 -> 0 | L59: =J59+K59 -> 150 | M59: =L59*(1+$M$4) -> 190.02
A60: 2.44 | B60: HASTE TERRA 3/16" X 2,40M C/ CONCETOR - PADRÃO CPFL | C60: REF. 03 | D60: HASTE DE ATERRAMENTO EM ACO GALVANIZADO TIPO CANTONEIRA COM 2,00 M DE COMPRIMENTO, 25 X 25 MM E CHAPA DE 3/16 | E60: UN | F60: 20 | G60: =COMPOSIÇÕES!J24 -> 68.455208 | H60: =COMPOSIÇÕES!K24 -> 11.009088 | I60: =G60+H60 -> 79.464296 | J60: =G60*F60 -> 1369.1042 | K60: =H60*F60 -> 220.18176 | L60: =J60+K60 -> 1589.2859 | M60: =L60*(1+$M$4) -> 2013.3074
...

Sheet COMPOSIÇÕES
D3: UNIVERSIDADE ESTADUAL DO NORTE DO PARANÁ
D4: CNPJ: 08.885.100/0001-54
D5: SERVIÇO: ADEQUAÇÕES DA REDE ELÉTRICAS DO CJ - MEDIA TENSÃO
D6: Local: Campus Jacarezinho - Centro de Ciências da Saúde
A11: ITEM | B11: RESUMO | C11: CÓDIGO | D11: DESCRIÇÃO DOS SERVIÇOS | E11: UN | F11: QTD | G11: UNITÁRIO (SEM BDI) | J11: TOTAL (Valores sem BDI)
G12: MATERIAL + EQ | H12: MÃO DE OBRA | I12: TOTAL | J12: MATERIAL | K12: MÃO DE OBRA | L12: TOTAL
A14: REF.1 | B14: CAIXA DE MEDIÇÃO E PROTEÇÃO CPFL - 1800X1600X400MM | E14: UN | J14: =SUM(J15:J17) -> 2692.3638 | K14: =SUM(K15:K17) -> 67.512656 | L14: =SUM(L15:L17) -> 2759.8765
A15: 1.1 | B15: CAIXA DE MEDIÇÃO INDIRETA EM ALUMÍNIO - FORNECIMENTO | C15: 03981/ORSE | D15: CAIXA DE MEDIÇÃO INDIRETA EM ALUMÍNIO - FORNECIMENTO | E15: UN | F15: 1 | G15: 2664 | H15: 0 | I15: =G15+H15 -> 2664 | J15: =F15*G15 -> 2664 | K15: =F15*H15 -> 0 | L15: =F15*I15 -> 2664
A16: 1.2 | B16: ELETRICISTA | C16: 88264 | D16: ELETRICISTA COM ENCARGOS COMPLEMENTARES | E16: H | F16: 1.5233 | G16: 9.31 | H16: 25.1 | I16: =G16+H16 -> 34.41 | J16: =F16*G16 -> 14.181923 | K16: =F16*H16 -> 38.23483 | L16: =F16*I16 -> 52.416753
A17: 1.3 | B17: AUXILIAR DE ELETRICISTA | C17: 88247 | D17: AUXILIAR DE ELETRICISTA COM ENCARGOS COMPLEMENTARES | E17: H | F17: 1.5233 | G17: 9.31 | H17: 19.22 | I17: =G17+H17 -> 28.53 | J17: =F17*G17 -> 14.181923 | K17: =F17*H17 -> 29.277826 | L17: =F17*I17 -> 43.459749
A19: REF.2 | B19: CHAVE FUSÍVEL 15KV - PADRÃO CPFL | E19: UN | J19: =SUM(J20:J22) -> 408.62 | K19: =SUM(K20:K22) -> 44.32 | L19: =SUM(L20:L22) -> 452.94
A20: 1.1 | B20: CHAVE FUSÍVEL 15KV - PADRÃO CPFL | C20: 02858/ORSE | D20: FORNECIMENTO DE CHAVE FUSÍVEL 15KV - 100A, RUPTURA ASSIM. 10 KA | E20: UN | F20: 1 | G20: 390 | H20: 0 | I20: =G20+H20 -> 390 | J20: =F20*G20 -> 390 | K20: =F20*H20 -> 0 | L20: =F20*I20 -> 390
A21: 1.2 | B21: ELETRICISTA | C21: 88264 | D21: ELETRICISTA COM ENCARGOS COMPLEMENTARES | E21: H | F21: 1 | G21: 9.31 | H21: 25.1 | I21: =G21+H21 -> 34.41 | J21: =F21*G21 -> 9.31 | K21: =F21*H21 -> 25.1 | L21: =F21*I21 -> 34.41
A22: 1.3 | B22: AUXILIAR DE ELETRICISTA | C22: 88247 | D22: AUXILIAR DE ELETRICISTA COM ENCARGOS COMPLEMENTARES | E22: H | F22: 1 | G22: 9.31 | H22: 19.22 | I22: =G22+H22 -> 28.53 | J22: =F22*G22 -> 9.31 | K22: =F22*H22 -> 19.22 | L22: =F22*I22 -> 28.53
A24: REF.3 | B24: HASTE TERRA 3/16" X 2,40M C/ CONCETOR - PADRÃO CPFL | E24: UN | J24: =SUM(J25:J27) -> 68.455208 | K24: =SUM(K25:K27) -> 11.009088 | L24: =SUM(L25:L27) -> 79.464296
A25: 1.1 | B25: HASTE TERRA 3/16" X 2,40M C/ CONCETOR - PADRÃO CPFL | C25: 011991-i | D25: HASTE DE ATERRAMENTO EM ACO GALVANIZADO TIPO CANTONEIRA COM 2,00 M DE COMPRIMENTO, 25 X 25 MM E CHAPA DE 3/16 | E25: UN | F25: 1 | G25: 63.83 | H25: 0 | I25: =G25+H25 -> 63.83 | J25: =F25*G25 -> 63.83 | K25: =F25*H25 -> 0 | L25: =F25*I25 -> 63.83
A26: 1.2 | B26: ELETRICISTA | C26: 88264 | D26: ELETRICISTA COM ENCARGOS COMPLEMENTARES | E26: H | F26: 0.2484 | G26: 9.31 | H26: 25.1 | I26: =G26+H26 -> 34.41 | J26: =F26*G26 -> 2.312604 | K26: =F26*H26 -> 6.23484 | L26: =F26*I26 -> 8.547444
A27: 1.3 | B27: AUXILIAR DE ELETRICISTA | C27: 88247 | D27: AUXILIAR DE ELETRICISTA COM ENCARGOS COMPLEMENTARES | E27: H | F27: 0.2484 | G27: 9.31 | H27: 19.22 | I27: =G27+H27 -> 28.53 | J27: =F27*G27 -> 2.312604 | K27: =F27*H27 -> 4.774248 | L27: =F27*I27 -> 7.086852
A29: REF.4 | B29: PARA-RAIO, INVÓLUCRO POLIMÉRICO, A ÓXIDOS METÁLICOS, SE CENTELHAR, DESLIGADOR AUTOMÁTICO, TENSÃO NOM. DE 12KV CORRENTE DE DESCARGA NOM. 10KA. | E29: UN | J29: =SUM(J30:J32) -> 286.62 | K29: =SUM(K30:K32) -> 44.32 | L29: =SUM(L30:L32) -> 330.94
A30: 1.1 | B30: PARA-RAIO, INVÓLUCRO POLIMÉRICO, A ÓXIDOS METÁLICOS, SE CENTELHAR, DESLIGADOR AUTOMÁTICO, TENSÃO NOM. DE 12KV CORRENTE DE DESCARGA NOM. 10KA. | C30: 02930/ORSE | D30: FORNECIMENTO DE PÁRA-RAIO DE DISTRIBUIÇÃO POLIMÉRICO 12KV, C/ DESLIGAMENTO AUTOMÁTICO, RESIST. NÃO LINEAR | E30: UN | F30: 1 | G30: 268 | H30: 0 | I30: =G30+H30 -> 268 | J30: =F30*G30 -> 268 | K30: =F30*H30 -> 0 | L30: =F30*I30 -> 268
A31: 1.2 | B31: ELETRICISTA | C31: 88264 | D31: ELETRICISTA COM ENCARGOS COMPLEMENTARES | E31: H | F31: 1 | G31: 9.31 | H31: 25.1 | I31: =G31+H31 -> 34.41 | J31: =F31*G31 -> 9.31 | K31: =F31*H31 -> 25.1 | L31: =F31*I31 -> 34.41
A32: 1.3 | B32: AUXILIAR DE ELETRICISTA | C32: 88247 | D32: AUXILIAR DE ELETRICISTA COM ENCARGOS COMPLEMENTARES | E32: H | F32: 1 | G32: 9.31 | H32: 19.22 | I32: =G32+H32 -> 28.53 | J32: =F32*G32 -> 9.31 | K32: =F32*H32 -> 19.22 | L32: =F32*I32 -> 28.53
A34: REF.5 | B34: POSTE CIRCULAR 12X1000 CONCRETO - PADRÃO CPFL | E34: UN | J34: =SUM(J35:J36) -> 3339.27 | K34: =SUM(K35:K36) -> 163.95 | L34: =SUM(L35:L36) -> 3503.22
A35: 1.1 | B35: POSTE CIRCULAR 12X1000 CONCRETO - PADRÃO CPFL | C35: 04122/ORSE | D35: POSTE CIRCULAR DE CONCRETO 11/1000 - FORNECIMENTO | E35: UN | F35: 1 | G35: 2781.27 | H35: 0 | I35: =G35+H35 -> 2781.27 | J35: =F35*G35 -> 2781.27 | K35: =F35*H35 -> 0 | L35: =F35*I35 -> 2781.27
A36: 1.2 | B36: ACESSENTAMENTO POSTE | C36: 100610 | D36: ASSENTAMENTO DE POSTE DE CONCRETO COM COMPRIMENTO NOMINAL DE 11 M, CARGA NOMINAL DE 300 DAN, ENGASTAMENTO BASE CONCRETADA COM 1 M DE CONCRETO E 0,7 M DE SOLO (NÃO INCLUI FORNECIMENTO). AF_11/2019 | E36: UN | F36: 1 | G36: 558 | H36: 163.95 | I36: =G36+H36 -> 721.95 | J36: =F36*G36 -> 558 | K36: =F36*H36 -> 163.95 | L36: =F36*I36 -> 721.95

Sheet CRONOGRAMA
C3: UNIVERSIDADE ESTADUAL DO NORTE DO PARANÁ
C4: CNPJ: 08.885.100/0001-54
C5: SERVIÇO: ADEQUAÇÕES DA REDE ELÉTRICAS DO CJ
C6: Local: Campus Jacarezinho - Centro de Ciências da Saúde
E10: 1 | F10: 30 | G10: 2 | H10: =F10+30 -> 60 | I10: 3 | J10: =H10+30 -> 90
A12: CRONOGRAMA FÍSICO- FINANCEIRO
B13: SERVIÇO/LOCAL | C13: Valores | D13: % | E13: 30 DIAS | G13: 60 DIAS | I13: 90 DIAS
E14: % | F14: R$ | G14: % | H14: R$ | I14: % | J14: R$
A15: 1 | B15: =VLOOKUP(A15,ORÇAMENTO!$A$2:$M$173,2,FALSE()) -> ACOMPANHAMENTO TÉCNICO | C15: =VLOOKUP(A15,ORÇAMENTO!$A$2:$M$173,13,FALSE()) -> 14903.649 | D15: =C15/$C$18 -> 0.097637806 | E15: 0.33 | F15: =IF(E15>0,E15*$C15," ") -> 4918.2041 | G15: 0.33 | H15: =IF(G15>0,G15*$C15," ") -> 4918.2041 | I15: 0.34 | J15: =IF(I15>0,I15*$C15," ") -> 5067.2405 | K15: =I15+G15+E15 -> 1
A16: 2 | B16: =VLOOKUP(A16,ORÇAMENTO!$A$2:$M$173,2,FALSE()) -> POSTE TRANSFORMADOR/ACESSORIOS | C16: =VLOOKUP(A16,ORÇAMENTO!$A$2:$M$173,13,FALSE()) -> 117737.97 | D16: =C16/$C$18 -> 0.77133305 | E16: 0.33 | F16: =IF(E16>0,E16*$C16," ") -> 38853.529 | G16: 0.33 | H16: =IF(G16>0,G16*$C16," ") -> 38853.529 | I16: 0.34 | J16: =IF(I16>0,I16*$C16," ") -> 40030.909 | K16: =I16+G16+E16 -> 1
A17: 3 | B17: =VLOOKUP(A17,ORÇAMENTO!$A$2:$M$173,2,FALSE()) -> ADEQUAÇÃO PADRÃO DE ENTRADA | C17: =VLOOKUP(A17,ORÇAMENTO!$A$2:$M$173,13,FALSE()) -> 20000.576 | D17: =C17/$C$18 -> 0.13102915 | E17: 0.33 | F17: =IF(E17>0,E17*$C17," ") -> 6600.19 | G17: 0.33 | H17: =IF(G17>0,G17*$C17," ") -> 6600.19 | I17: 0.34 | J17: =IF(I17>0,I17*$C17," ") -> 6800.1958 | K17: =I17+G17+E17 -> 1
B18: TOTAL | C18: =SUM(C15:C17) -> 152642.19 | D18: =C18/$C$18 -> 1 | F18: =IF(E18>0,E18*$C18," ") | H18: =IF(G18>0,G18*$C18," ") | J18: =IF(I18>0,I18*$C18," ")
B20: R$ parcial (valor período) | E20: =SUM(F15:F18) -> 50371.923 | G20: =SUM(H15:H18) -> 50371.923 | I20: =SUM(J15:J18) -> 51898.345
B21: %_parcial (período) | E21: =SUM(E20/$C$18) -> 0.33 | G21: =SUM(G20/$C$18) -> 0.33 | I21: =SUM(I20/$C$18) -> 0.34
B22: R$_ acumulado | E22: =E20 -> 50371.923 | G22: =E22+G20 -> 100743.85 | I22: =G22+I20 -> 152642.19
B23: %_acumulado | E23: =E21 -> 0.33 | G23: =E23+G21 -> 0.66 | I23: =G23+I21 -> 1
A25: NOTAS:
A27: A. A ÚLTIMA PARCELA DEVE OBRIGATORIAMENTE SER MAIOR QUE 11%
A28: B. O PRAZO MÁXIMO PARA EXECUÇÃO É DE 90 DIAS

Sheet BDI
E3: UNIVERSIDADE ESTADUAL DO NORTE DO PARANÁ
E4: CNPJ: 08.885.100/0001-54
E5: SERVIÇO: ADEQUAÇÕES DA REDE ELÉTRICAS DO CJ
E6: Local: Campus Jacarezinho - Centro de Ciências da Saúde
A11: COMPOSIÇÃO DO BDI
A12: CUSTO TOTAL DO SERVIÇO (R$)
A13: ITEM | B13: DISCRIMINAÇÃO | E13: VALOR | F13: TAXA (%) | G13: OBSERVAÇÃO | H13: SITUAÇÃO DO INTERVALO ADMISSÍVEL | I13: PARCELAS DO BDI (%)
I14: 1 QUARTIL | J14: MÉDIO | K14: 3 QUARTIL
A15: 1 | B15: AC – ADMINISTRAÇÃO CENTRAL | E15: - | F15: 0.03 | H15: =IF(AND(F15>=I15,F15<=K15),"OK","DIFERE") -> OK | I15: 0.03 | J15: 0.04 | K15: 0.055
A16: 2 | B16: SG – SEGUROS + GARANTIA | E16: - | F16: 0.008 | H16: =IF(AND(F16>=I16,F16<=K16),"OK","DIFERE") -> OK | I16: 0.008 | J16: 0.008 | K16: 0.01
A17: 3 | B17: R – RISCOS | E17: - | F17: 0.0097 | H17: =IF(AND(F17>=I17,F17<=K17),"OK","DIFERE") -> OK | I17: 0.0097 | J17: 0.0127 | K17: 0.0127
A18: 4 | B18: DF – DESPESAS FINANCEIRAS | E18: - | F18: 0.0059 | H18: =IF(AND(F18>=I18,F18<=K18),"OK","DIFERE") -> OK | I18: 0.0059 | J18: 0.0123 | K18: 0.0139
A19: 5 | B19: L – LUCRO BRUTO | E19: - | F19: 0.068 | H19: =IF(AND(F19>=I19,F19<=K19),"OK","DIFERE") -> OK | I19: 0.0616 | J19: 0.074 | K19: 0.0896
A20: 6 | B20: I – IMPOSTOS | E20: - | F20: =SUM(F21:F24) -> 0.1115 | G20: FÓRMULA DO BDI DE ACORDO COM ACÓRDÃO 2.369/2011-TCU- PLENÁRIO
A21: 43836 | B21: PIS | F21: 0.0065
A22: 43867 | B22: COFINS | F22: 0.03
A23: 43896 | B23: ISS (CONFORME LEGISLAÇÃO MUNICIPAL) | F23: 0.03
A24: 43927 | B24: CONTRIB. PREVIDÊNCIA SOBRE RECEITA BRUTA – CPRB | F24: 0.045
A26: TOTAL DO BDI (R$)
A27: PREÇO DE VENDA (R$) | G27: ONDE:
A28: BDI (%) | F28: =ROUND(((((1+(F15+F16+F17))*(1+F18)*(1+F19))/(1-F20))-1),4) -> 0.2668 | G28: AC : TAXA DE ADMINISTRAÇÃO CENTRAL
G29: S: TAXA DE SEGURO
A30: Parâmetros do Acórdão 2.622/2013 - Plenário | G30: G: TAXA DE GARANTIAS
A31: Sem CPRB | B31: 0.2034 | C31: 0.2212 | D31: 0.25 | G31: R: TAXA DE RISCOS
A32: Com CPRB | B32: 0.2601 | C32: 0.2787 | D32: 0.3089 | G32: DF: TAXA DE DESPESAS
G33: L: TAXA DE LUCRO
G34: I: TAXA DE INCIDÊNCIA DE IMPOSTOS (PIS, COFINS, ISS, CPRB)
A37: COMPOSIÇÃO DO BDI DIFERENCIADO
A38: CUSTO TOTAL DO SERVIÇO (R$)
A39: ITEM | B39: DISCRIMINAÇÃO | E39: VALOR | F39: TAXA (%) | G39: OBSERVAÇÃO | H39: SITUAÇÃO DO INTERVALO ADMISSÍVEL | I39: PARCELAS DO BDI (%)
I40: 1 QUARTIL | J40: MÉDIO | K40: 3 QUARTIL
A41: 1 | B41: AC – ADMINISTRAÇÃO CENTRAL | F41: 0.015 | H41: =IF(AND(F41>=I41,F41<=K41),"OK","DIFERE") -> OK | I41: 0.015 | J41: 0.0345 | K41: 0.0449
A42: 2 | B42: SG – SEGUROS + GARANTIA | F42: 0.003 | H42: =IF(AND(F42>=I42,F42<=K42),"OK","DIFERE") -> OK | I42: 0.003 | J42: 0.0048 | K42: 0.0082
A43: 3 | B43: R – RISCOS | F43: 0.0056 | H43: =IF(AND(F43>=I43,F43<=K43),"OK","DIFERE") -> OK | I43: 0.0056 | J43: 0.0085 | K43: 0.0089
A44: 4 | B44: DF – DESPESAS FINANCEIRAS | F44: 0.0085 | H44: =IF(AND(F44>=I44,F44<=K44),"OK","DIFERE") -> OK | I44: 0.0085 | J44: 0.0085 | K44: 0.0111
A45: 5 | B45: L – LUCRO BRUTO | F45: 0.0352 | H45: =IF(AND(F45>=I45,F45<=K45),"OK","DIFERE") -> OK | I45: 0.035 | J45: 0.0511 | K45: 0.0622
A46: 6 | B46: I – IMPOSTOS | F46: =SUM(F47:F50) -> 0.0815 | G46: FÓRMULA DO BDI DE ACORDO COM ACÓRDÃO 2.369/2011-TCU- PLENÁRIO
A47: 43836 | B47: PIS | F47: 0.0065
A48: 43867 | B48: COFINS | F48: 0.03
A49: 43896 | B49: ISS (CONFORME LEGISLAÇÃO MUNICIPAL) | F49: 0
...
